Workbook
Name CelkemDPHVypocet: Stavba!$H$57
Name CenaCelkem: Stavba!$G$29
Name CenaCelkemBezDPH: Stavba!$G$28
Name CenaCelkemVypocet: Stavba!$I$57
Name cisloobjektu: Stavba!$D$3
Name CisloRozpoctu: '[1]Krycí list'!$C$2
Name CisloStavby: Stavba!$D$2
Name cislostavby: '[1]Krycí list'!$A$7
Name CisloStavebnihoRozpoctu: Stavba!$D$4
Name dadresa: Stavba!$D$12:$G$12
Name DIČ: Stavba!$I$12
Name dmisto: Stavba!$E$13:$G$13
Name DPHSni: Stavba!$G$24
Name DPHZakl: Stavba!$G$26
Name dpsc: Stavba!$D$13
Name IČO: Stavba!$I$11
Name Mena: Stavba!$J$29
Name MistoStavby: Stavba!$D$4
Name nazevobjektu: Stavba!$E$3
Name NazevRozpoctu: '[1]Krycí list'!$D$2
Name NazevStavby: Stavba!$E$2
Name nazevstavby: '[1]Krycí list'!$C$7
Name NazevStavebnihoRozpoctu: Stavba!$E$4
Name oadresa: Stavba!$D$6
Name Objednatel: Stavba!$D$5
Name Objekt: Stavba!$B$38
Name odic: Stavba!$I$6
Name oico: Stavba!$I$5
Name omisto: Stavba!$E$7
Name onazev: Stavba!$D$6
Name opsc: Stavba!$D$7
Name padresa: Stavba!$D$9
Name pdic: Stavba!$I$9
Name pico: Stavba!$I$8
Name pmisto: Stavba!$E$10
Name PocetMJ: #REF!
Name PoptavkaID: Stavba!$A$1
Name pPSC: Stavba!$D$10
Name Projektant: Stavba!$D$8
Name SazbaDPH1: Stavba!$E$23
Name SazbaDPH1: '[1]Krycí list'!$C$30
Name SazbaDPH2: Stavba!$E$25
Name SazbaDPH2: '[1]Krycí list'!$C$32
Name SloupecCC: #REF!
Name SloupecCisloPol: #REF!
Name SloupecJC: #REF!
Name SloupecMJ: #REF!
Name SloupecMnozstvi: #REF!
Name SloupecNazPol: #REF!
Name SloupecPC: #REF!
Name Vypracoval: Stavba!$D$14
Name ZakladDPHSni: Stavba!$G$23
Name ZakladDPHSniVypocet: Stavba!$F$57
Name ZakladDPHZakl: Stavba!$G$25
Name ZakladDPHZaklVypocet: Stavba!$G$57
Name ZaObjednatele: Stavba!$G$34
Name Zaokrouhleni: Stavba!$G$27
Name ZaZhotovitele: Stavba!$D$34
Name Zhotovitel: Stavba!$D$11:$G$11

Sheet Stavba
A1: #RTSROZP# | B1: Soupis stavebních prací, dodávek a služeb
B2: Stavba: | D2: 87277 - 23 | E2: Novostavba chodníku a stav. úpravy části stáv. chodníku s příslušenstvím v obci Údrnice
B5: Zadavatel | D5: Obec Údrnice | H5: IČO: | I5: 00170551
D6: Údrnice 79 | H6: DIČ:
D7: 50723 | E7: Libáň
B8: Projektant: | D8: Janča Tomáš ing. | H8: IČO: | I8: 43518397
D9: Foersterova 641 | H9: DIČ: | I9: CZ6412040734
D10: 50601 | E10: Jičín
B11: Zhotovitel: | H11: IČO:
H12: DIČ:
B14: Vypracoval:
B15: Rozpis ceny | I15: Celkem
A16: HSV | B16: HSV | I16: =SUMIF(F81:F102,A16,I81:I102)+SUMIF(F81:F102,"PSU",I81:I102) -> 0
A17: PSV | B17: PSV | I17: =SUMIF(F81:F102,A17,I81:I102) -> 0
A18: MON | B18: MON | I18: =SUMIF(F81:F102,A18,I81:I102) -> 0
A19: VN | B19: Vedlejší náklady | I19: =SUMIF(F81:F102,A19,I81:I102) -> 0
A20: ON | B20: Ostatní náklady | I20: =SUMIF(F81:F102,A20,I81:I102) -> 0
B21: Celkem | I21: =SUM(I16:J20) -> 0
B22: Rekapitulace daní
A23: =ZakladDPHSni*SazbaDPH1/100 -> 0 | B23: Základ pro sníženou DPH | E23: 15 | F23: % | G23: =ZakladDPHSniVypocet -> 0 | J23: =Mena -> CZK
A24: =(A23-INT(A23))*100 -> 0 | B24: Snížená DPH | E24: =SazbaDPH1 -> 15 | F24: % | G24: =A23 -> 0 | J24: =Mena -> CZK
A25: =ZakladDPHZakl*SazbaDPH2/100 -> 0 | B25: Základ pro základní DPH | E25: 21 | F25: % | G25: =ZakladDPHZaklVypocet -> 0 | J25: =Mena -> CZK
A26: =(A25-INT(A25))*100 -> 0 | B26: Základní DPH | E26: =SazbaDPH2 -> 21 | F26: % | G26: =A25 -> 0 | J26: =Mena -> CZK
A27: =ZakladDPHSni+DPHSni+ZakladDPHZakl+DPHZakl -> 0 | B27: Zaokrouhlení | G27: =CenaCelkem-(ZakladDPHSni+DPHSni+ZakladDPHZakl+DPHZakl) -> 0 | J27: =Mena -> CZK
B28: Cena celkem bez DPH | G28: =ZakladDPHSniVypocet+ZakladDPHZaklVypocet -> 0 | J28: =Mena -> CZK
A29: =(A27-INT(A27))*100 -> 0 | B29: Cena celkem s DPH | G29: =A27 -> 0 | J29: CZK
C32: v | F32: dne
D35: Za zhotovitele | H35: Za objednatele
B37: Rekapitulace dílčích částí
A38: #CASTI>> | B38: Číslo | C38: Název | F38: =B23 -> Základ pro sníženou DPH | G38: =B25 -> Základ pro základní DPH | H38: DPH celkem | I38: Cena celkem | J38: %
A39: 1 | B39: Stavba | F39: ='01 01 Úpravy stáv. chodníku'!AE151+'02 01 Novostavba chodníku'!AE137+'03 01 Vjezd k bytovce'!AE63+'04 01 Vjezd přes potok'!AE46+'05 01 Lávka'!AE73+'06 01 Most'!AE66+'07 01 Úprava koryta potoka'!AE48+'401 01 VO - II.část'!AE72 -> 0 | G39: ='01 01 Úpravy stáv. chodníku'!AF151+'02 01 Novostavba chodníku'!AF137+'03 01 Vjezd k bytovce'!AF63+'04 01 Vjezd přes potok'!AF46+'05 01 Lávka'!AF73+'06 01 Most'!AF66+'07 01 Úprava koryta potoka'!AF48+'401 01 VO - II.část'!AF72 -> 0 | H39: =(F39*SazbaDPH1/100)+(G39*SazbaDPH2/100) -> 0 | I39: =F39+G39+H39 -> 0 | J39: =IF(CenaCelkemVypocet=0,"",I39/CenaCelkemVypocet*100)
A40: 2 | C40: Stavební objekt | H40: =(F40*SazbaDPH1/100)+(G40*SazbaDPH2/100) -> 0
A41: 2 | B41: 01 | C41: Stavební úpravy části stávajícího chodníku | F41: ='01 01 Úpravy stáv. chodníku'!AE151 -> 0 | G41: ='01 01 Úpravy stáv. chodníku'!AF151 -> 0 | H41: =(F41*SazbaDPH1/100)+(G41*SazbaDPH2/100) -> 0 | I41: =F41+G41+H41 -> 0 | J41: =IF(CenaCelkemVypocet=0,"",I41/CenaCelkemVypocet*100)
A42: 3 | B42: 01 | C42: Stavební úpravy části stávajícího chodníku | F42: ='01 01 Úpravy stáv. chodníku'!AE151 -> 0 | G42: ='01 01 Úpravy stáv. chodníku'!AF151 -> 0 | H42: =(F42*SazbaDPH1/100)+(G42*SazbaDPH2/100) -> 0 | I42: =F42+G42+H42 -> 0 | J42: =IF(CenaCelkemVypocet=0,"",I42/CenaCelkemVypocet*100)
A43: 2 | B43: 02 | C43: Novostavba chodníku | F43: ='02 01 Novostavba chodníku'!AE137 -> 0 | G43: ='02 01 Novostavba chodníku'!AF137 -> 0 | H43: =(F43*SazbaDPH1/100)+(G43*SazbaDPH2/100) -> 0 | I43: =F43+G43+H43 -> 0 | J43: =IF(CenaCelkemVypocet=0,"",I43/CenaCelkemVypocet*100)
A44: 3 | B44: 01 | C44: Novostavba chodníku | F44: ='02 01 Novostavba chodníku'!AE137 -> 0 | G44: ='02 01 Novostavba chodníku'!AF137 -> 0 | H44: =(F44*SazbaDPH1/100)+(G44*SazbaDPH2/100) -> 0 | I44: =F44+G44+H44 -> 0 | J44: =IF(CenaCelkemVypocet=0,"",I44/CenaCelkemVypocet*100)
A45: 2 | B45: 03 | C45: Vjezd k bytovce | F45: ='03 01 Vjezd k bytovce'!AE63 -> 0 | G45: ='03 01 Vjezd k bytovce'!AF63 -> 0 | H45: =(F45*SazbaDPH1/100)+(G45*SazbaDPH2/100) -> 0 | I45: =F45+G45+H45 -> 0 | J45: =IF(CenaCelkemVypocet=0,"",I45/CenaCelkemVypocet*100)
A46: 3 | B46: 01 | C46: Vjezd k bytovce | F46: ='03 01 Vjezd k bytovce'!AE63 -> 0 | G46: ='03 01 Vjezd k bytovce'!AF63 -> 0 | H46: =(F46*SazbaDPH1/100)+(G46*SazbaDPH2/100) -> 0 | I46: =F46+G46+H46 -> 0 | J46: =IF(CenaCelkemVypocet=0,"",I46/CenaCelkemVypocet*100)
A47: 2 | B47: 04 | C47: Vjezd přes potok | F47: ='04 01 Vjezd přes potok'!AE46 -> 0 | G47: ='04 01 Vjezd přes potok'!AF46 -> 0 | H47: =(F47*SazbaDPH1/100)+(G47*SazbaDPH2/100) -> 0 | I47: =F47+G47+H47 -> 0 | J47: =IF(CenaCelkemVypocet=0,"",I47/CenaCelkemVypocet*100)
A48: 3 | B48: 01 | C48: Vjezd přes potok | F48: ='04 01 Vjezd přes potok'!AE46 -> 0 | G48: ='04 01 Vjezd přes potok'!AF46 -> 0 | H48: =(F48*SazbaDPH1/100)+(G48*SazbaDPH2/100) -> 0 | I48: =F48+G48+H48 -> 0 | J48: =IF(CenaCelkemVypocet=0,"",I48/CenaCelkemVypocet*100)
...

Sheet VzorPolozky
A1: Položkový rozpočet
A2: S:
A3: O:
A4: R:

Sheet 01 01 Úpravy stáv. chodníku
A1: Položkový soupis prací a dodávek | AG1: #TypZaznamu#
A2: S: | B2: 87277 - 23 | C2: Novostavba chodníku a stav. úpravy části stáv. chodníku s příslušenstvím v obci Údrnice | AG2: STA
A3: O: | B3: 01 | C3: Stavební úpravy části stávajícího chodníku | AC3: STA | AG3: OBJ
A4: R: | B4: 01 | C4: Stavební úpravy části stávajícího chodníku | AG4: ROZ
A6: P.č. | B6: Číslo položky | C6: Název položky | D6: MJ | E6: Množství | F6: Cena / MJ | G6: Celkem | H6: Dodávka | I6: Dodávka celk. | J6: Montáž | K6: Montáž celk. | L6: DPH | M6: Cena s DPH | N6: Hmotnost / MJ | O6: Hmotnost celk.(t) | P6: Dem. hmotnost / MJ | Q6: Dem. hmotnost celk.(t) | R6: Ceník | S6: Cen. soustava / platnost | T6: Cenová úroveň | U6: Nhod / MJ | V6: Nhod celk. | W6: Dodavatel | X6: Typ položky | Y6: Stav položky
A8: Díl: | B8: 1 | C8: Zemní práce | G8: =SUMIF(AG9:AG50,"<>NOR",G9:G50) -> 0 | I8: =SUM(I9:I50) -> 0 | K8: =SUM(K9:K50) -> 0 | M8: =SUM(M9:M50) -> 0 | O8: =SUM(O9:O50) -> 0 | Q8: =SUM(Q9:Q50) -> 149.07 | V8: =SUM(V9:V50) -> 241.84 | AG8: DIL
A9: 1 | B9: 919735112R00 | C9: Řezání stávajících krytů nebo podkladů živičných, hloubky přes 50 do 100 mm | D9: m | E9: 183 | G9: =ROUND(E9*F9,2) -> 0 | I9: =ROUND(E9*H9,2) -> 0 | K9: =ROUND(E9*J9,2) -> 0 | L9: 21 | M9: =G9*(1+L9/100) -> 0 | N9: 0 | O9: =ROUND(E9*N9,2) -> 0 | P9: 0 | Q9: =ROUND(E9*P9,2) -> 0 | R9: 822-1 | S9: RTS 25/ II | T9: RTS 23/ I | U9: 0.037 | V9: =ROUND(E9*U9,2) -> 6.77 | X9: Práce | Y9: Běžná | AG9: POL1_
C10: včetně spotřeby vody | AG10: SPI
A11: 2 | B11: 113108409R00 | C11: Odstranění podkladů nebo krytů živičných, v ploše jednotlivě nad 50 m2, tloušťka vrstvy 90 mm | D11: m2 | E11: 91.1 | G11: =ROUND(E11*F11,2) -> 0 | I11: =ROUND(E11*H11,2) -> 0 | K11: =ROUND(E11*J11,2) -> 0 | L11: 21 | M11: =G11*(1+L11/100) -> 0 | N11: 0 | O11: =ROUND(E11*N11,2) -> 0 | P11: 0.198 | Q11: =ROUND(E11*P11,2) -> 18.04 | R11: 822-1 | S11: RTS 25/ II | T11: RTS 23/ I | U11: 0.0646 | V11: =ROUND(E11*U11,2) -> 5.89 | X11: Práce | Y11: Běžná | AG11: POL1_
A12: 3 | B12: 113106231R00 | C12: Rozebrání vozovek a ploch s jakoukoliv výplní spár v jakékoliv ploše, ze zámkové dlažky, kladených do lože z kameniva | D12: m2 | E12: 243 | G12: =ROUND(E12*F12,2) -> 0 | I12: =ROUND(E12*H12,2) -> 0 | K12: =ROUND(E12*J12,2) -> 0 | L12: 21 | M12: =G12*(1+L12/100) -> 0 | N12: 0 | O12: =ROUND(E12*N12,2) -> 0 | P12: 0.225 | Q12: =ROUND(E12*P12,2) -> 54.68 | R12: 822-1 | S12: RTS 25/ II | T12: RTS 23/ I | U12: 0.142 | V12: =ROUND(E12*U12,2) -> 34.51 | X12: Práce | Y12: Běžná | AG12: POL1_
C13: s přemístěním hmot na skládku na vzdálenost do 3 m nebo s naložením na dopravní prostředek | AG13: SPI
A14: 4 | B14: 113202111R00 | C14: Vytrhání obrub z krajníků nebo obrubníků stojatých | D14: m | E14: 207 | G14: =ROUND(E14*F14,2) -> 0 | I14: =ROUND(E14*H14,2) -> 0 | K14: =ROUND(E14*J14,2) -> 0 | L14: 21 | M14: =G14*(1+L14/100) -> 0 | N14: 0 | O14: =ROUND(E14*N14,2) -> 0 | P14: 0.27 | Q14: =ROUND(E14*P14,2) -> 55.89 | R14: 822-1 | S14: RTS 25/ II | T14: RTS 23/ I | U14: 0.123 | V14: =ROUND(E14*U14,2) -> 25.46 | X14: Práce | Y14: Běžná | AG14: POL1_
C15: s vybouráním lože, s přemístěním hmot na skládku na vzdálenost do 3 m nebo naložením na dopravní prostředek | AG15: SPI | BA15: =C15 -> s vybouráním lože, s přemístěním hmot na skládku na vzdálenost do 3 m nebo naložením na dopravní prostředek
A16: 5 | B16: 113201111R00 | C16: Vytrhání obrub chodníkových ležatých | D16: m | E16: 93 | G16: =ROUND(E16*F16,2) -> 0 | I16: =ROUND(E16*H16,2) -> 0 | K16: =ROUND(E16*J16,2) -> 0 | L16: 21 | M16: =G16*(1+L16/100) -> 0 | N16: 0 | O16: =ROUND(E16*N16,2) -> 0 | P16: 0.22 | Q16: =ROUND(E16*P16,2) -> 20.46 | R16: 822-1 | S16: RTS 25/ II | T16: RTS 23/ I | U16: 0.143 | V16: =ROUND(E16*U16,2) -> 13.3 | X16: Práce | Y16: Běžná | AG16: POL1_
C17: s vybouráním lože, s přemístěním hmot na skládku na vzdálenost do 3 m nebo naložením na dopravní prostředek | AG17: SPI | BA17: =C17 -> s vybouráním lože, s přemístěním hmot na skládku na vzdálenost do 3 m nebo naložením na dopravní prostředek
A18: 6 | B18: 979087212R00 | C18: Nakládání na dopravní prostředky suti | D18: t | E18: 149.0628 | G18: =ROUND(E18*F18,2) -> 0 | I18: =ROUND(E18*H18,2) -> 0 | K18: =ROUND(E18*J18,2) -> 0 | L18: 21 | M18: =G18*(1+L18/100) -> 0 | N18: 0 | O18: =ROUND(E18*N18,2) -> 0 | P18: 0 | Q18: =ROUND(E18*P18,2) -> 0 | R18: 822-1 | S18: RTS 25/ II | T18: RTS 23/ I | U18: 0.099 | V18: =ROUND(E18*U18,2) -> 14.76 | X18: Přesun suti | Y18: Běžná | AG18: POL8_
C19: pro vodorovnou dopravu | AG19: SPI
A20: 7 | B20: 979082213R00 | C20: Vodorovná doprava suti po suchu bez naložení, ale se složením a hrubým urovnáním na vzdálenost do 1 km | D20: t | E20: 149.0628 | G20: =ROUND(E20*F20,2) -> 0 | I20: =ROUND(E20*H20,2) -> 0 | K20: =ROUND(E20*J20,2) -> 0 | L20: 21 | M20: =G20*(1+L20/100) -> 0 | N20: 0 | O20: =ROUND(E20*N20,2) -> 0 | P20: 0 | Q20: =ROUND(E20*P20,2) -> 0 | R20: 822-1 | S20: RTS 25/ II | T20: RTS 23/ I | U20: 0.01 | V20: =ROUND(E20*U20,2) -> 1.49 | X20: Přesun suti | Y20: Běžná | AG20: POL8_
A21: 8 | B21: 979082219R00 | C21: Vodorovná doprava suti po suchu příplatek k ceně za každý další i započatý 1 km přes 1 km | D21: t | E21: 2832.1932 | G21: =ROUND(E21*F21,2) -> 0 | I21: =ROUND(E21*H21,2) -> 0 | K21: =ROUND(E21*J21,2) -> 0 | L21: 21 | M21: =G21*(1+L21/100) -> 0 | N21: 0 | O21: =ROUND(E21*N21,2) -> 0 | P21: 0 | Q21: =ROUND(E21*P21,2) -> 0 | R21: 822-1 | S21: RTS 25/ II | T21: RTS 23/ I | U21: 0 | V21: =ROUND(E21*U21,2) -> 0 | X21: Přesun suti | Y21: Běžná | AG21: POL8_
A22: 9 | B22: 979990 | C22: Poplatek za uložení suti - obal. kamenivo, asfalt, skupina odpadu 170302 | D22: t | E22: 18.0378 | G22: =ROUND(E22*F22,2) -> 0 | I22: =ROUND(E22*H22,2) -> 0 | K22: =ROUND(E22*J22,2) -> 0 | L22: 21 | M22: =G22*(1+L22/100) -> 0 | N22: 0 | O22: =ROUND(E22*N22,2) -> 0 | P22: 0 | Q22: =ROUND(E22*P22,2) -> 0 | S22: Vlastní | T22: Kalkul | U22: 0 | V22: =ROUND(E22*U22,2) -> 0 | X22: Práce | Y22: Běžná | AG22: POL1_
A23: 10 | B23: 979991 | C23: Poplatek za uložení suti - beton, skupina odpadu 170101 | D23: t | E23: 131.025 | G23: =ROUND(E23*F23,2) -> 0 | I23: =ROUND(E23*H23,2) -> 0 | K23: =ROUND(E23*J23,2) -> 0 | L23: 21 | M23: =G23*(1+L23/100) -> 0 | N23: 0 | O23: =ROUND(E23*N23,2) -> 0 | P23: 0 | Q23: =ROUND(E23*P23,2) -> 0 | S23: Vlastní | T23: Kalkul | U23: 0 | V23: =ROUND(E23*U23,2) -> 0 | X23: Práce | Y23: Běžná | AG23: POL1_
A24: 11 | B24: 11210 | C24: Kácení stromu, odstranění pařezu včetně likvidace a zasypání zeminou po pařezu | D24: kus | E24: 3 | G24: =ROUND(E24*F24,2) -> 0 | I24: =ROUND(E24*H24,2) -> 0 | K24: =ROUND(E24*J24,2) -> 0 | L24: 21 | M24: =G24*(1+L24/100) -> 0 | N24: 0 | O24: =ROUND(E24*N24,2) -> 0 | P24: 0 | Q24: =ROUND(E24*P24,2) -> 0 | S24: Vlastní | T24: Kalkul | U24: 0 | V24: =ROUND(E24*U24,2) -> 0 | X24: Práce | Y24: Běžná | AG24: POL1_
A25: 12 | B25: 121101100R00 | C25: Sejmutí ornice s přemístěním na vzdálenost do 50 m | D25: m3 | E25: 37.4 | G25: =ROUND(E25*F25,2) -> 0 | I25: =ROUND(E25*H25,2) -> 0 | K25: =ROUND(E25*J25,2) -> 0 | L25: 21 | M25: =G25*(1+L25/100) -> 0 | N25: 0 | O25: =ROUND(E25*N25,2) -> 0 | P25: 0 | Q25: =ROUND(E25*P25,2) -> 0 | R25: 800-1 | S25: RTS 25/ II | T25: RTS 23/ I | U25: 0.0952 | V25: =ROUND(E25*U25,2) -> 3.56 | X25: Práce | Y25: Běžná | AG25: POL1_
C26: nebo lesní půdy, s vodorovným přemístěním na hromady v místě upotřebení nebo na dočasné či trvalé skládky se složením | AG26: SPI | BA26: =C26 -> nebo lesní půdy, s vodorovným přemístěním na hromady v místě upotřebení nebo na dočasné či trvalé skládky se složením
A27: 13 | B27: 122301102R00 | C27: Odkopávky a prokopávky nezapažené v hornině 4 přes 100 do 1 000 m3 | D27: m3 | E27: 121.15 | G27: =ROUND(E27*F27,2) -> 0 | I27: =ROUND(E27*H27,2) -> 0 | K27: =ROUND(E27*J27,2) -> 0 | L27: 21 | M27: =G27*(1+L27/100) -> 0 | N27: 0 | O27: =ROUND(E27*N27,2) -> 0 | P27: 0 | Q27: =ROUND(E27*P27,2) -> 0 | R27: 800-1 | S27: RTS 25/ II | T27: RTS 23/ I | U27: 0.294 | V27: =ROUND(E27*U27,2) -> 35.62 | X27: Práce | Y27: Běžná | AG27: POL1_
C28: s přehozením výkopku na vzdálenost do 3 m nebo s naložením na dopravní prostředek, | AG28: SPI
A29: 14 | B29: 122301109R00 | C29: Odkopávky a prokopávky nezapažené v hornině 4 příplatek k cenám za lepivost horniny | D29: m3 | E29: 36.345 | G29: =ROUND(E29*F29,2) -> 0 | I29: =ROUND(E29*H29,2) -> 0 | K29: =ROUND(E29*J29,2) -> 0 | L29: 21 | M29: =G29*(1+L29/100) -> 0 | N29: 0 | O29: =ROUND(E29*N29,2) -> 0 | P29: 0 | Q29: =ROUND(E29*P29,2) -> 0 | R29: 800-1 | S29: RTS 25/ II | T29: RTS 23/ I | U29: 0.081 | V29: =ROUND(E29*U29,2) -> 2.94 | X29: Práce | Y29: Běžná | AG29: POL1_
C30: s přehozením výkopku na vzdálenost do 3 m nebo s naložením na dopravní prostředek, | AG30: SPI
A31: 15 | B31: 122201101R00 | C31: Odkopávky a prokopávky nezapažené v hornině 3 do 100 m3 | D31: m3 | E31: 46.2565 | G31: =ROUND(E31*F31,2) -> 0 | I31: =ROUND(E31*H31,2) -> 0 | K31: =ROUND(E31*J31,2) -> 0 | L31: 21 | M31: =G31*(1+L31/100) -> 0 | N31: 0 | O31: =ROUND(E31*N31,2) -> 0 | P31: 0 | Q31: =ROUND(E31*P31,2) -> 0 | R31: 800-1 | S31: RTS 25/ II | T31: RTS 23/ I | U31: 0.368 | V31: =ROUND(E31*U31,2) -> 17.02 | X31: Práce | Y31: Běžná | AG31: POL1_
C32: s přehozením výkopku na vzdálenost do 3 m nebo s naložením na dopravní prostředek, | AG32: SPI
A33: 16 | B33: 122201109R00 | C33: Odkopávky a prokopávky nezapažené v hornině 3 příplatek k cenám za lepivost horniny | D33: m3 | E33: 23.12825 | G33: =ROUND(E33*F33,2) -> 0 | I33: =ROUND(E33*H33,2) -> 0 | K33: =ROUND(E33*J33,2) -> 0 | L33: 21 | M33: =G33*(1+L33/100) -> 0 | N33: 0 | O33: =ROUND(E33*N33,2) -> 0 | P33: 0 | Q33: =ROUND(E33*P33,2) -> 0 | R33: 800-1 | S33: RTS 25/ II | T33: RTS 23/ I | U33: 0.058 | V33: =ROUND(E33*U33,2) -> 1.34 | X33: Práce | Y33: Běžná | AG33: POL1_
C34: s přehozením výkopku na vzdálenost do 3 m nebo s naložením na dopravní prostředek, | AG34: SPI
A35: 17 | B35: 132201110R00 | C35: Hloubení rýh šířky do 60 cm do 50 m3, v hornině 3, hloubení strojně | D35: m3 | E35: 8.97 | G35: =ROUND(E35*F35,2) -> 0 | I35: =ROUND(E35*H35,2) -> 0 | K35: =ROUND(E35*J35,2) -> 0 | L35: 21 | M35: =G35*(1+L35/100) -> 0 | N35: 0 | O35: =ROUND(E35*N35,2) -> 0 | P35: 0 | Q35: =ROUND(E35*P35,2) -> 0 | R35: 800-1 | S35: RTS 25/ II | T35: RTS 23/ I | U35: 0.365 | V35: =ROUND(E35*U35,2) -> 3.27 | X35: Práce | Y35: Běžná | AG35: POL1_
C36: zapažených i nezapažených s urovnáním dna do předepsaného profilu a spádu, s přehozením výkopku na přilehlém terénu na vzdálenost do 3 m od podélné osy rýhy nebo s naložením výkopku na dopravní prostředek. | AG36: SPI | BA36: =C36 -> zapažených i nezapažených s urovnáním dna do předepsaného profilu a spádu, s přehozením výkopku na přilehlém terénu na vzdálenost do 3 m od podélné osy rýhy nebo s naložením výkopku na dopravní prostředek.
A37: 18 | B37: 132201119R00 | C37: Hloubení rýh šířky do 60 cm příplatek za lepivost, v hornině 3, | D37: m3 | E37: 4.485 | G37: =ROUND(E37*F37,2) -> 0 | I37: =ROUND(E37*H37,2) -> 0 | K37: =ROUND(E37*J37,2) -> 0 | L37: 21 | M37: =G37*(1+L37/100) -> 0 | N37: 0 | O37: =ROUND(E37*N37,2) -> 0 | P37: 0 | Q37: =ROUND(E37*P37,2) -> 0 | R37: 800-1 | S37: RTS 25/ II | T37: RTS 23/ I | U37: 0.3898 | V37: =ROUND(E37*U37,2) -> 1.75 | X37: Práce | Y37: Běžná | AG37: POL1_
C38: zapažených i nezapažených s urovnáním dna do předepsaného profilu a spádu, s přehozením výkopku na přilehlém terénu na vzdálenost do 3 m od podélné osy rýhy nebo s naložením výkopku na dopravní prostředek. | AG38: SPI | BA38: =C38 -> zapažených i nezapažených s urovnáním dna do předepsaného profilu a spádu, s přehozením výkopku na přilehlém terénu na vzdálenost do 3 m od podélné osy rýhy nebo s naložením výkopku na dopravní prostředek.
A39: 19 | B39: 181101111R00 | C39: Úprava pláně v zářezech bez rozlišení horniny, se zhutněním - ručně | D39: m2 | E39: 413.48 | G39: =ROUND(E39*F39,2) -> 0 | I39: =ROUND(E39*H39,2) -> 0 | K39: =ROUND(E39*J39,2) -> 0 | L39: 21 | M39: =G39*(1+L39/100) -> 0 | N39: 0 | O39: =ROUND(E39*N39,2) -> 0 | P39: 0 | Q39: =ROUND(E39*P39,2) -> 0 | R39: 800-1 | S39: RTS 25/ II | T39: RTS 23/ I | U39: 0.096 | V39: =ROUND(E39*U39,2) -> 39.69 | X39: Práce | Y39: Běžná | AG39: POL1_
C40: vyrovnáním výškových rozdílů, ploch vodorovných a ploch do sklonu 1 : 5. | AG40: SPI
A41: 20 | B41: 162301101R00 | C41: Vodorovné přemístění výkopku z horniny 1 až 4, na vzdálenost přes 50 do 500 m | D41: m3 | E41: 176.3765 | G41: =ROUND(E41*F41,2) -> 0 | I41: =ROUND(E41*H41,2) -> 0 | K41: =ROUND(E41*J41,2) -> 0 | L41: 21 | M41: =G41*(1+L41/100) -> 0 | N41: 0 | O41: =ROUND(E41*N41,2) -> 0 | P41: 0 | Q41: =ROUND(E41*P41,2) -> 0 | R41: 800-1 | S41: RTS 25/ II | T41: RTS 23/ I | U41: 0.011 | V41: =ROUND(E41*U41,2) -> 1.94 | X41: Práce | Y41: Běžná | AG41: POL1_
C42: po suchu, bez naložení výkopku, avšak se složením bez rozhrnutí, zpáteční cesta vozidla. | AG42: SPI
...

Sheet 02 01 Novostavba chodníku
A1: Položkový soupis prací a dodávek | AG1: #TypZaznamu#
A2: S: | B2: 87277 - 23 | C2: Novostavba chodníku a stav. úpravy části stáv. chodníku s příslušenstvím v obci Údrnice | AG2: STA
A3: O: | B3: 02 | C3: Novostavba chodníku | AC3: STA | AG3: OBJ
A4: R: | B4: 01 | C4: Novostavba chodníku | AG4: ROZ
A6: P.č. | B6: Číslo položky | C6: Název položky | D6: MJ | E6: Množství | F6: Cena / MJ | G6: Celkem | H6: Dodávka | I6: Dodávka celk. | J6: Montáž | K6: Montáž celk. | L6: DPH | M6: Cena s DPH | N6: Hmotnost / MJ | O6: Hmotnost celk.(t) | P6: Dem. hmotnost / MJ | Q6: Dem. hmotnost celk.(t) | R6: Ceník | S6: Cen. soustava / platnost | T6: Cenová úroveň | U6: Nhod / MJ | V6: Nhod celk. | W6: Dodavatel | X6: Typ položky | Y6: Stav položky
A8: Díl: | B8: 1 | C8: Zemní práce | G8: =SUMIF(AG9:AG38,"<>NOR",G9:G38) -> 0 | I8: =SUM(I9:I38) -> 0 | K8: =SUM(K9:K38) -> 0 | M8: =SUM(M9:M38) -> 0 | O8: =SUM(O9:O38) -> 0 | Q8: =SUM(Q9:Q38) -> 12.81 | V8: =SUM(V9:V38) -> 180.51 | AG8: DIL
A9: 1 | B9: 919735112R00 | C9: Řezání stávajících krytů nebo podkladů živičných, hloubky přes 50 do 100 mm | D9: m | E9: 120 | G9: =ROUND(E9*F9,2) -> 0 | I9: =ROUND(E9*H9,2) -> 0 | K9: =ROUND(E9*J9,2) -> 0 | L9: 21 | M9: =G9*(1+L9/100) -> 0 | N9: 0 | O9: =ROUND(E9*N9,2) -> 0 | P9: 0 | Q9: =ROUND(E9*P9,2) -> 0 | R9: 822-1 | S9: RTS 25/ II | T9: RTS 23/ I | U9: 0.037 | V9: =ROUND(E9*U9,2) -> 4.44 | X9: Práce | Y9: Běžná | AG9: POL1_
C10: včetně spotřeby vody | AG10: SPI
A11: 2 | B11: 113108309R00 | C11: Odstranění podkladů nebo krytů živičných, v ploše jednotlivě do 50 m2, tloušťka vrstvy 90 mm | D11: m2 | E11: 64.7 | G11: =ROUND(E11*F11,2) -> 0 | I11: =ROUND(E11*H11,2) -> 0 | K11: =ROUND(E11*J11,2) -> 0 | L11: 21 | M11: =G11*(1+L11/100) -> 0 | N11: 0 | O11: =ROUND(E11*N11,2) -> 0 | P11: 0.198 | Q11: =ROUND(E11*P11,2) -> 12.81 | R11: 822-1 | S11: RTS 25/ II | T11: RTS 23/ I | U11: 0.34 | V11: =ROUND(E11*U11,2) -> 22 | X11: Práce | Y11: Běžná | AG11: POL1_
A12: 3 | B12: 979087212R00 | C12: Nakládání na dopravní prostředky suti | D12: t | E12: 12.8106 | G12: =ROUND(E12*F12,2) -> 0 | I12: =ROUND(E12*H12,2) -> 0 | K12: =ROUND(E12*J12,2) -> 0 | L12: 21 | M12: =G12*(1+L12/100) -> 0 | N12: 0 | O12: =ROUND(E12*N12,2) -> 0 | P12: 0 | Q12: =ROUND(E12*P12,2) -> 0 | R12: 822-1 | S12: RTS 25/ II | T12: RTS 23/ I | U12: 0.099 | V12: =ROUND(E12*U12,2) -> 1.27 | X12: Přesun suti | Y12: Běžná | AG12: POL8_
C13: pro vodorovnou dopravu | AG13: SPI
A14: 4 | B14: 979082213R00 | C14: Vodorovná doprava suti po suchu bez naložení, ale se složením a hrubým urovnáním na vzdálenost do 1 km | D14: t | E14: 12.8106 | G14: =ROUND(E14*F14,2) -> 0 | I14: =ROUND(E14*H14,2) -> 0 | K14: =ROUND(E14*J14,2) -> 0 | L14: 21 | M14: =G14*(1+L14/100) -> 0 | N14: 0 | O14: =ROUND(E14*N14,2) -> 0 | P14: 0 | Q14: =ROUND(E14*P14,2) -> 0 | R14: 822-1 | S14: RTS 25/ II | T14: RTS 23/ I | U14: 0.01 | V14: =ROUND(E14*U14,2) -> 0.13 | X14: Přesun suti | Y14: Běžná | AG14: POL8_
A15: 5 | B15: 979082219R00 | C15: Vodorovná doprava suti po suchu příplatek k ceně za každý další i započatý 1 km přes 1 km | D15: t | E15: 243.4014 | G15: =ROUND(E15*F15,2) -> 0 | I15: =ROUND(E15*H15,2) -> 0 | K15: =ROUND(E15*J15,2) -> 0 | L15: 21 | M15: =G15*(1+L15/100) -> 0 | N15: 0 | O15: =ROUND(E15*N15,2) -> 0 | P15: 0 | Q15: =ROUND(E15*P15,2) -> 0 | R15: 822-1 | S15: RTS 25/ II | T15: RTS 23/ I | U15: 0 | V15: =ROUND(E15*U15,2) -> 0 | X15: Přesun suti | Y15: Běžná | AG15: POL8_
A16: 6 | B16: 979990 | C16: Poplatek za uložení suti - obal. kamenivo, asfalt, skupina odpadu 170302 | D16: t | E16: 12.8106 | G16: =ROUND(E16*F16,2) -> 0 | I16: =ROUND(E16*H16,2) -> 0 | K16: =ROUND(E16*J16,2) -> 0 | L16: 21 | M16: =G16*(1+L16/100) -> 0 | N16: 0 | O16: =ROUND(E16*N16,2) -> 0 | P16: 0 | Q16: =ROUND(E16*P16,2) -> 0 | S16: Vlastní | T16: Kalkul | U16: 0 | V16: =ROUND(E16*U16,2) -> 0 | X16: Přesun suti | Y16: Běžná | AG16: POL8_
A17: 7 | B17: 121101100R00 | C17: Sejmutí ornice s přemístěním na vzdálenost do 50 m | D17: m3 | E17: 107.23 | G17: =ROUND(E17*F17,2) -> 0 | I17: =ROUND(E17*H17,2) -> 0 | K17: =ROUND(E17*J17,2) -> 0 | L17: 21 | M17: =G17*(1+L17/100) -> 0 | N17: 0 | O17: =ROUND(E17*N17,2) -> 0 | P17: 0 | Q17: =ROUND(E17*P17,2) -> 0 | R17: 800-1 | S17: RTS 25/ II | T17: RTS 23/ I | U17: 0.0952 | V17: =ROUND(E17*U17,2) -> 10.21 | X17: Práce | Y17: Běžná | AG17: POL1_
C18: nebo lesní půdy, s vodorovným přemístěním na hromady v místě upotřebení nebo na dočasné či trvalé skládky se složením | AG18: SPI | BA18: =C18 -> nebo lesní půdy, s vodorovným přemístěním na hromady v místě upotřebení nebo na dočasné či trvalé skládky se složením
A19: 8 | B19: 122301101R00 | C19: Odkopávky a prokopávky nezapažené v hornině 4 do 100 m3 | D19: m3 | E19: 32.35 | G19: =ROUND(E19*F19,2) -> 0 | I19: =ROUND(E19*H19,2) -> 0 | K19: =ROUND(E19*J19,2) -> 0 | L19: 21 | M19: =G19*(1+L19/100) -> 0 | N19: 0 | O19: =ROUND(E19*N19,2) -> 0 | P19: 0 | Q19: =ROUND(E19*P19,2) -> 0 | R19: 800-1 | S19: RTS 25/ II | T19: RTS 23/ I | U19: 0.626 | V19: =ROUND(E19*U19,2) -> 20.25 | X19: Práce | Y19: Běžná | AG19: POL1_
C20: s přehozením výkopku na vzdálenost do 3 m nebo s naložením na dopravní prostředek, | AG20: SPI
A21: 9 | B21: 122301109R00 | C21: Odkopávky a prokopávky nezapažené v hornině 4 příplatek k cenám za lepivost horniny | D21: m3 | E21: 9.705 | G21: =ROUND(E21*F21,2) -> 0 | I21: =ROUND(E21*H21,2) -> 0 | K21: =ROUND(E21*J21,2) -> 0 | L21: 21 | M21: =G21*(1+L21/100) -> 0 | N21: 0 | O21: =ROUND(E21*N21,2) -> 0 | P21: 0 | Q21: =ROUND(E21*P21,2) -> 0 | R21: 800-1 | S21: RTS 25/ II | T21: RTS 23/ I | U21: 0.081 | V21: =ROUND(E21*U21,2) -> 0.79 | X21: Práce | Y21: Běžná | AG21: POL1_
C22: s přehozením výkopku na vzdálenost do 3 m nebo s naložením na dopravní prostředek, | AG22: SPI
A23: 10 | B23: 122201101R00 | C23: Odkopávky a prokopávky nezapažené v hornině 3 do 100 m3 | D23: m3 | E23: 55.59 | G23: =ROUND(E23*F23,2) -> 0 | I23: =ROUND(E23*H23,2) -> 0 | K23: =ROUND(E23*J23,2) -> 0 | L23: 21 | M23: =G23*(1+L23/100) -> 0 | N23: 0 | O23: =ROUND(E23*N23,2) -> 0 | P23: 0 | Q23: =ROUND(E23*P23,2) -> 0 | R23: 800-1 | S23: RTS 25/ II | T23: RTS 23/ I | U23: 0.368 | V23: =ROUND(E23*U23,2) -> 20.46 | X23: Práce | Y23: Běžná | AG23: POL1_
C24: s přehozením výkopku na vzdálenost do 3 m nebo s naložením na dopravní prostředek, | AG24: SPI
A25: 11 | B25: 122201109R00 | C25: Odkopávky a prokopávky nezapažené v hornině 3 příplatek k cenám za lepivost horniny | D25: m3 | E25: 27.795 | G25: =ROUND(E25*F25,2) -> 0 | I25: =ROUND(E25*H25,2) -> 0 | K25: =ROUND(E25*J25,2) -> 0 | L25: 21 | M25: =G25*(1+L25/100) -> 0 | N25: 0 | O25: =ROUND(E25*N25,2) -> 0 | P25: 0 | Q25: =ROUND(E25*P25,2) -> 0 | R25: 800-1 | S25: RTS 25/ II | T25: RTS 23/ I | U25: 0.058 | V25: =ROUND(E25*U25,2) -> 1.61 | X25: Práce | Y25: Běžná | AG25: POL1_
C26: s přehozením výkopku na vzdálenost do 3 m nebo s naložením na dopravní prostředek, | AG26: SPI
A27: 12 | B27: 162301101R00 | C27: Vodorovné přemístění výkopku z horniny 1 až 4, na vzdálenost přes 50 do 500 m | D27: m3 | E27: 87.94 | G27: =ROUND(E27*F27,2) -> 0 | I27: =ROUND(E27*H27,2) -> 0 | K27: =ROUND(E27*J27,2) -> 0 | L27: 21 | M27: =G27*(1+L27/100) -> 0 | N27: 0 | O27: =ROUND(E27*N27,2) -> 0 | P27: 0 | Q27: =ROUND(E27*P27,2) -> 0 | R27: 800-1 | S27: RTS 25/ II | T27: RTS 23/ I | U27: 0.011 | V27: =ROUND(E27*U27,2) -> 0.97 | X27: Práce | Y27: Běžná | AG27: POL1_
C28: po suchu, bez naložení výkopku, avšak se složením bez rozhrnutí, zpáteční cesta vozidla. | AG28: SPI
A29: 13 | B29: 171201201R00 | C29: Uložení sypaniny na dočasnou skládku tak, že na 1 m2 plochy připadá přes 2 m3 výkopku nebo ornice | D29: m3 | E29: 87.94 | G29: =ROUND(E29*F29,2) -> 0 | I29: =ROUND(E29*H29,2) -> 0 | K29: =ROUND(E29*J29,2) -> 0 | L29: 21 | M29: =G29*(1+L29/100) -> 0 | N29: 0 | O29: =ROUND(E29*N29,2) -> 0 | P29: 0 | Q29: =ROUND(E29*P29,2) -> 0 | R29: 800-1 | S29: RTS 25/ II | T29: RTS 23/ I | U29: 0.009 | V29: =ROUND(E29*U29,2) -> 0.79 | X29: Práce | Y29: Běžná | AG29: POL1_
A30: 14 | B30: 167101102R00 | C30: Nakládání, skládání, překládání neulehlého výkopku nakládání výkopku přes 100 m3, z horniny 1 až 4 | D30: m3 | E30: 26.49 | G30: =ROUND(E30*F30,2) -> 0 | I30: =ROUND(E30*H30,2) -> 0 | K30: =ROUND(E30*J30,2) -> 0 | L30: 21 | M30: =G30*(1+L30/100) -> 0 | N30: 0 | O30: =ROUND(E30*N30,2) -> 0 | P30: 0 | Q30: =ROUND(E30*P30,2) -> 0 | R30: 800-1 | S30: RTS 25/ II | T30: RTS 23/ I | U30: 0.053 | V30: =ROUND(E30*U30,2) -> 1.4 | X30: Práce | Y30: Běžná | AG30: POL1_
A31: 15 | B31: 162301101R00 | C31: Vodorovné přemístění výkopku z horniny 1 až 4, na vzdálenost přes 50 do 500 m | D31: m3 | E31: 26.49 | G31: =ROUND(E31*F31,2) -> 0 | I31: =ROUND(E31*H31,2) -> 0 | K31: =ROUND(E31*J31,2) -> 0 | L31: 21 | M31: =G31*(1+L31/100) -> 0 | N31: 0 | O31: =ROUND(E31*N31,2) -> 0 | P31: 0 | Q31: =ROUND(E31*P31,2) -> 0 | R31: 800-1 | S31: RTS 25/ II | T31: RTS 23/ I | U31: 0.011 | V31: =ROUND(E31*U31,2) -> 0.29 | X31: Práce | Y31: Běžná | AG31: POL1_
C32: po suchu, bez naložení výkopku, avšak se složením bez rozhrnutí, zpáteční cesta vozidla. | AG32: SPI
A33: 16 | B33: 174101102R00 | C33: Zásyp sypaninou se zhutněním v uzavřených prostorách s urovnáním povrchu zásypu s ručním zhutněním | D33: m3 | E33: 26.49 | G33: =ROUND(E33*F33,2) -> 0 | I33: =ROUND(E33*H33,2) -> 0 | K33: =ROUND(E33*J33,2) -> 0 | L33: 21 | M33: =G33*(1+L33/100) -> 0 | N33: 0 | O33: =ROUND(E33*N33,2) -> 0 | P33: 0 | Q33: =ROUND(E33*P33,2) -> 0 | R33: 800-1 | S33: RTS 25/ II | T33: RTS 23/ I | U33: 1.15 | V33: =ROUND(E33*U33,2) -> 30.46 | X33: Práce | Y33: Běžná | AG33: POL1_
C34: z jakékoliv horniny s uložením výkopku po vrstvách, | AG34: SPI
A35: 17 | B35: 182201101R00 | C35: Svahování násypů bez rozlišení horniny | D35: m2 | E35: 253.7875 | G35: =ROUND(E35*F35,2) -> 0 | I35: =ROUND(E35*H35,2) -> 0 | K35: =ROUND(E35*J35,2) -> 0 | L35: 21 | M35: =G35*(1+L35/100) -> 0 | N35: 0 | O35: =ROUND(E35*N35,2) -> 0 | P35: 0 | Q35: =ROUND(E35*P35,2) -> 0 | R35: 800-1 | S35: RTS 25/ II | T35: RTS 23/ I | U35: 0.107 | V35: =ROUND(E35*U35,2) -> 27.16 | X35: Práce | Y35: Běžná | AG35: POL1_
C36: trvalých svahů do projektovaných profilů s potřebným přemístěním výkopku při svahování v násypech, | AG36: SPI
A37: 18 | B37: 181101111R00 | C37: Úprava pláně v zářezech bez rozlišení horniny, se zhutněním - ručně | D37: m2 | E37: 398.73 | G37: =ROUND(E37*F37,2) -> 0 | I37: =ROUND(E37*H37,2) -> 0 | K37: =ROUND(E37*J37,2) -> 0 | L37: 21 | M37: =G37*(1+L37/100) -> 0 | N37: 0 | O37: =ROUND(E37*N37,2) -> 0 | P37: 0 | Q37: =ROUND(E37*P37,2) -> 0 | R37: 800-1 | S37: RTS 25/ II | T37: RTS 23/ I | U37: 0.096 | V37: =ROUND(E37*U37,2) -> 38.28 | X37: Práce | Y37: Běžná | AG37: POL1_
C38: vyrovnáním výškových rozdílů, ploch vodorovných a ploch do sklonu 1 : 5. | AG38: SPI
A39: Díl: | B39: 18 | C39: Povrchové úpravy terénu | G39: =SUMIF(AG40:AG52,"<>NOR",G40:G52) -> 0 | I39: =SUM(I40:I52) -> 0 | K39: =SUM(K40:K52) -> 0 | M39: =SUM(M40:M52) -> 0 | O39: =SUM(O40:O52) -> 0.01 | Q39: =SUM(Q40:Q52) -> 0 | V39: =SUM(V40:V52) -> 125.24 | AG39: DIL
A40: 19 | B40: 167101101R00 | C40: Nakládání, skládání, překládání neulehlého výkopku nakládání výkopku do 100 m3, z horniny 1 až 4 | D40: m3 | E40: 40.76812 | G40: =ROUND(E40*F40,2) -> 0 | I40: =ROUND(E40*H40,2) -> 0 | K40: =ROUND(E40*J40,2) -> 0 | L40: 21 | M40: =G40*(1+L40/100) -> 0 | N40: 0 | O40: =ROUND(E40*N40,2) -> 0 | P40: 0 | Q40: =ROUND(E40*P40,2) -> 0 | R40: 800-1 | S40: RTS 25/ II | T40: RTS 23/ I | U40: 0.652 | V40: =ROUND(E40*U40,2) -> 26.58 | X40: Práce | Y40: Běžná | AG40: POL1_
A41: 20 | B41: 162201102R00 | C41: Vodorovné přemístění výkopku z horniny 1 až 4, na vzdálenost přes 20 do 50 m | D41: m3 | E41: 40.76812 | G41: =ROUND(E41*F41,2) -> 0 | I41: =ROUND(E41*H41,2) -> 0 | K41: =ROUND(E41*J41,2) -> 0 | L41: 21 | M41: =G41*(1+L41/100) -> 0 | N41: 0 | O41: =ROUND(E41*N41,2) -> 0 | P41: 0 | Q41: =ROUND(E41*P41,2) -> 0 | R41: 800-1 | S41: RTS 25/ II | T41: RTS 23/ I | U41: 0.074 | V41: =ROUND(E41*U41,2) -> 3.02 | X41: Práce | Y41: Běžná | AG41: POL1_
C42: po suchu, bez naložení výkopku, avšak se složením bez rozhrnutí, zpáteční cesta vozidla. | AG42: SPI
...

Sheet 03 01 Vjezd k bytovce
A1: Položkový soupis prací a dodávek | AG1: #TypZaznamu#
A2: S: | B2: 87277 - 23 | C2: Novostavba chodníku a stav. úpravy části stáv. chodníku s příslušenstvím v obci Údrnice | AG2: STA
A3: O: | B3: 03 | C3: Vjezd k bytovce | AC3: STA | AG3: OBJ
A4: R: | B4: 01 | C4: Vjezd k bytovce | AG4: ROZ
A6: P.č. | B6: Číslo položky | C6: Název položky | D6: MJ | E6: Množství | F6: Cena / MJ | G6: Celkem | H6: Dodávka | I6: Dodávka celk. | J6: Montáž | K6: Montáž celk. | L6: DPH | M6: Cena s DPH | N6: Hmotnost / MJ | O6: Hmotnost celk.(t) | P6: Dem. hmotnost / MJ | Q6: Dem. hmotnost celk.(t) | R6: Ceník | S6: Cen. soustava / platnost | T6: Cenová úroveň | U6: Nhod / MJ | V6: Nhod celk. | W6: Dodavatel | X6: Typ položky | Y6: Stav položky
A8: Díl: | B8: 1 | C8: Zemní práce | G8: =SUMIF(AG9:AG32,"<>NOR",G9:G32) -> 0 | I8: =SUM(I9:I32) -> 0 | K8: =SUM(K9:K32) -> 0 | M8: =SUM(M9:M32) -> 0 | O8: =SUM(O9:O32) -> 0 | Q8: =SUM(Q9:Q32) -> 43.97 | V8: =SUM(V9:V32) -> 93.62 | AG8: DIL
A9: 1 | B9: 919735122R00 | C9: Řezání stávajících krytů nebo podkladů betonových, hloubky přes 50 do 100 mm | D9: m | E9: 21 | G9: =ROUND(E9*F9,2) -> 0 | I9: =ROUND(E9*H9,2) -> 0 | K9: =ROUND(E9*J9,2) -> 0 | L9: 21 | M9: =G9*(1+L9/100) -> 0 | N9: 0 | O9: =ROUND(E9*N9,2) -> 0 | P9: 0 | Q9: =ROUND(E9*P9,2) -> 0 | R9: 822-1 | S9: RTS 25/ II | T9: RTS 23/ I | U9: 0.074 | V9: =ROUND(E9*U9,2) -> 1.55 | X9: Práce | Y9: Běžná | AG9: POL1_
C10: včetně spotřeby vody | AG10: SPI
A11: 2 | B11: 113108409R00 | C11: Odstranění podkladů nebo krytů živičných, v ploše jednotlivě nad 50 m2, tloušťka vrstvy 90 mm | D11: m2 | E11: 203 | G11: =ROUND(E11*F11,2) -> 0 | I11: =ROUND(E11*H11,2) -> 0 | K11: =ROUND(E11*J11,2) -> 0 | L11: 21 | M11: =G11*(1+L11/100) -> 0 | N11: 0 | O11: =ROUND(E11*N11,2) -> 0 | P11: 0.198 | Q11: =ROUND(E11*P11,2) -> 40.19 | R11: 822-1 | S11: RTS 25/ II | T11: RTS 23/ I | U11: 0.0646 | V11: =ROUND(E11*U11,2) -> 13.11 | X11: Práce | Y11: Běžná | AG11: POL1_
A12: 3 | B12: 113202111R00 | C12: Vytrhání obrub z krajníků nebo obrubníků stojatých | D12: m | E12: 14 | G12: =ROUND(E12*F12,2) -> 0 | I12: =ROUND(E12*H12,2) -> 0 | K12: =ROUND(E12*J12,2) -> 0 | L12: 21 | M12: =G12*(1+L12/100) -> 0 | N12: 0 | O12: =ROUND(E12*N12,2) -> 0 | P12: 0.27 | Q12: =ROUND(E12*P12,2) -> 3.78 | R12: 822-1 | S12: RTS 25/ II | T12: RTS 23/ I | U12: 0.123 | V12: =ROUND(E12*U12,2) -> 1.72 | X12: Práce | Y12: Běžná | AG12: POL1_
C13: s vybouráním lože, s přemístěním hmot na skládku na vzdálenost do 3 m nebo naložením na dopravní prostředek | AG13: SPI | BA13: =C13 -> s vybouráním lože, s přemístěním hmot na skládku na vzdálenost do 3 m nebo naložením na dopravní prostředek
A14: 4 | B14: 979087212R00 | C14: Nakládání na dopravní prostředky suti | D14: t | E14: 43.974 | G14: =ROUND(E14*F14,2) -> 0 | I14: =ROUND(E14*H14,2) -> 0 | K14: =ROUND(E14*J14,2) -> 0 | L14: 21 | M14: =G14*(1+L14/100) -> 0 | N14: 0 | O14: =ROUND(E14*N14,2) -> 0 | P14: 0 | Q14: =ROUND(E14*P14,2) -> 0 | R14: 822-1 | S14: RTS 25/ II | T14: RTS 23/ I | U14: 0.099 | V14: =ROUND(E14*U14,2) -> 4.35 | X14: Přesun suti | Y14: Běžná | AG14: POL8_
C15: pro vodorovnou dopravu | AG15: SPI
A16: 5 | B16: 979082213R00 | C16: Vodorovná doprava suti po suchu bez naložení, ale se složením a hrubým urovnáním na vzdálenost do 1 km | D16: t | E16: 43.974 | G16: =ROUND(E16*F16,2) -> 0 | I16: =ROUND(E16*H16,2) -> 0 | K16: =ROUND(E16*J16,2) -> 0 | L16: 21 | M16: =G16*(1+L16/100) -> 0 | N16: 0 | O16: =ROUND(E16*N16,2) -> 0 | P16: 0 | Q16: =ROUND(E16*P16,2) -> 0 | R16: 822-1 | S16: RTS 25/ II | T16: RTS 23/ I | U16: 0.01 | V16: =ROUND(E16*U16,2) -> 0.44 | X16: Přesun suti | Y16: Běžná | AG16: POL8_
A17: 6 | B17: 979082219R00 | C17: Vodorovná doprava suti po suchu příplatek k ceně za každý další i započatý 1 km přes 1 km | D17: t | E17: 835.506 | G17: =ROUND(E17*F17,2) -> 0 | I17: =ROUND(E17*H17,2) -> 0 | K17: =ROUND(E17*J17,2) -> 0 | L17: 21 | M17: =G17*(1+L17/100) -> 0 | N17: 0 | O17: =ROUND(E17*N17,2) -> 0 | P17: 0 | Q17: =ROUND(E17*P17,2) -> 0 | R17: 822-1 | S17: RTS 25/ II | T17: RTS 23/ I | U17: 0 | V17: =ROUND(E17*U17,2) -> 0 | X17: Přesun suti | Y17: Běžná | AG17: POL8_
A18: 7 | B18: 979990 | C18: Poplatek za uložení suti - obal. kamenivo, asfalt, skupina odpadu 170302 | D18: t | E18: 40.194 | G18: =ROUND(E18*F18,2) -> 0 | I18: =ROUND(E18*H18,2) -> 0 | K18: =ROUND(E18*J18,2) -> 0 | L18: 21 | M18: =G18*(1+L18/100) -> 0 | N18: 0 | O18: =ROUND(E18*N18,2) -> 0 | P18: 0 | Q18: =ROUND(E18*P18,2) -> 0 | S18: Vlastní | T18: Kalkul | U18: 0 | V18: =ROUND(E18*U18,2) -> 0 | X18: Práce | Y18: Běžná | AG18: POL1_
A19: 8 | B19: 979991 | C19: Poplatek za uložení suti - beton, skupina odpadu 170101 | D19: t | E19: 3.78 | G19: =ROUND(E19*F19,2) -> 0 | I19: =ROUND(E19*H19,2) -> 0 | K19: =ROUND(E19*J19,2) -> 0 | L19: 21 | M19: =G19*(1+L19/100) -> 0 | N19: 0 | O19: =ROUND(E19*N19,2) -> 0 | P19: 0 | Q19: =ROUND(E19*P19,2) -> 0 | S19: Vlastní | T19: Kalkul | U19: 0 | V19: =ROUND(E19*U19,2) -> 0 | X19: Práce | Y19: Běžná | AG19: POL1_
A20: 9 | B20: 122201101R00 | C20: Odkopávky a prokopávky nezapažené v hornině 3 do 100 m3 | D20: m3 | E20: 27 | G20: =ROUND(E20*F20,2) -> 0 | I20: =ROUND(E20*H20,2) -> 0 | K20: =ROUND(E20*J20,2) -> 0 | L20: 21 | M20: =G20*(1+L20/100) -> 0 | N20: 0 | O20: =ROUND(E20*N20,2) -> 0 | P20: 0 | Q20: =ROUND(E20*P20,2) -> 0 | R20: 800-1 | S20: RTS 25/ II | T20: RTS 23/ I | U20: 0.368 | V20: =ROUND(E20*U20,2) -> 9.94 | X20: Práce | Y20: Běžná | AG20: POL1_
C21: s přehozením výkopku na vzdálenost do 3 m nebo s naložením na dopravní prostředek, | AG21: SPI
A22: 10 | B22: 122201109R00 | C22: Odkopávky a prokopávky nezapažené v hornině 3 příplatek k cenám za lepivost horniny | D22: m3 | E22: 13.5 | G22: =ROUND(E22*F22,2) -> 0 | I22: =ROUND(E22*H22,2) -> 0 | K22: =ROUND(E22*J22,2) -> 0 | L22: 21 | M22: =G22*(1+L22/100) -> 0 | N22: 0 | O22: =ROUND(E22*N22,2) -> 0 | P22: 0 | Q22: =ROUND(E22*P22,2) -> 0 | R22: 800-1 | S22: RTS 25/ II | T22: RTS 23/ I | U22: 0.058 | V22: =ROUND(E22*U22,2) -> 0.78 | X22: Práce | Y22: Běžná | AG22: POL1_
C23: s přehozením výkopku na vzdálenost do 3 m nebo s naložením na dopravní prostředek, | AG23: SPI
A24: 11 | B24: 122301102R00 | C24: Odkopávky a prokopávky nezapažené v hornině 4 přes 100 do 1 000 m3 | D24: m3 | E24: 105.125 | G24: =ROUND(E24*F24,2) -> 0 | I24: =ROUND(E24*H24,2) -> 0 | K24: =ROUND(E24*J24,2) -> 0 | L24: 21 | M24: =G24*(1+L24/100) -> 0 | N24: 0 | O24: =ROUND(E24*N24,2) -> 0 | P24: 0 | Q24: =ROUND(E24*P24,2) -> 0 | R24: 800-1 | S24: RTS 25/ II | T24: RTS 23/ I | U24: 0.294 | V24: =ROUND(E24*U24,2) -> 30.91 | X24: Práce | Y24: Běžná | AG24: POL1_
C25: s přehozením výkopku na vzdálenost do 3 m nebo s naložením na dopravní prostředek, | AG25: SPI
A26: 12 | B26: 122301109R00 | C26: Odkopávky a prokopávky nezapažené v hornině 4 příplatek k cenám za lepivost horniny | D26: m3 | E26: 31.5375 | G26: =ROUND(E26*F26,2) -> 0 | I26: =ROUND(E26*H26,2) -> 0 | K26: =ROUND(E26*J26,2) -> 0 | L26: 21 | M26: =G26*(1+L26/100) -> 0 | N26: 0 | O26: =ROUND(E26*N26,2) -> 0 | P26: 0 | Q26: =ROUND(E26*P26,2) -> 0 | R26: 800-1 | S26: RTS 25/ II | T26: RTS 23/ I | U26: 0.081 | V26: =ROUND(E26*U26,2) -> 2.55 | X26: Práce | Y26: Běžná | AG26: POL1_
C27: s přehozením výkopku na vzdálenost do 3 m nebo s naložením na dopravní prostředek, | AG27: SPI
A28: 13 | B28: 162301101R00 | C28: Vodorovné přemístění výkopku z horniny 1 až 4, na vzdálenost přes 50 do 500 m | D28: m3 | E28: 132.125 | G28: =ROUND(E28*F28,2) -> 0 | I28: =ROUND(E28*H28,2) -> 0 | K28: =ROUND(E28*J28,2) -> 0 | L28: 21 | M28: =G28*(1+L28/100) -> 0 | N28: 0 | O28: =ROUND(E28*N28,2) -> 0 | P28: 0 | Q28: =ROUND(E28*P28,2) -> 0 | R28: 800-1 | S28: RTS 25/ II | T28: RTS 23/ I | U28: 0.011 | V28: =ROUND(E28*U28,2) -> 1.45 | X28: Práce | Y28: Běžná | AG28: POL1_
C29: po suchu, bez naložení výkopku, avšak se složením bez rozhrnutí, zpáteční cesta vozidla. | AG29: SPI
A30: 14 | B30: 171201201R00 | C30: Uložení sypaniny na dočasnou skládku tak, že na 1 m2 plochy připadá přes 2 m3 výkopku nebo ornice | D30: m3 | E30: 132.125 | G30: =ROUND(E30*F30,2) -> 0 | I30: =ROUND(E30*H30,2) -> 0 | K30: =ROUND(E30*J30,2) -> 0 | L30: 21 | M30: =G30*(1+L30/100) -> 0 | N30: 0 | O30: =ROUND(E30*N30,2) -> 0 | P30: 0 | Q30: =ROUND(E30*P30,2) -> 0 | R30: 800-1 | S30: RTS 25/ II | T30: RTS 23/ I | U30: 0.009 | V30: =ROUND(E30*U30,2) -> 1.19 | X30: Práce | Y30: Běžná | AG30: POL1_
A31: 15 | B31: 181101111R00 | C31: Úprava pláně v zářezech bez rozlišení horniny, se zhutněním - ručně | D31: m2 | E31: 267 | G31: =ROUND(E31*F31,2) -> 0 | I31: =ROUND(E31*H31,2) -> 0 | K31: =ROUND(E31*J31,2) -> 0 | L31: 21 | M31: =G31*(1+L31/100) -> 0 | N31: 0 | O31: =ROUND(E31*N31,2) -> 0 | P31: 0 | Q31: =ROUND(E31*P31,2) -> 0 | R31: 800-1 | S31: RTS 25/ II | T31: RTS 23/ I | U31: 0.096 | V31: =ROUND(E31*U31,2) -> 25.63 | X31: Práce | Y31: Běžná | AG31: POL1_
C32: vyrovnáním výškových rozdílů, ploch vodorovných a ploch do sklonu 1 : 5. | AG32: SPI
A33: Díl: | B33: 28 | C33: Zpevňování hornin a konstrukcí | G33: =SUMIF(AG34:AG35,"<>NOR",G34:G35) -> 0 | I33: =SUM(I34:I35) -> 0 | K33: =SUM(K34:K35) -> 0 | M33: =SUM(M34:M35) -> 0 | O33: =SUM(O34:O35) -> 0.1 | Q33: =SUM(Q34:Q35) -> 0 | V33: =SUM(V34:V35) -> 11.75 | AG33: DIL
A34: 16 | B34: 289971211R00 | C34: Zřízení vrstvy z geotextilie na upraveném povrchu sklon do 1:5, šířka od 0 do 3 m | D34: m2 | E34: 267 | G34: =ROUND(E34*F34,2) -> 0 | I34: =ROUND(E34*H34,2) -> 0 | K34: =ROUND(E34*J34,2) -> 0 | L34: 21 | M34: =G34*(1+L34/100) -> 0 | N34: 3e-05 | O34: =ROUND(E34*N34,2) -> 0.01 | P34: 0 | Q34: =ROUND(E34*P34,2) -> 0 | R34: 800-2 | S34: RTS 25/ II | T34: RTS 23/ I | U34: 0.044 | V34: =ROUND(E34*U34,2) -> 11.75 | X34: Práce | Y34: Běžná | AG34: POL1_
A35: 17 | B35: 69366055R | C35: geotextilie PP; funkce drenážní, separační, výztužná, filtrační; plošná hmotnost 300 g/m2; tl. při 2 kPa 3,90 mm | D35: m2 | E35: 293.7 | G35: =ROUND(E35*F35,2) -> 0 | I35: =ROUND(E35*H35,2) -> 0 | K35: =ROUND(E35*J35,2) -> 0 | L35: 21 | M35: =G35*(1+L35/100) -> 0 | N35: 0.0003 | O35: =ROUND(E35*N35,2) -> 0.09 | P35: 0 | Q35: =ROUND(E35*P35,2) -> 0 | R35: SPCM | S35: RTS 25/ II | T35: RTS 23/ I | U35: 0 | V35: =ROUND(E35*U35,2) -> 0 | X35: Specifikace | Y35: Běžná | AG35: POL3_
A36: Díl: | B36: 56 | C36: Podkladní vrstvy komunikací a zpevněných ploch | G36: =SUMIF(AG37:AG38,"<>NOR",G37:G38) -> 0 | I36: =SUM(I37:I38) -> 0 | K36: =SUM(K37:K38) -> 0 | M36: =SUM(M37:M38) -> 0 | O36: =SUM(O37:O38) -> 318.38 | Q36: =SUM(Q37:Q38) -> 0 | V36: =SUM(V37:V38) -> 21.54 | AG36: DIL
A37: 18 | B37: 564851111RT4 | C37: Podklad ze štěrkodrti s rozprostřením a zhutněním frakce 0-63 mm, tloušťka po zhutnění 150 mm | D37: m2 | E37: 534 | G37: =ROUND(E37*F37,2) -> 0 | I37: =ROUND(E37*H37,2) -> 0 | K37: =ROUND(E37*J37,2) -> 0 | L37: 21 | M37: =G37*(1+L37/100) -> 0 | N37: 0.378 | O37: =ROUND(E37*N37,2) -> 201.85 | P37: 0 | Q37: =ROUND(E37*P37,2) -> 0 | R37: 822-1 | S37: RTS 25/ II | T37: RTS 23/ I | U37: 0.026 | V37: =ROUND(E37*U37,2) -> 13.88 | X37: Práce | Y37: Běžná | AG37: POL1_
A38: 19 | B38: 564861111RT2 | C38: Podklad ze štěrkodrti s rozprostřením a zhutněním frakce 0-32 mm, tloušťka po zhutnění 200 mm | D38: m2 | E38: 264.25 | G38: =ROUND(E38*F38,2) -> 0 | I38: =ROUND(E38*H38,2) -> 0 | K38: =ROUND(E38*J38,2) -> 0 | L38: 21 | M38: =G38*(1+L38/100) -> 0 | N38: 0.441 | O38: =ROUND(E38*N38,2) -> 116.53 | P38: 0 | Q38: =ROUND(E38*P38,2) -> 0 | R38: 822-1 | S38: RTS 25/ II | T38: RTS 23/ I | U38: 0.029 | V38: =ROUND(E38*U38,2) -> 7.66 | X38: Práce | Y38: Běžná | AG38: POL1_
A39: Díl: | B39: 57 | C39: Kryty štěrkových a živičných komunikací | G39: =SUMIF(AG40:AG44,"<>NOR",G40:G44) -> 0 | I39: =SUM(I40:I44) -> 0 | K39: =SUM(K40:K44) -> 0 | M39: =SUM(M40:M44) -> 0 | O39: =SUM(O40:O44) -> 48.61 | Q39: =SUM(Q40:Q44) -> 0 | V39: =SUM(V40:V44) -> 8.12 | AG39: DIL
A40: 20 | B40: 573111114R00 | C40: Postřik živičný infiltrační s posypem kamenivem v množství 2 kg/m2 | D40: m2 | E40: 203 | G40: =ROUND(E40*F40,2) -> 0 | I40: =ROUND(E40*H40,2) -> 0 | K40: =ROUND(E40*J40,2) -> 0 | L40: 21 | M40: =G40*(1+L40/100) -> 0 | N40: 0.00702 | O40: =ROUND(E40*N40,2) -> 1.43 | P40: 0 | Q40: =ROUND(E40*P40,2) -> 0 | R40: 822-1 | S40: RTS 25/ II | T40: RTS 23/ I | U40: 0.004 | V40: =ROUND(E40*U40,2) -> 0.81 | X40: Práce | Y40: Běžná | AG40: POL1_
A41: 21 | B41: 577142222RT3 | C41: Beton asfaltový s rozprostřením a zhutněním v pruhu šířky přes 3 m, ACL 22, tloušťky 50 mm, plochy do 200 m2 | D41: m2 | E41: 203 | G41: =ROUND(E41*F41,2) -> 0 | I41: =ROUND(E41*H41,2) -> 0 | K41: =ROUND(E41*J41,2) -> 0 | L41: 21 | M41: =G41*(1+L41/100) -> 0 | N41: 0.12818 | O41: =ROUND(E41*N41,2) -> 26.02 | P41: 0 | Q41: =ROUND(E41*P41,2) -> 0 | R41: 822-1 | S41: RTS 25/ II | T41: RTS 23/ I | U41: 0.021 | V41: =ROUND(E41*U41,2) -> 4.26 | X41: Práce | Y41: Běžná | AG41: POL1_
A42: 22 | B42: 573211109 | C42: Postřik živičný spojovací z asfaltu v množství 0,50 kg/m2 | D42: m2 | E42: 203 | G42: =ROUND(E42*F42,2) -> 0 | I42: =ROUND(E42*H42,2) -> 0 | K42: =ROUND(E42*J42,2) -> 0 | L42: 21 | M42: =G42*(1+L42/100) -> 0 | N42: 0.00051 | O42: =ROUND(E42*N42,2) -> 0.1 | P42: 0 | Q42: =ROUND(E42*P42,2) -> 0 | S42: Vlastní | T42: Indiv | U42: 0 | V42: =ROUND(E42*U42,2) -> 0 | X42: Práce | Y42: Běžná | AG42: POL1_
...

Sheet 04 01 Vjezd přes potok
A1: Položkový soupis prací a dodávek | AG1: #TypZaznamu#
A2: S: | B2: 87277 - 23 | C2: Novostavba chodníku a stav. úpravy části stáv. chodníku s příslušenstvím v obci Údrnice | AG2: STA
A3: O: | B3: 04 | C3: Vjezd přes potok | AC3: STA | AG3: OBJ
A4: R: | B4: 01 | C4: Vjezd přes potok | AG4: ROZ
A6: P.č. | B6: Číslo položky | C6: Název položky | D6: MJ | E6: Množství | F6: Cena / MJ | G6: Celkem | H6: Dodávka | I6: Dodávka celk. | J6: Montáž | K6: Montáž celk. | L6: DPH | M6: Cena s DPH | N6: Hmotnost / MJ | O6: Hmotnost celk.(t) | P6: Dem. hmotnost / MJ | Q6: Dem. hmotnost celk.(t) | R6: Ceník | S6: Cen. soustava / platnost | T6: Cenová úroveň | U6: Nhod / MJ | V6: Nhod celk. | W6: Dodavatel | X6: Typ položky | Y6: Stav položky
A8: Díl: | B8: 1 | C8: Zemní práce | G8: =SUMIF(AG9:AG19,"<>NOR",G9:G19) -> 0 | I8: =SUM(I9:I19) -> 0 | K8: =SUM(K9:K19) -> 0 | M8: =SUM(M9:M19) -> 0 | O8: =SUM(O9:O19) -> 0 | Q8: =SUM(Q9:Q19) -> 0 | V8: =SUM(V9:V19) -> 63.15 | AG8: DIL
A9: 1 | B9: 121101100R00 | C9: Sejmutí ornice s přemístěním na vzdálenost do 50 m | D9: m3 | E9: 41 | G9: =ROUND(E9*F9,2) -> 0 | I9: =ROUND(E9*H9,2) -> 0 | K9: =ROUND(E9*J9,2) -> 0 | L9: 21 | M9: =G9*(1+L9/100) -> 0 | N9: 0 | O9: =ROUND(E9*N9,2) -> 0 | P9: 0 | Q9: =ROUND(E9*P9,2) -> 0 | R9: 800-1 | S9: RTS 25/ II | T9: RTS 23/ I | U9: 0.0952 | V9: =ROUND(E9*U9,2) -> 3.9 | X9: Práce | Y9: Běžná | AG9: POL1_
C10: nebo lesní půdy, s vodorovným přemístěním na hromady v místě upotřebení nebo na dočasné či trvalé skládky se složením | AG10: SPI | BA10: =C10 -> nebo lesní půdy, s vodorovným přemístěním na hromady v místě upotřebení nebo na dočasné či trvalé skládky se složením
A11: 2 | B11: 167101102R00 | C11: Nakládání, skládání, překládání neulehlého výkopku nakládání výkopku přes 100 m3, z horniny 1 až 4 | D11: m3 | E11: 102.5 | G11: =ROUND(E11*F11,2) -> 0 | I11: =ROUND(E11*H11,2) -> 0 | K11: =ROUND(E11*J11,2) -> 0 | L11: 21 | M11: =G11*(1+L11/100) -> 0 | N11: 0 | O11: =ROUND(E11*N11,2) -> 0 | P11: 0 | Q11: =ROUND(E11*P11,2) -> 0 | R11: 800-1 | S11: RTS 25/ II | T11: RTS 23/ I | U11: 0.053 | V11: =ROUND(E11*U11,2) -> 5.43 | X11: Práce | Y11: Běžná | AG11: POL1_
A12: 3 | B12: 162301101R00 | C12: Vodorovné přemístění výkopku z horniny 1 až 4, na vzdálenost přes 50 do 500 m | D12: m3 | E12: 102.5 | G12: =ROUND(E12*F12,2) -> 0 | I12: =ROUND(E12*H12,2) -> 0 | K12: =ROUND(E12*J12,2) -> 0 | L12: 21 | M12: =G12*(1+L12/100) -> 0 | N12: 0 | O12: =ROUND(E12*N12,2) -> 0 | P12: 0 | Q12: =ROUND(E12*P12,2) -> 0 | R12: 800-1 | S12: RTS 25/ II | T12: RTS 23/ I | U12: 0.011 | V12: =ROUND(E12*U12,2) -> 1.13 | X12: Práce | Y12: Běžná | AG12: POL1_
C13: po suchu, bez naložení výkopku, avšak se složením bez rozhrnutí, zpáteční cesta vozidla. | AG13: SPI
A14: 4 | B14: 171101141R00 | C14: Uložení sypaniny do násypů zhutněných z jakýchkoliv hornin pro jakýkoliv způsob uložení při průměrném množství násypu do 0,75 m3/m silnice nobo železnice | D14: m3 | E14: 102.5 | G14: =ROUND(E14*F14,2) -> 0 | I14: =ROUND(E14*H14,2) -> 0 | K14: =ROUND(E14*J14,2) -> 0 | L14: 21 | M14: =G14*(1+L14/100) -> 0 | N14: 0 | O14: =ROUND(E14*N14,2) -> 0 | P14: 0 | Q14: =ROUND(E14*P14,2) -> 0 | R14: 800-1 | S14: RTS 25/ II | T14: RTS 23/ I | U14: 0.31 | V14: =ROUND(E14*U14,2) -> 31.78 | X14: Práce | Y14: Běžná | AG14: POL1_
C15: s rozprostřením sypaniny ve vrstvách a s hrubým urovnáním, | AG15: SPI
A16: 5 | B16: 181101111R00 | C16: Úprava pláně v zářezech bez rozlišení horniny, se zhutněním - ručně | D16: m2 | E16: 167 | G16: =ROUND(E16*F16,2) -> 0 | I16: =ROUND(E16*H16,2) -> 0 | K16: =ROUND(E16*J16,2) -> 0 | L16: 21 | M16: =G16*(1+L16/100) -> 0 | N16: 0 | O16: =ROUND(E16*N16,2) -> 0 | P16: 0 | Q16: =ROUND(E16*P16,2) -> 0 | R16: 800-1 | S16: RTS 25/ II | T16: RTS 23/ I | U16: 0.096 | V16: =ROUND(E16*U16,2) -> 16.03 | X16: Práce | Y16: Běžná | AG16: POL1_
C17: vyrovnáním výškových rozdílů, ploch vodorovných a ploch do sklonu 1 : 5. | AG17: SPI
A18: 6 | B18: 182201101R00 | C18: Svahování násypů bez rozlišení horniny | D18: m2 | E18: 45.6 | G18: =ROUND(E18*F18,2) -> 0 | I18: =ROUND(E18*H18,2) -> 0 | K18: =ROUND(E18*J18,2) -> 0 | L18: 21 | M18: =G18*(1+L18/100) -> 0 | N18: 0 | O18: =ROUND(E18*N18,2) -> 0 | P18: 0 | Q18: =ROUND(E18*P18,2) -> 0 | R18: 800-1 | S18: RTS 25/ II | T18: RTS 23/ I | U18: 0.107 | V18: =ROUND(E18*U18,2) -> 4.88 | X18: Práce | Y18: Běžná | AG18: POL1_
C19: trvalých svahů do projektovaných profilů s potřebným přemístěním výkopku při svahování v násypech, | AG19: SPI
A20: Díl: | B20: 18 | C20: Povrchové úpravy terénu | G20: =SUMIF(AG21:AG28,"<>NOR",G21:G28) -> 0 | I20: =SUM(I21:I28) -> 0 | K20: =SUM(K21:K28) -> 0 | M20: =SUM(M21:M28) -> 0 | O20: =SUM(O21:O28) -> 0 | Q20: =SUM(Q21:Q28) -> 0 | V20: =SUM(V21:V28) -> 21.38 | AG20: DIL
A21: 7 | B21: 167101101R00 | C21: Nakládání, skládání, překládání neulehlého výkopku nakládání výkopku do 100 m3, z horniny 1 až 4 | D21: m3 | E21: 6.84 | G21: =ROUND(E21*F21,2) -> 0 | I21: =ROUND(E21*H21,2) -> 0 | K21: =ROUND(E21*J21,2) -> 0 | L21: 21 | M21: =G21*(1+L21/100) -> 0 | N21: 0 | O21: =ROUND(E21*N21,2) -> 0 | P21: 0 | Q21: =ROUND(E21*P21,2) -> 0 | R21: 800-1 | S21: RTS 25/ II | T21: RTS 23/ I | U21: 0.652 | V21: =ROUND(E21*U21,2) -> 4.46 | X21: Práce | Y21: Běžná | AG21: POL1_
A22: 8 | B22: 162201102R00 | C22: Vodorovné přemístění výkopku z horniny 1 až 4, na vzdálenost přes 20 do 50 m | D22: m3 | E22: 6.84 | G22: =ROUND(E22*F22,2) -> 0 | I22: =ROUND(E22*H22,2) -> 0 | K22: =ROUND(E22*J22,2) -> 0 | L22: 21 | M22: =G22*(1+L22/100) -> 0 | N22: 0 | O22: =ROUND(E22*N22,2) -> 0 | P22: 0 | Q22: =ROUND(E22*P22,2) -> 0 | R22: 800-1 | S22: RTS 25/ II | T22: RTS 23/ I | U22: 0.074 | V22: =ROUND(E22*U22,2) -> 0.51 | X22: Práce | Y22: Běžná | AG22: POL1_
C23: po suchu, bez naložení výkopku, avšak se složením bez rozhrnutí, zpáteční cesta vozidla. | AG23: SPI
A24: 9 | B24: 182301122R00 | C24: Rozprostření a urovnání ornice ve svahu v souvislé ploše do 500 m2, tloušťka vrstvy přes 100 do 150 mm | D24: m2 | E24: 45.6 | G24: =ROUND(E24*F24,2) -> 0 | I24: =ROUND(E24*H24,2) -> 0 | K24: =ROUND(E24*J24,2) -> 0 | L24: 21 | M24: =G24*(1+L24/100) -> 0 | N24: 0 | O24: =ROUND(E24*N24,2) -> 0 | P24: 0 | Q24: =ROUND(E24*P24,2) -> 0 | R24: 800-1 | S24: RTS 25/ II | T24: RTS 23/ I | U24: 0.263 | V24: =ROUND(E24*U24,2) -> 11.99 | X24: Práce | Y24: Běžná | AG24: POL1_
C25: s případným nutným přemístěním hromad nebo dočasných skládek na místo potřeby ze vzdálenosti do 30 m, ve svahu sklonu přes 1 : 5, | AG25: SPI | BA25: =C25 -> s případným nutným přemístěním hromad nebo dočasných skládek na místo potřeby ze vzdálenosti do 30 m, ve svahu sklonu přes 1 : 5,
A26: 10 | B26: 180402112R00 | C26: Založení trávníku parkový trávník, výsevem, na svahu přes 1:5 do 1:2 | D26: m2 | E26: 45.6 | G26: =ROUND(E26*F26,2) -> 0 | I26: =ROUND(E26*H26,2) -> 0 | K26: =ROUND(E26*J26,2) -> 0 | L26: 21 | M26: =G26*(1+L26/100) -> 0 | N26: 0 | O26: =ROUND(E26*N26,2) -> 0 | P26: 0 | Q26: =ROUND(E26*P26,2) -> 0 | R26: 823-1 | S26: RTS 25/ II | T26: RTS 23/ I | U26: 0.097 | V26: =ROUND(E26*U26,2) -> 4.42 | X26: Práce | Y26: Běžná | AG26: POL1_
C27: na půdě předem připravené s pokosením, naložením, odvozem odpadu do 20 km a se složením, | AG27: SPI
A28: 11 | B28: 00572400R | C28: směs travní parková, pro běžnou zátěž | D28: kg | E28: 2 | G28: =ROUND(E28*F28,2) -> 0 | I28: =ROUND(E28*H28,2) -> 0 | K28: =ROUND(E28*J28,2) -> 0 | L28: 21 | M28: =G28*(1+L28/100) -> 0 | N28: 0.001 | O28: =ROUND(E28*N28,2) -> 0 | P28: 0 | Q28: =ROUND(E28*P28,2) -> 0 | R28: SPCM | S28: RTS 25/ II | T28: RTS 23/ I | U28: 0 | V28: =ROUND(E28*U28,2) -> 0 | X28: Specifikace | Y28: Běžná | AG28: POL3_
A29: Díl: | B29: 28 | C29: Zpevňování hornin a konstrukcí | G29: =SUMIF(AG30:AG31,"<>NOR",G30:G31) -> 0 | I29: =SUM(I30:I31) -> 0 | K29: =SUM(K30:K31) -> 0 | M29: =SUM(M30:M31) -> 0 | O29: =SUM(O30:O31) -> 0.07 | Q29: =SUM(Q30:Q31) -> 0 | V29: =SUM(V30:V31) -> 7.35 | AG29: DIL
A30: 12 | B30: 289971211R00 | C30: Zřízení vrstvy z geotextilie na upraveném povrchu sklon do 1:5, šířka od 0 do 3 m | D30: m2 | E30: 167 | G30: =ROUND(E30*F30,2) -> 0 | I30: =ROUND(E30*H30,2) -> 0 | K30: =ROUND(E30*J30,2) -> 0 | L30: 21 | M30: =G30*(1+L30/100) -> 0 | N30: 3e-05 | O30: =ROUND(E30*N30,2) -> 0.01 | P30: 0 | Q30: =ROUND(E30*P30,2) -> 0 | R30: 800-2 | S30: RTS 25/ II | T30: RTS 23/ I | U30: 0.044 | V30: =ROUND(E30*U30,2) -> 7.35 | X30: Práce | Y30: Běžná | AG30: POL1_
A31: 13 | B31: 69366055R | C31: geotextilie PP; funkce drenážní, separační, výztužná, filtrační; plošná hmotnost 300 g/m2; tl. při 2 kPa 3,90 mm | D31: m2 | E31: 183.7 | G31: =ROUND(E31*F31,2) -> 0 | I31: =ROUND(E31*H31,2) -> 0 | K31: =ROUND(E31*J31,2) -> 0 | L31: 21 | M31: =G31*(1+L31/100) -> 0 | N31: 0.0003 | O31: =ROUND(E31*N31,2) -> 0.06 | P31: 0 | Q31: =ROUND(E31*P31,2) -> 0 | R31: SPCM | S31: RTS 25/ II | T31: RTS 23/ I | U31: 0 | V31: =ROUND(E31*U31,2) -> 0 | X31: Specifikace | Y31: Běžná | AG31: POL3_
A32: Díl: | B32: 56 | C32: Podkladní vrstvy komunikací a zpevněných ploch | G32: =SUMIF(AG33:AG34,"<>NOR",G33:G34) -> 0 | I32: =SUM(I33:I34) -> 0 | K32: =SUM(K33:K34) -> 0 | M32: =SUM(M33:M34) -> 0 | O32: =SUM(O33:O34) -> 199.9 | Q32: =SUM(Q33:Q34) -> 0 | V32: =SUM(V33:V34) -> 13.52 | AG32: DIL
A33: 14 | B33: 564851111RT4 | C33: Podklad ze štěrkodrti s rozprostřením a zhutněním frakce 0-63 mm, tloušťka po zhutnění 150 mm | D33: m2 | E33: 334 | G33: =ROUND(E33*F33,2) -> 0 | I33: =ROUND(E33*H33,2) -> 0 | K33: =ROUND(E33*J33,2) -> 0 | L33: 21 | M33: =G33*(1+L33/100) -> 0 | N33: 0.378 | O33: =ROUND(E33*N33,2) -> 126.25 | P33: 0 | Q33: =ROUND(E33*P33,2) -> 0 | R33: 822-1 | S33: RTS 25/ II | T33: RTS 23/ I | U33: 0.026 | V33: =ROUND(E33*U33,2) -> 8.68 | X33: Práce | Y33: Běžná | AG33: POL1_
A34: 15 | B34: 564861111RT2 | C34: Podklad ze štěrkodrti s rozprostřením a zhutněním frakce 0-32 mm, tloušťka po zhutnění 200 mm | D34: m2 | E34: 167 | G34: =ROUND(E34*F34,2) -> 0 | I34: =ROUND(E34*H34,2) -> 0 | K34: =ROUND(E34*J34,2) -> 0 | L34: 21 | M34: =G34*(1+L34/100) -> 0 | N34: 0.441 | O34: =ROUND(E34*N34,2) -> 73.65 | P34: 0 | Q34: =ROUND(E34*P34,2) -> 0 | R34: 822-1 | S34: RTS 25/ II | T34: RTS 23/ I | U34: 0.029 | V34: =ROUND(E34*U34,2) -> 4.84 | X34: Práce | Y34: Běžná | AG34: POL1_
A35: Díl: | B35: 99 | C35: Staveništní přesun hmot | G35: =SUMIF(AG36:AG36,"<>NOR",G36:G36) -> 0 | I35: =SUM(I36:I36) -> 0 | K35: =SUM(K36:K36) -> 0 | M35: =SUM(M36:M36) -> 0 | O35: =SUM(O36:O36) -> 0 | Q35: =SUM(Q36:Q36) -> 0 | V35: =SUM(V36:V36) -> 15 | AG35: DIL
A36: 16 | B36: 998222012R00 | C36: Přesun hmot, plochy pro tělovýchovu zpevněná plocha z kameniva, | D36: t | E36: 199.96112 | G36: =ROUND(E36*F36,2) -> 0 | I36: =ROUND(E36*H36,2) -> 0 | K36: =ROUND(E36*J36,2) -> 0 | L36: 21 | M36: =G36*(1+L36/100) -> 0 | N36: 0 | O36: =ROUND(E36*N36,2) -> 0 | P36: 0 | Q36: =ROUND(E36*P36,2) -> 0 | R36: 823-1 | S36: RTS 25/ II | T36: RTS 23/ I | U36: 0.075 | V36: =ROUND(E36*U36,2) -> 15 | X36: Přesun hmot | Y36: Běžná | AG36: POL7_
A37: Díl: | B37: VN | C37: Vedlejší náklady | G37: =SUMIF(AG38:AG39,"<>NOR",G38:G39) -> 0 | I37: =SUM(I38:I39) -> 0 | K37: =SUM(K38:K39) -> 0 | M37: =SUM(M38:M39) -> 0 | O37: =SUM(O38:O39) -> 0 | Q37: =SUM(Q38:Q39) -> 0 | V37: =SUM(V38:V39) -> 0 | AG37: DIL
A38: 17 | B38: 005121 R | C38: Zařízení staveniště | D38: kus | E38: 1 | G38: =ROUND(E38*F38,2) -> 0 | I38: =ROUND(E38*H38,2) -> 0 | K38: =ROUND(E38*J38,2) -> 0 | L38: 21 | M38: =G38*(1+L38/100) -> 0 | N38: 0 | O38: =ROUND(E38*N38,2) -> 0 | P38: 0 | Q38: =ROUND(E38*P38,2) -> 0 | S38: RTS 25/ II | T38: Indiv | U38: 0 | V38: =ROUND(E38*U38,2) -> 0 | X38: VRN | Y38: Běžná | AG38: POL99_2
A39: 18 | B39: 0054T | C39: Kompletační činnost | D39: kus | E39: 1 | G39: =ROUND(E39*F39,2) -> 0 | I39: =ROUND(E39*H39,2) -> 0 | K39: =ROUND(E39*J39,2) -> 0 | L39: 21 | M39: =G39*(1+L39/100) -> 0 | N39: 0 | O39: =ROUND(E39*N39,2) -> 0 | P39: 0 | Q39: =ROUND(E39*P39,2) -> 0 | S39: Vlastní | T39: Indiv | U39: 0 | V39: =ROUND(E39*U39,2) -> 0 | X39: VRN | Y39: Běžná | AG39: POL99_2
A40: Díl: | B40: ON | C40: Ostatní náklady | G40: =SUMIF(AG41:AG44,"<>NOR",G41:G44) -> 0 | I40: =SUM(I41:I44) -> 0 | K40: =SUM(K41:K44) -> 0 | M40: =SUM(M41:M44) -> 0 | O40: =SUM(O41:O44) -> 0 | Q40: =SUM(Q41:Q44) -> 0 | V40: =SUM(V41:V44) -> 0 | AG40: DIL
A41: 19 | B41: ON01 | C41: Vytýčení podzemních sítí a vedení | D41: kus | E41: 1 | G41: =ROUND(E41*F41,2) -> 0 | I41: =ROUND(E41*H41,2) -> 0 | K41: =ROUND(E41*J41,2) -> 0 | L41: 21 | M41: =G41*(1+L41/100) -> 0 | N41: 0 | O41: =ROUND(E41*N41,2) -> 0 | P41: 0 | Q41: =ROUND(E41*P41,2) -> 0 | S41: Vlastní | T41: Kalkul | U41: 0 | V41: =ROUND(E41*U41,2) -> 0 | X41: VRN | Y41: Běžná | AG41: POL99_0
A42: 20 | B42: ON02 | C42: Archeologie | D42: kus | E42: 1 | G42: =ROUND(E42*F42,2) -> 0 | I42: =ROUND(E42*H42,2) -> 0 | K42: =ROUND(E42*J42,2) -> 0 | L42: 21 | M42: =G42*(1+L42/100) -> 0 | N42: 0 | O42: =ROUND(E42*N42,2) -> 0 | P42: 0 | Q42: =ROUND(E42*P42,2) -> 0 | S42: Vlastní | T42: Kalkul | U42: 0 | V42: =ROUND(E42*U42,2) -> 0 | X42: VRN | Y42: Běžná | AG42: POL99_0
...

Sheet 05 01 Lávka
A1: Položkový soupis prací a dodávek | AG1: #TypZaznamu#
A2: S: | B2: 87277 - 23 | C2: Novostavba chodníku a stav. úpravy části stáv. chodníku s příslušenstvím v obci Údrnice | AG2: STA
A3: O: | B3: 05 | C3: Lávka | AC3: STA | AG3: OBJ
A4: R: | B4: 01 | C4: Lávka | AG4: ROZ
A6: P.č. | B6: Číslo položky | C6: Název položky | D6: MJ | E6: Množství | F6: Cena / MJ | G6: Celkem | H6: Dodávka | I6: Dodávka celk. | J6: Montáž | K6: Montáž celk. | L6: DPH | M6: Cena s DPH | N6: Hmotnost / MJ | O6: Hmotnost celk.(t) | P6: Dem. hmotnost / MJ | Q6: Dem. hmotnost celk.(t) | R6: Ceník | S6: Cen. soustava / platnost | T6: Cenová úroveň | U6: Nhod / MJ | V6: Nhod celk. | W6: Dodavatel | X6: Typ položky | Y6: Stav položky
A8: Díl: | B8: 1 | C8: Zemní práce | G8: =SUMIF(AG9:AG28,"<>NOR",G9:G28) -> 0 | I8: =SUM(I9:I28) -> 0 | K8: =SUM(K9:K28) -> 0 | M8: =SUM(M9:M28) -> 0 | O8: =SUM(O9:O28) -> 0 | Q8: =SUM(Q9:Q28) -> 0 | V8: =SUM(V9:V28) -> 8.76 | AG8: DIL
A9: 1 | B9: 121101100R00 | C9: Sejmutí ornice s přemístěním na vzdálenost do 50 m | D9: m3 | E9: 5.214 | G9: =ROUND(E9*F9,2) -> 0 | I9: =ROUND(E9*H9,2) -> 0 | K9: =ROUND(E9*J9,2) -> 0 | L9: 21 | M9: =G9*(1+L9/100) -> 0 | N9: 0 | O9: =ROUND(E9*N9,2) -> 0 | P9: 0 | Q9: =ROUND(E9*P9,2) -> 0 | R9: 800-1 | S9: RTS 25/ II | T9: RTS 23/ I | U9: 0.0952 | V9: =ROUND(E9*U9,2) -> 0.5 | X9: Práce | Y9: Běžná | AG9: POL1_
C10: nebo lesní půdy, s vodorovným přemístěním na hromady v místě upotřebení nebo na dočasné či trvalé skládky se složením | AG10: SPI | BA10: =C10 -> nebo lesní půdy, s vodorovným přemístěním na hromady v místě upotřebení nebo na dočasné či trvalé skládky se složením
