Workbook
Name CelkemDPHVypocet: Stavba!$H$57
Name CenaCelkem: Stavba!$G$29
Name CenaCelkemBezDPH: Stavba!$G$28
Name CenaCelkemVypocet: Stavba!$I$57
Name cisloobjektu: Stavba!$D$3
Name CisloRozpoctu: '[1]Krycí list'!$C$2
Name CisloStavby: Stavba!$D$2
Name cislostavby: '[1]Krycí list'!$A$7
Name CisloStavebnihoRozpoctu: Stavba!$D$4
Name dadresa: Stavba!$D$12:$G$12
Name DIČ: Stavba!$I$12
Name dmisto: Stavba!$E$13:$G$13
Name DPHSni: Stavba!$G$24
Name DPHZakl: Stavba!$G$26
Name dpsc: Stavba!$D$13
Name IČO: Stavba!$I$11
Name Mena: Stavba!$J$29
Name MistoStavby: Stavba!$D$4
Name nazevobjektu: Stavba!$E$3
Name NazevRozpoctu: '[1]Krycí list'!$D$2
Name NazevStavby: Stavba!$E$2
Name nazevstavby: '[1]Krycí list'!$C$7
Name NazevStavebnihoRozpoctu: Stavba!$E$4
Name oadresa: Stavba!$D$6
Name Objednatel: Stavba!$D$5
Name Objekt: Stavba!$B$38
Name odic: Stavba!$I$6
Name oico: Stavba!$I$5
Name omisto: Stavba!$E$7
Name onazev: Stavba!$D$6
Name opsc: Stavba!$D$7
Name padresa: Stavba!$D$9
Name pdic: Stavba!$I$9
Name pico: Stavba!$I$8
Name pmisto: Stavba!$E$10
Name PocetMJ: #REF!
Name PoptavkaID: Stavba!$A$1
Name pPSC: Stavba!$D$10
Name Projektant: Stavba!$D$8
Name SazbaDPH1: Stavba!$E$23
Name SazbaDPH1: '[1]Krycí list'!$C$30
Name SazbaDPH2: Stavba!$E$25
Name SazbaDPH2: '[1]Krycí list'!$C$32
Name SloupecCC: #REF!
Name SloupecCisloPol: #REF!
Name SloupecJC: #REF!
Name SloupecMJ: #REF!
Name SloupecMnozstvi: #REF!
Name SloupecNazPol: #REF!
Name SloupecPC: #REF!
Name Vypracoval: Stavba!$D$14
Name ZakladDPHSni: Stavba!$G$23
Name ZakladDPHSniVypocet: Stavba!$F$57
Name ZakladDPHZakl: Stavba!$G$25
Name ZakladDPHZaklVypocet: Stavba!$G$57
Name ZaObjednatele: Stavba!$G$34
Name Zaokrouhleni: Stavba!$G$27
Name ZaZhotovitele: Stavba!$D$34
Name Zhotovitel: Stavba!$D$11:$G$11

Sheet Stavba
A1: #RTSROZP# | B1: Soupis stavebních prací, dodávek a služeb
B2: Stavba: | D2: 87277 - 23 | E2: Novostavba chodníku a stav. úpravy části stáv. chodníku s příslušenstvím v obci Údrnice
B5: Zadavatel | D5: Obec Údrnice | H5: IČO: | I5: 00170551
D6: Údrnice 79 | H6: DIČ:
D7: 50723 | E7: Libáň
B8: Projektant: | D8: Janča Tomáš ing. | H8: IČO: | I8: 43518397
D9: Foersterova 641 | H9: DIČ: | I9: CZ6412040734
D10: 50601 | E10: Jičín
B11: Zhotovitel: | H11: IČO:
H12: DIČ:
B14: Vypracoval:
B15: Rozpis ceny | I15: Celkem
A16: HSV | B16: HSV | I16: =SUMIF(F81:F102,A16,I81:I102)+SUMIF(F81:F102,"PSU",I81:I102) -> 0
A17: PSV | B17: PSV | I17: =SUMIF(F81:F102,A17,I81:I102) -> 0
A18: MON | B18: MON | I18: =SUMIF(F81:F102,A18,I81:I102) -> 0
A19: VN | B19: Vedlejší náklady | I19: =SUMIF(F81:F102,A19,I81:I102) -> 0
A20: ON | B20: Ostatní náklady | I20: =SUMIF(F81:F102,A20,I81:I102) -> 0
B21: Celkem | I21: =SUM(I16:J20) -> 0
B22: Rekapitulace daní
A23: =ZakladDPHSni*SazbaDPH1/100 -> 0 | B23: Základ pro sníženou DPH | E23: 15 | F23: % | G23: =ZakladDPHSniVypocet -> 0 | J23: =Mena -> CZK
A24: =(A23-INT(A23))*100 -> 0 | B24: Snížená DPH | E24: =SazbaDPH1 -> 15 | F24: % | G24: =A23 -> 0 | J24: =Mena -> CZK
A25: =ZakladDPHZakl*SazbaDPH2/100 -> 0 | B25: Základ pro základní DPH | E25: 21 | F25: % | G25: =ZakladDPHZaklVypocet -> 0 | J25: =Mena -> CZK
A26: =(A25-INT(A25))*100 -> 0 | B26: Základní DPH | E26: =SazbaDPH2 -> 21 | F26: % | G26: =A25 -> 0 | J26: =Mena -> CZK
A27: =ZakladDPHSni+DPHSni+ZakladDPHZakl+DPHZakl -> 0 | B27: Zaokrouhlení | G27: =CenaCelkem-(ZakladDPHSni+DPHSni+ZakladDPHZakl+DPHZakl) -> 0 | J27: =Mena -> CZK
B28: Cena celkem bez DPH | G28: =ZakladDPHSniVypocet+ZakladDPHZaklVypocet -> 0 | J28: =Mena -> CZK
A29: =(A27-INT(A27))*100 -> 0 | B29: Cena celkem s DPH | G29: =A27 -> 0 | J29: CZK
C32: v | F32: dne
D35: Za zhotovitele | H35: Za objednatele
B37: Rekapitulace dílčích částí
A38: #CASTI>> | B38: Číslo | C38: Název | F38: =B23 -> Základ pro sníženou DPH | G38: =B25 -> Základ pro základní DPH | H38: DPH celkem | I38: Cena celkem | J38: %
A39: 1 | B39: Stavba | F39: ='01 01 Úpravy stáv. chodníku'!AE151+'02 01 Novostavba chodníku'!AE137+'03 01 Vjezd k bytovce'!AE63+'04 01 Vjezd přes potok'!AE46+'05 01 Lávka'!AE73+'06 01 Most'!AE66+'07 01 Úprava koryta potoka'!AE48+'401 01 VO - II.část'!AE72 -> 0 | G39: ='01 01 Úpravy stáv. chodníku'!AF151+'02 01 Novostavba chodníku'!AF137+'03 01 Vjezd k bytovce'!AF63+'04 01 Vjezd přes potok'!AF46+'05 01 Lávka'!AF73+'06 01 Most'!AF66+'07 01 Úprava koryta potoka'!AF48+'401 01 VO - II.část'!AF72 -> 0 | H39: =(F39*SazbaDPH1/100)+(G39*SazbaDPH2/100) -> 0 | I39: =F39+G39+H39 -> 0 | J39: =IF(CenaCelkemVypocet=0,"",I39/CenaCelkemVypocet*100)
A40: 2 | C40: Stavební objekt | H40: =(F40*SazbaDPH1/100)+(G40*SazbaDPH2/100) -> 0
A41: 2 | B41: 01 | C41: Stavební úpravy části stávajícího chodníku | F41: ='01 01 Úpravy stáv. chodníku'!AE151 -> 0 | G41: ='01 01 Úpravy stáv. chodníku'!AF151 -> 0 | H41: =(F41*SazbaDPH1/100)+(G41*SazbaDPH2/100) -> 0 | I41: =F41+G41+H41 -> 0 | J41: =IF(CenaCelkemVypocet=0,"",I41/CenaCelkemVypocet*100)
A42: 3 | B42: 01 | C42: Stavební úpravy části stávajícího chodníku | F42: ='01 01 Úpravy stáv. chodníku'!AE151 -> 0 | G42: ='01 01 Úpravy stáv. chodníku'!AF151 -> 0 | H42: =(F42*SazbaDPH1/100)+(G42*SazbaDPH2/100) -> 0 | I42: =F42+G42+H42 -> 0 | J42: =IF(CenaCelkemVypocet=0,"",I42/CenaCelkemVypocet*100)
A43: 2 | B43: 02 | C43: Novostavba chodníku | F43: ='02 01 Novostavba chodníku'!AE137 -> 0 | G43: ='02 01 Novostavba chodníku'!AF137 -> 0 | H43: =(F43*SazbaDPH1/100)+(G43*SazbaDPH2/100) -> 0 | I43: =F43+G43+H43 -> 0 | J43: =IF(CenaCelkemVypocet=0,"",I43/CenaCelkemVypocet*100)
A44: 3 | B44: 01 | C44: Novostavba chodníku | F44: ='02 01 Novostavba chodníku'!AE137 -> 0 | G44: ='02 01 Novostavba chodníku'!AF137 -> 0 | H44: =(F44*SazbaDPH1/100)+(G44*SazbaDPH2/100) -> 0 | I44: =F44+G44+H44 -> 0 | J44: =IF(CenaCelkemVypocet=0,"",I44/CenaCelkemVypocet*100)
A45: 2 | B45: 03 | C45: Vjezd k bytovce | F45: ='03 01 Vjezd k bytovce'!AE63 -> 0 | G45: ='03 01 Vjezd k bytovce'!AF63 -> 0 | H45: =(F45*SazbaDPH1/100)+(G45*SazbaDPH2/100) -> 0 | I45: =F45+G45+H45 -> 0 | J45: =IF(CenaCelkemVypocet=0,"",I45/CenaCelkemVypocet*100)
A46: 3 | B46: 01 | C46: Vjezd k bytovce | F46: ='03 01 Vjezd k bytovce'!AE63 -> 0 | G46: ='03 01 Vjezd k bytovce'!AF63 -> 0 | H46: =(F46*SazbaDPH1/100)+(G46*SazbaDPH2/100) -> 0 | I46: =F46+G46+H46 -> 0 | J46: =IF(CenaCelkemVypocet=0,"",I46/CenaCelkemVypocet*100)
A47: 2 | B47: 04 | C47: Vjezd přes potok | F47: ='04 01 Vjezd přes potok'!AE46 -> 0 | G47: ='04 01 Vjezd přes potok'!AF46 -> 0 | H47: =(F47*SazbaDPH1/100)+(G47*SazbaDPH2/100) -> 0 | I47: =F47+G47+H47 -> 0 | J47: =IF(CenaCelkemVypocet=0,"",I47/CenaCelkemVypocet*100)
A48: 3 | B48: 01 | C48: Vjezd přes potok | F48: ='04 01 Vjezd přes potok'!AE46 -> 0 | G48: ='04 01 Vjezd přes potok'!AF46 -> 0 | H48: =(F48*SazbaDPH1/100)+(G48*SazbaDPH2/100) -> 0 | I48: =F48+G48+H48 -> 0 | J48: =IF(CenaCelkemVypocet=0,"",I48/CenaCelkemVypocet*100)
A49: 2 | B49: 05 | C49: Lávka | F49: ='05 01 Lávka'!AE73 -> 0 | G49: ='05 01 Lávka'!AF73 -> 0 | H49: =(F49*SazbaDPH1/100)+(G49*SazbaDPH2/100) -> 0 | I49: =F49+G49+H49 -> 0 | J49: =IF(CenaCelkemVypocet=0,"",I49/CenaCelkemVypocet*100)
A50: 3 | B50: 01 | C50: Lávka | F50: ='05 01 Lávka'!AE73 -> 0 | G50: ='05 01 Lávka'!AF73 -> 0 | H50: =(F50*SazbaDPH1/100)+(G50*SazbaDPH2/100) -> 0 | I50: =F50+G50+H50 -> 0 | J50: =IF(CenaCelkemVypocet=0,"",I50/CenaCelkemVypocet*100)
A51: 2 | B51: 06 | C51: Most | F51: ='06 01 Most'!AE66 -> 0 | G51: ='06 01 Most'!AF66 -> 0 | H51: =(F51*SazbaDPH1/100)+(G51*SazbaDPH2/100) -> 0 | I51: =F51+G51+H51 -> 0 | J51: =IF(CenaCelkemVypocet=0,"",I51/CenaCelkemVypocet*100)
A52: 3 | B52: 01 | C52: Most | F52: ='06 01 Most'!AE66 -> 0 | G52: ='06 01 Most'!AF66 -> 0 | H52: =(F52*SazbaDPH1/100)+(G52*SazbaDPH2/100) -> 0 | I52: =F52+G52+H52 -> 0 | J52: =IF(CenaCelkemVypocet=0,"",I52/CenaCelkemVypocet*100)
A53: 2 | B53: 07 | C53: Úprava koryta potoka | F53: ='07 01 Úprava koryta potoka'!AE48 -> 0 | G53: ='07 01 Úprava koryta potoka'!AF48 -> 0 | H53: =(F53*SazbaDPH1/100)+(G53*SazbaDPH2/100) -> 0 | I53: =F53+G53+H53 -> 0 | J53: =IF(CenaCelkemVypocet=0,"",I53/CenaCelkemVypocet*100)
A54: 3 | B54: 01 | C54: Úprava koryta potoka | F54: ='07 01 Úprava koryta potoka'!AE48 -> 0 | G54: ='07 01 Úprava koryta potoka'!AF48 -> 0 | H54: =(F54*SazbaDPH1/100)+(G54*SazbaDPH2/100) -> 0 | I54: =F54+G54+H54 -> 0 | J54: =IF(CenaCelkemVypocet=0,"",I54/CenaCelkemVypocet*100)
A55: 2 | B55: 401 | C55: Veřejné osvětlení | F55: ='401 01 VO - II.část'!AE72 -> 0 | G55: ='401 01 VO - II.část'!AF72 -> 0 | H55: =(F55*SazbaDPH1/100)+(G55*SazbaDPH2/100) -> 0 | I55: =F55+G55+H55 -> 0 | J55: =IF(CenaCelkemVypocet=0,"",I55/CenaCelkemVypocet*100)
A56: 3 | B56: 01 | C56: Veřejné osvětlení - II. část | F56: ='401 01 VO - II.část'!AE72 -> 0 | G56: ='401 01 VO - II.část'!AF72 -> 0 | H56: =(F56*SazbaDPH1/100)+(G56*SazbaDPH2/100) -> 0 | I56: =F56+G56+H56 -> 0 | J56: =IF(CenaCelkemVypocet=0,"",I56/CenaCelkemVypocet*100)
B57: Celkem za stavbu | F57: =SUMIF(A39:A56,"=1",F39:F56) -> 0 | G57: =SUMIF(A39:A56,"=1",G39:G56) -> 0 | H57: =SUMIF(A39:A56,"=1",H39:H56) -> 0 | I57: =SUMIF(A39:A56,"=1",I39:I56) -> 0 | J57: =SUMIF(A39:A56,"=1",J39:J56) -> 0
A59: #POPS | B59: Popis stavby: 87277 - 23 - Novostavba chodníku a stav. úpravy části stáv. chodníku s příslušenstvím v obci Údrnice
A60: #POPO | B60: Popis objektu: 01 - Stavební úpravy části stávajícího chodníku
A61: #POPR | B61: Popis rozpočtu: 01 - Stavební úpravy části stávajícího chodníku
A62: #POPO | B62: Popis objektu: 02 - Novostavba chodníku
A63: #POPR | B63: Popis rozpočtu: 01 - Novostavba chodníku
A64: #POPO | B64: Popis objektu: 05 - Lávka
A65: #POPR | B65: Popis rozpočtu: 01 - Lávka
A66: #POPO | B66: Popis objektu: 03 - Vjezd k bytovce
A67: #POPR | B67: Popis rozpočtu: 01 - Vjezd k bytovce
A68: #POPO | B68: Popis objektu: 04 - Vjezd přes potok
A69: #POPR | B69: Popis rozpočtu: 01 - Vjezd přes potok
A70: #POPO | B70: Popis objektu: 06 - Most
... A75: #POPR | B75: Popis rozpočtu: 01 - Veřejné osvětlení - II. část
B78: Rekapitulace dílů
B80: Číslo | C80: Název | F80: Typ dílu | I80: Celkem | J80: %
B81: 1 | C81: Zemní práce | F81: HSV | I81: ='01 01 Úpravy stáv. chodníku'!G8+'02 01 Novostavba chodníku'!G8+'03 01 Vjezd k bytovce'!G8+'04 01 Vjezd přes potok'!G8+'05 01 Lávka'!G8+'06 01 Most'!G8+'07 01 Úprava koryta potoka'!G8 -> 0 | J81: =IF(I103=0,"",I81/I103*100)
B82: 18 | C82: Povrchové úpravy terénu | F82: HSV | I82: ='01 01 Úpravy stáv. chodníku'!G51+'02 01 Novostavba chodníku'!G39+'04 01 Vjezd přes potok'!G20+'07 01 Úprava koryta potoka'!G25 -> 0 | J82: =IF(I103=0,"",I82/I103*100)
B83: 21 | C83: Úprava podloží a základ.spáry | F83: HSV | I83: ='01 01 Úpravy stáv. chodníku'!G60 -> 0 | J83: =IF(I103=0,"",I83/I103*100)
B84: 27 | C84: Základy | F84: HSV | I84: ='01 01 Úpravy stáv. chodníku'!G68+'02 01 Novostavba chodníku'!G53+'05 01 Lávka'!G29+'06 01 Most'!G33 -> 0 | J84: =IF(I103=0,"",I84/I103*100)
B85: 28 | C85: Zpevňování hornin a konstrukcí | F85: HSV | I85: ='01 01 Úpravy stáv. chodníku'!G76+'02 01 Novostavba chodníku'!G59+'03 01 Vjezd k bytovce'!G33+'04 01 Vjezd přes potok'!G29 -> 0 | J85: =IF(I103=0,"",I85/I103*100)
B86: 3 | C86: Svislé a kompletní konstrukce | F86: HSV | I86: ='01 01 Úpravy stáv. chodníku'!G79 -> 0 | J86: =IF(I103=0,"",I86/I103*100)
B87: 4 | C87: Vodorovné konstrukce | F87: HSV | I87: ='05 01 Lávka'!G38+'06 01 Most'!G42 -> 0 | J87: =IF(I103=0,"",I87/I103*100)
B88: 56 | C88: Podkladní vrstvy komunikací a zpevněných ploch | F88: HSV | I88: ='01 01 Úpravy stáv. chodníku'!G90+'02 01 Novostavba chodníku'!G62+'03 01 Vjezd k bytovce'!G36+'04 01 Vjezd přes potok'!G32 -> 0 | J88: =IF(I103=0,"",I88/I103*100)
B89: 57 | C89: Kryty štěrkových a živičných komunikací | F89: HSV | I89: ='01 01 Úpravy stáv. chodníku'!G100+'02 01 Novostavba chodníku'!G72+'03 01 Vjezd k bytovce'!G39 -> 0 | J89: =IF(I103=0,"",I89/I103*100)
B90: 59 | C90: Dlažby a předlažby komunikací | F90: HSV | I90: ='01 01 Úpravy stáv. chodníku'!G106+'02 01 Novostavba chodníku'!G78+'02 01 Novostavba chodníku'!G108+'05 01 Lávka'!G50+'06 01 Most'!G44+'07 01 Úprava koryta potoka'!G34 -> 0 | J90: =IF(I103=0,"",I90/I103*100)
B91: 8 | C91: Trubní vedení | F91: HSV | I91: ='02 01 Novostavba chodníku'!G83 -> 0 | J91: =IF(I103=0,"",I91/I103*100)
B92: 9 | C92: Ostatní konstrukce, bourání | F92: HSV | I92: ='02 01 Novostavba chodníku'!G101 -> 0 | J92: =IF(I103=0,"",I92/I103*100)
B93: 91 | C93: Doplňující práce na komunikaci | F93: HSV | I93: ='01 01 Úpravy stáv. chodníku'!G112+'02 01 Novostavba chodníku'!G110+'03 01 Vjezd k bytovce'!G45 -> 0 | J93: =IF(I103=0,"",I93/I103*100)
B94: 96 | C94: Bourání konstrukcí | F94: HSV | I94: ='01 01 Úpravy stáv. chodníku'!G125+'05 01 Lávka'!G55 -> 0 | J94: =IF(I103=0,"",I94/I103*100)
B95: 99 | C95: Staveništní přesun hmot | F95: HSV | I95: ='01 01 Úpravy stáv. chodníku'!G131+'02 01 Novostavba chodníku'!G124+'03 01 Vjezd k bytovce'!G51+'04 01 Vjezd přes potok'!G35+'05 01 Lávka'!G57+'06 01 Most'!G50 -> 0 | J95: =IF(I103=0,"",I95/I103*100)
B96: 767 | C96: Konstrukce zámečnické | F96: PSV | I96: ='01 01 Úpravy stáv. chodníku'!G134+'05 01 Lávka'!G60+'06 01 Most'!G53 -> 0 | J96: =IF(I103=0,"",I96/I103*100)
B97: M01 | C97: Nosný materiál | F97: MON | I97: ='401 01 VO - II.část'!G8 -> 0 | J97: =IF(I103=0,"",I97/I103*100)
B98: M21 | C98: Elektromontáže | F98: MON | I98: ='401 01 VO - II.část'!G24 -> 0 | J98: =IF(I103=0,"",I98/I103*100)
B99: M46 | C99: Zemní práce při montážích | F99: MON | I99: ='401 01 VO - II.část'!G41 -> 0 | J99: =IF(I103=0,"",I99/I103*100)
B100: M99 | C100: Ostatní práce "M" | F100: MON | I100: ='401 01 VO - II.část'!G57 -> 0 | J100: =IF(I103=0,"",I100/I103*100)
B101: VN | C101: Vedlejší náklady | F101: VN | I101: ='01 01 Úpravy stáv. chodníku'!G141+'02 01 Novostavba chodníku'!G127+'03 01 Vjezd k bytovce'!G54+'04 01 Vjezd přes potok'!G37+'05 01 Lávka'!G64+'06 01 Most'!G57+'07 01 Úprava koryta potoka'!G39+'401 01 VO - II.část'!G69 -> 0 | J101: =IF(I103=0,"",I101/I103*100)
B102: ON | C102: Ostatní náklady | F102: ON | I102: ='01 01 Úpravy stáv. chodníku'!G144+'02 01 Novostavba chodníku'!G130+'03 01 Vjezd k bytovce'!G57+'04 01 Vjezd přes potok'!G40+'05 01 Lávka'!G67+'06 01 Most'!G60+'07 01 Úprava koryta potoka'!G42 -> 0 | J102: =IF(I103=0,"",I102/I103*100)
B103: Cena celkem | I103: =SUM(I81:I102) -> 0 | J103: =SUM(J81:J102) -> 0

Sheet VzorPolozky
A1: Položkový rozpočet
A2: S:
A3: O:
A4: R:

Sheet 01 01 Úpravy stáv. chodníku
A1: Položkový soupis prací a dodávek | AG1: #TypZaznamu#
A2: S: | B2: 87277 - 23 | C2: Novostavba chodníku a stav. úpravy části stáv. chodníku s příslušenstvím v obci Údrnice | AG2: STA
A3: O: | B3: 01 | C3: Stavební úpravy části stávajícího chodníku | AC3: STA | AG3: OBJ
A4: R: | B4: 01 | C4: Stavební úpravy části stávajícího chodníku | AG4: ROZ
A6: P.č. | B6: Číslo položky | C6: Název položky | D6: MJ | E6: Množství | F6: Cena / MJ | G6: Celkem | H6: Dodávka | I6: Dodávka celk. | J6: Montáž | K6: Montáž celk. | L6: DPH | M6: Cena s DPH | N6: Hmotnost / MJ | O6: Hmotnost celk.(t) | P6: Dem. hmotnost / MJ | Q6: Dem. hmotnost celk.(t) | R6: Ceník | S6: Cen. soustava / platnost | T6: Cenová úroveň | U6: Nhod / MJ | V6: Nhod celk. | W6: Dodavatel | X6: Typ položky | Y6: Stav položky
A8: Díl: | B8: 1 | C8: Zemní práce | G8: =SUMIF(AG9:AG50,"<>NOR",G9:G50) -> 0 | I8: =SUM(I9:I50) -> 0 | K8: =SUM(K9:K50) -> 0 | M8: =SUM(M9:M50) -> 0 | O8: =SUM(O9:O50) -> 0 | Q8: =SUM(Q9:Q50) -> 149.07 | V8: =SUM(V9:V50) -> 241.84 | AG8: DIL
A9: 1 | B9: 919735112R00 | C9: Řezání stávajících krytů nebo podkladů živičných, hloubky přes 50 do 100 mm | D9: m | E9: 183 | G9: =ROUND(E9*F9,2) -> 0 | I9: =ROUND(E9*H9,2) -> 0 | K9: =ROUND(E9*J9,2) -> 0 | L9: 21 | M9: =G9*(1+L9/100) -> 0 | N9: 0 | O9: =ROUND(E9*N9,2) -> 0 | P9: 0 | Q9: =ROUND(E9*P9,2) -> 0 | R9: 822-1 | S9: RTS 25/ II | T9: RTS 23/ I | U9: 0.037 | V9: =ROUND(E9*U9,2) -> 6.77 | X9: Práce | Y9: Běžná | AG9: POL1_
C10: včetně spotřeby vody | AG10: SPI
A11: 2 | B11: 113108409R00 | C11: Odstranění podkladů nebo krytů živičných, v ploše jednotlivě nad 50 m2, tloušťka vrstvy 90 mm | D11: m2 | E11: 91.1 | G11: =ROUND(E11*F11,2) -> 0 | I11: =ROUND(E11*H11,2) -> 0 | K11: =ROUND(E11*J11,2) -> 0 | L11: 21 | M11: =G11*(1+L11/100) -> 0 | N11: 0 | O11: =ROUND(E11*N11,2) -> 0 | P11: 0.198 | Q11: =ROUND(E11*P11,2) -> 18.04 | R11: 822-1 | S11: RTS 25/ II | T11: RTS 23/ I | U11: 0.0646 | V11: =ROUND(E11*U11,2) -> 5.89 | X11: Práce | Y11: Běžná | AG11: POL1_
A12: 3 | B12: 113106231R00 | C12: Rozebrání vozovek a ploch s jakoukoliv výplní spár v jakékoliv ploše, ze zámkové dlažky, kladených do lože z kameniva | D12: m2 | E12: 243 | G12: =ROUND(E12*F12,2) -> 0 | I12: =ROUND(E12*H12,2) -> 0 | K12: =ROUND(E12*J12,2) -> 0 | L12: 21 | M12: =G12*(1+L12/100) -> 0 | N12: 0 | O12: =ROUND(E12*N12,2) -> 0 | P12: 0.225 | Q12: =ROUND(E12*P12,2) -> 54.68 | R12: 822-1 | S12: RTS 25/ II | T12: RTS 23/ I | U12: 0.142 | V12: =ROUND(E12*U12,2) -> 34.51 | X12: Práce | Y12: Běžná | AG12: POL1_
C13: s přemístěním hmot na skládku na vzdálenost do 3 m nebo s naložením na dopravní prostředek | AG13: SPI
A14: 4 | B14: 113202111R00 | C14: Vytrhání obrub z krajníků nebo obrubníků stojatých | D14: m | E14: 207 | G14: =ROUND(E14*F14,2) -> 0 | I14: =ROUND(E14*H14,2) -> 0 | K14: =ROUND(E14*J14,2) -> 0 | L14: 21 | M14: =G14*(1+L14/100) -> 0 | N14: 0 | O14: =ROUND(E14*N14,2) -> 0 | P14: 0.27 | Q14: =ROUND(E14*P14,2) -> 55.89 | R14: 822-1 | S14: RTS 25/ II | T14: RTS 23/ I | U14: 0.123 | V14: =ROUND(E14*U14,2) -> 25.46 | X14: Práce | Y14: Běžná | AG14: POL1_
C15: s vybouráním lože, s přemístěním hmot na skládku na vzdálenost do 3 m nebo naložením na dopravní prostředek | AG15: SPI | BA15: =C15 -> s vybouráním lože, s přemístěním hmot na skládku na vzdálenost do 3 m nebo naložením na dopravní prostředek
A16: 5 | B16: 113201111R00 | C16: Vytrhání obrub chodníkových ležatých | D16: m | E16: 93 | G16: =ROUND(E16*F16,2) -> 0 | I16: =ROUND(E16*H16,2) -> 0 | K16: =ROUND(E16*J16,2) -> 0 | L16: 21 | M16: =G16*(1+L16/100) -> 0 | N16: 0 | O16: =ROUND(E16*N16,2) -> 0 | P16: 0.22 | Q16: =ROUND(E16*P16,2) -> 20.46 | R16: 822-1 | S16: RTS 25/ II | T16: RTS 23/ I | U16: 0.143 | V16: =ROUND(E16*U16,2) -> 13.3 | X16: Práce | Y16: Běžná | AG16: POL1_
C17: s vybouráním lože, s přemístěním hmot na skládku na vzdálenost do 3 m nebo naložením na dopravní prostředek | AG17: SPI | BA17: =C17 -> s vybouráním lože, s přemístěním hmot na skládku na vzdálenost do 3 m nebo naložením na dopravní prostředek
A18: 6 | B18: 979087212R00 | C18: Nakládání na dopravní prostředky suti | D18: t | E18: 149.0628 | G18: =ROUND(E18*F18,2) -> 0 | I18: =ROUND(E18*H18,2) -> 0 | K18: =ROUND(E18*J18,2) -> 0 | L18: 21 | M18: =G18*(1+L18/100) -> 0 | N18: 0 | O18: =ROUND(E18*N18,2) -> 0 | P18: 0 | Q18: =ROUND(E18*P18,2) -> 0 | R18: 822-1 | S18: RTS 25/ II | T18: RTS 23/ I | U18: 0.099 | V18: =ROUND(E18*U18,2) -> 14.76 | X18: Přesun suti | Y18: Běžná | AG18: POL8_
C19: pro vodorovnou dopravu | AG19: SPI
A20: 7 | B20: 979082213R00 | C20: Vodorovná doprava suti po suchu bez naložení, ale se složením a hrubým urovnáním na vzdálenost do 1 km | D20: t | E20: 149.0628 | G20: =ROUND(E20*F20,2) -> 0 | I20: =ROUND(E20*H20,2) -> 0 | K20: =ROUND(E20*J20,2) -> 0 | L20: 21 | M20: =G20*(1+L20/100) -> 0 | N20: 0 | O20: =ROUND(E20*N20,2) -> 0 | P20: 0 | Q20: =ROUND(E20*P20,2) -> 0 | R20: 822-1 | S20: RTS 25/ II | T20: RTS 23/ I | U20: 0.01 | V20: =ROUND(E20*U20,2) -> 1.49 | X20: Přesun suti | Y20: Běžná | AG20: POL8_
A21: 8 | B21: 979082219R00 | C21: Vodorovná doprava suti po suchu příplatek k ceně za každý další i započatý 1 km přes 1 km | D21: t | E21: 2832.1932 | G21: =ROUND(E21*F21,2) -> 0 | I21: =ROUND(E21*H21,2) -> 0 | K21: =ROUND(E21*J21,2) -> 0 | L21: 21 | M21: =G21*(1+L21/100) -> 0 | N21: 0 | O21: =ROUND(E21*N21,2) -> 0 | P21: 0 | Q21: =ROUND(E21*P21,2) -> 0 | R21: 822-1 | S21: RTS 25/ II | T21: RTS 23/ I | U21: 0 | V21: =ROUND(E21*U21,2) -> 0 | X21: Přesun suti | Y21: Běžná | AG21: POL8_
A22: 9 | B22: 979990 | C22: Poplatek za uložení suti - obal. kamenivo, asfalt, skupina odpadu 170302 | D22: t | E22: 18.0378 | G22: =ROUND(E22*F22,2) -> 0 | I22: =ROUND(E22*H22,2) -> 0 | K22: =ROUND(E22*J22,2) -> 0 | L22: 21 | M22: =G22*(1+L22/100) -> 0 | N22: 0 | O22: =ROUND(E22*N22,2) -> 0 | P22: 0 | Q22: =ROUND(E22*P22,2) -> 0 | S22: Vlastní | T22: Kalkul | U22: 0 | V22: =ROUND(E22*U22,2) -> 0 | X22: Práce | Y22: Běžná | AG22: POL1_
A23: 10 | B23: 979991 | C23: Poplatek za uložení suti - beton, skupina odpadu 170101 | D23: t | E23: 131.025 | G23: =ROUND(E23*F23,2) -> 0 | I23: =ROUND(E23*H23,2) -> 0 | K23: =ROUND(E23*J23,2) -> 0 | L23: 21 | M23: =G23*(1+L23/100) -> 0 | N23: 0 | O23: =ROUND(E23*N23,2) -> 0 | P23: 0 | Q23: =ROUND(E23*P23,2) -> 0 | S23: Vlastní | T23: Kalkul | U23: 0 | V23: =ROUND(E23*U23,2) -> 0 | X23: Práce | Y23: Běžná | AG23: POL1_
A24: 11 | B24: 11210 | C24: Kácení stromu, odstranění pařezu včetně likvidace a zasypání zeminou po pařezu | D24: kus | E24: 3 | G24: =ROUND(E24*F24,2) -> 0 | I24: =ROUND(E24*H24,2) -> 0 | K24: =ROUND(E24*J24,2) -> 0 | L24: 21 | M24: =G24*(1+L24/100) -> 0 | N24: 0 | O24: =ROUND(E24*N24,2) -> 0 | P24: 0 | Q24: =ROUND(E24*P24,2) -> 0 | S24: Vlastní | T24: Kalkul | U24: 0 | V24: =ROUND(E24*U24,2) -> 0 | X24: Práce | Y24: Běžná | AG24: POL1_
A25: 12 | B25: 121101100R00 | C25: Sejmutí ornice s přemístěním na vzdálenost do 50 m | D25: m3 | E25: 37.4 | G25: =ROUND(E25*F25,2) -> 0 | I25: =ROUND(E25*H25,2) -> 0 | K25: =ROUND(E25*J25,2) -> 0 | L25: 21 | M25: =G25*(1+L25/100) -> 0 | N25: 0 | O25: =ROUND(E25*N25,2) -> 0 | P25: 0 | Q25: =ROUND(E25*P25,2) -> 0 | R25: 800-1 | S25: RTS 25/ II | T25: RTS 23/ I | U25: 0.0952 | V25: =ROUND(E25*U25,2) -> 3.56 | X25: Práce | Y25: Běžná | AG25: POL1_
C26: nebo lesní půdy, s vodorovným přemístěním na hromady v místě upotřebení nebo na dočasné či trvalé skládky se složením | AG26: SPI | BA26: =C26 -> nebo lesní půdy, s vodorovným přemístěním na hromady v místě upotřebení nebo na dočasné či trvalé skládky se složením
A27: 13 | B27: 122301102R00 | C27: Odkopávky a prokopávky nezapažené v hornině 4 přes 100 do 1 000 m3 | D27: m3 | E27: 121.15 | G27: =ROUND(E27*F27,2) -> 0 | I27: =ROUND(E27*H27,2) -> 0 | K27: =ROUND(E27*J27,2) -> 0 | L27: 21 | M27: =G27*(1+L27/100) -> 0 | N27: 0 | O27: =ROUND(E27*N27,2) -> 0 | P27: 0 | Q27: =ROUND(E27*P27,2) -> 0 | R27: 800-1 | S27: RTS 25/ II | T27: RTS 23/ I | U27: 0.294 | V27: =ROUND(E27*U27,2) -> 35.62 | X27: Práce | Y27: Běžná | AG27: POL1_
C28: s přehozením výkopku na vzdálenost do 3 m nebo s naložením na dopravní prostředek, | AG28: SPI
A29: 14 | B29: 122301109R00 | C29: Odkopávky a prokopávky nezapažené v hornině 4 příplatek k cenám za lepivost horniny | D29: m3 | E29: 36.345 | G29: =ROUND(E29*F29,2) -> 0 | I29: =ROUND(E29*H29,2) -> 0 | K29: =ROUND(E29*J29,2) -> 0 | L29: 21 | M29: =G29*(1+L29/100) -> 0 | N29: 0 | O29: =ROUND(E29*N29,2) -> 0 | P29: 0 | Q29: =ROUND(E29*P29,2) -> 0 | R29: 800-1 | S29: RTS 25/ II | T29: RTS 23/ I | U29: 0.081 | V29: =ROUND(E29*U29,2) -> 2.94 | X29: Práce | Y29: Běžná | AG29: POL1_
C30: s přehozením výkopku na vzdálenost do 3 m nebo s naložením na dopravní prostředek, | AG30: SPI
A31: 15 | B31: 122201101R00 | C31: Odkopávky a prokopávky nezapažené v hornině 3 do 100 m3 | D31: m3 | E31: 46.2565 | G31: =ROUND(E31*F31,2) -> 0 | I31: =ROUND(E31*H31,2) -> 0 | K31: =ROUND(E31*J31,2) -> 0 | L31: 21 | M31: =G31*(1+L31/100) -> 0 | N31: 0 | O31: =ROUND(E31*N31,2) -> 0 | P31: 0 | Q31: =ROUND(E31*P31,2) -> 0 | R31: 800-1 | S31: RTS 25/ II | T31: RTS 23/ I | U31: 0.368 | V31: =ROUND(E31*U31,2) -> 17.02 | X31: Práce | Y31: Běžná | AG31: POL1_
C32: s přehozením výkopku na vzdálenost do 3 m nebo s naložením na dopravní prostředek, | AG32: SPI
A33: 16 | B33: 122201109R00 | C33: Odkopávky a prokopávky nezapažené v hornině 3 příplatek k cenám za lepivost horniny | D33: m3 | E33: 23.12825 | G33: =ROUND(E33*F33,2) -> 0 | I33: =ROUND(E33*H33,2) -> 0 | K33: =ROUND(E33*J33,2) -> 0 | L33: 21 | M33: =G33*(1+L33/100) -> 0 | N33: 0 | O33: =ROUND(E33*N33,2) -> 0 | P33: 0 | Q33: =ROUND(E33*P33,2) -> 0 | R33: 800-1 | S33: RTS 25/ II | T33: RTS 23/ I | U33: 0.058 | V33: =ROUND(E33*U33,2) -> 1.34 | X33: Práce | Y33: Běžná | AG33: POL1_
C34: s přehozením výkopku na vzdálenost do 3 m nebo s naložením na dopravní prostředek, | AG34: SPI
A35: 17 | B35: 132201110R00 | C35: Hloubení rýh šířky do 60 cm do 50 m3, v hornině 3, hloubení strojně | D35: m3 | E35: 8.97 | G35: =ROUND(E35*F35,2) -> 0 | I35: =ROUND(E35*H35,2) -> 0 | K35: =ROUND(E35*J35,2) -> 0 | L35: 21 | M35: =G35*(1+L35/100) -> 0 | N35: 0 | O35: =ROUND(E35*N35,2) -> 0 | P35: 0 | Q35: =ROUND(E35*P35,2) -> 0 | R35: 800-1 | S35: RTS 25/ II | T35: RTS 23/ I | U35: 0.365 | V35: =ROUND(E35*U35,2) -> 3.27 | X35: Práce | Y35: Běžná | AG35: POL1_
C36: zapažených i nezapažených s urovnáním dna do předepsaného profilu a spádu, s přehozením výkopku na přilehlém terénu na vzdálenost do 3 m od podélné osy rýhy nebo s naložením výkopku na dopravní prostředek. | AG36: SPI | BA36: =C36 -> zapažených i nezapažených s urovnáním dna do předepsaného profilu a spádu, s přehozením výkopku na přilehlém terénu na vzdálenost do 3 m od podélné osy rýhy nebo s naložením výkopku na dopravní prostředek.
A37: 18 | B37: 132201119R00 | C37: Hloubení rýh šířky do 60 cm příplatek za lepivost, v hornině 3, | D37: m3 | E37: 4.485 | G37: =ROUND(E37*F37,2) -> 0 | I37: =ROUND(E37*H37,2) -> 0 | K37: =ROUND(E37*J37,2) -> 0 | L37: 21 | M37: =G37*(1+L37/100) -> 0 | N37: 0 | O37: =ROUND(E37*N37,2) -> 0 | P37: 0 | Q37: =ROUND(E37*P37,2) -> 0 | R37: 800-1 | S37: RTS 25/ II | T37: RTS 23/ I | U37: 0.3898 | V37: =ROUND(E37*U37,2) -> 1.75 | X37: Práce | Y37: Běžná | AG37: POL1_
C38: zapažených i nezapažených s urovnáním dna do předepsaného profilu a spádu, s přehozením výkopku na přilehlém terénu na vzdálenost do 3 m od podélné osy rýhy nebo s naložením výkopku na dopravní prostředek. | AG38: SPI | BA38: =C38 -> zapažených i nezapažených s urovnáním dna do předepsaného profilu a spádu, s přehozením výkopku na přilehlém terénu na vzdálenost do 3 m od podélné osy rýhy nebo s naložením výkopku na dopravní prostředek.
A39: 19 | B39: 181101111R00 | C39: Úprava pláně v zářezech bez rozlišení horniny, se zhutněním - ručně | D39: m2 | E39: 413.48 | G39: =ROUND(E39*F39,2) -> 0 | I39: =ROUND(E39*H39,2) -> 0 | K39: =ROUND(E39*J39,2) -> 0 | L39: 21 | M39: =G39*(1+L39/100) -> 0 | N39: 0 | O39: =ROUND(E39*N39,2) -> 0 | P39: 0 | Q39: =ROUND(E39*P39,2) -> 0 | R39: 800-1 | S39: RTS 25/ II | T39: RTS 23/ I | U39: 0.096 | V39: =ROUND(E39*U39,2) -> 39.69 | X39: Práce | Y39: Běžná | AG39: POL1_
C40: vyrovnáním výškových rozdílů, ploch vodorovných a ploch do sklonu 1 : 5. | AG40: SPI
A41: 20 | B41: 162301101R00 | C41: Vodorovné přemístění výkopku z horniny 1 až 4, na vzdálenost přes 50 do 500 m | D41: m3 | E41: 176.3765 | G41: =ROUND(E41*F41,2) -> 0 | I41: =ROUND(E41*H41,2) -> 0 | K41: =ROUND(E41*J41,2) -> 0 | L41: 21 | M41: =G41*(1+L41/100) -> 0 | N41: 0 | O41: =ROUND(E41*N41,2) -> 0 | P41: 0 | Q41: =ROUND(E41*P41,2) -> 0 | R41: 800-1 | S41: RTS 25/ II | T41: RTS 23/ I | U41: 0.011 | V41: =ROUND(E41*U41,2) -> 1.94 | X41: Práce | Y41: Běžná | AG41: POL1_
C42: po suchu, bez naložení výkopku, avšak se složením bez rozhrnutí, zpáteční cesta vozidla. | AG42: SPI
A43: 21 | B43: 171201201R00 | C43: Uložení sypaniny na dočasnou skládku tak, že na 1 m2 plochy připadá přes 2 m3 výkopku nebo ornice | D43: m3 | E43: 176.3765 | G43: =ROUND(E43*F43,2) -> 0 | I43: =ROUND(E43*H43,2) -> 0 | K43: =ROUND(E43*J43,2) -> 0 | L43: 21 | M43: =G43*(1+L43/100) -> 0 | N43: 0 | O43: =ROUND(E43*N43,2) -> 0 | P43: 0 | Q43: =ROUND(E43*P43,2) -> 0 | R43: 800-1 | S43: RTS 25/ II | T43: RTS 23/ I | U43: 0.009 | V43: =ROUND(E43*U43,2) -> 1.59 | X43: Práce | Y43: Běžná | AG43: POL1_
A44: 22 | B44: 182201101R00 | C44: Svahování násypů bez rozlišení horniny | D44: m2 | E44: 210.15 | G44: =ROUND(E44*F44,2) -> 0 | I44: =ROUND(E44*H44,2) -> 0 | K44: =ROUND(E44*J44,2) -> 0 | L44: 21 | M44: =G44*(1+L44/100) -> 0 | N44: 0 | O44: =ROUND(E44*N44,2) -> 0 | P44: 0 | Q44: =ROUND(E44*P44,2) -> 0 | R44: 800-1 | S44: RTS 25/ II | T44: RTS 23/ I | U44: 0.107 | V44: =ROUND(E44*U44,2) -> 22.49 | X44: Práce | Y44: Běžná | AG44: POL1_
C45: trvalých svahů do projektovaných profilů s potřebným přemístěním výkopku při svahování v násypech, | AG45: SPI
A46: 23 | B46: 167101102R00 | C46: Nakládání, skládání, překládání neulehlého výkopku nakládání výkopku přes 100 m3, z horniny 1 až 4 | D46: m3 | E46: 6.9552 | G46: =ROUND(E46*F46,2) -> 0 | I46: =ROUND(E46*H46,2) -> 0 | K46: =ROUND(E46*J46,2) -> 0 | L46: 21 | M46: =G46*(1+L46/100) -> 0 | N46: 0 | O46: =ROUND(E46*N46,2) -> 0 | P46: 0 | Q46: =ROUND(E46*P46,2) -> 0 | R46: 800-1 | S46: RTS 25/ II | T46: RTS 23/ I | U46: 0.053 | V46: =ROUND(E46*U46,2) -> 0.37 | X46: Práce | Y46: Běžná | AG46: POL1_
A47: 24 | B47: 162301101R00 | C47: Vodorovné přemístění výkopku z horniny 1 až 4, na vzdálenost přes 50 do 500 m | D47: m3 | E47: 6.9552 | G47: =ROUND(E47*F47,2) -> 0 | I47: =ROUND(E47*H47,2) -> 0 | K47: =ROUND(E47*J47,2) -> 0 | L47: 21 | M47: =G47*(1+L47/100) -> 0 | N47: 0 | O47: =ROUND(E47*N47,2) -> 0 | P47: 0 | Q47: =ROUND(E47*P47,2) -> 0 | R47: 800-1 | S47: RTS 25/ II | T47: RTS 23/ I | U47: 0.011 | V47: =ROUND(E47*U47,2) -> 0.08 | X47: Práce | Y47: Běžná | AG47: POL1_
C48: po suchu, bez naložení výkopku, avšak se složením bez rozhrnutí, zpáteční cesta vozidla. | AG48: SPI
A49: 25 | B49: 174101102R00 | C49: Zásyp sypaninou se zhutněním v uzavřených prostorách s urovnáním povrchu zásypu s ručním zhutněním | D49: m3 | E49: 6.9552 | G49: =ROUND(E49*F49,2) -> 0 | I49: =ROUND(E49*H49,2) -> 0 | K49: =ROUND(E49*J49,2) -> 0 | L49: 21 | M49: =G49*(1+L49/100) -> 0 | N49: 0 | O49: =ROUND(E49*N49,2) -> 0 | P49: 0 | Q49: =ROUND(E49*P49,2) -> 0 | R49: 800-1 | S49: RTS 25/ II | T49: RTS 23/ I | U49: 1.15 | V49: =ROUND(E49*U49,2) -> 8 | X49: Práce | Y49: Běžná | AG49: POL1_
C50: z jakékoliv horniny s uložením výkopku po vrstvách, | AG50: SPI
A51: Díl: | B51: 18 | C51: Povrchové úpravy terénu | G51: =SUMIF(AG52:AG59,"<>NOR",G52:G59) -> 0 | I51: =SUM(I52:I59) -> 0 | K51: =SUM(K52:K59) -> 0 | M51: =SUM(M52:M59) -> 0 | O51: =SUM(O52:O59) -> 0.01 | Q51: =SUM(Q52:Q59) -> 0 | V51: =SUM(V52:V59) -> 98.53 | AG51: DIL
A52: 26 | B52: 167101101R00 | C52: Nakládání, skládání, překládání neulehlého výkopku nakládání výkopku do 100 m3, z horniny 1 až 4 | D52: m3 | E52: 31.5225 | G52: =ROUND(E52*F52,2) -> 0 | I52: =ROUND(E52*H52,2) -> 0 | K52: =ROUND(E52*J52,2) -> 0 | L52: 21 | M52: =G52*(1+L52/100) -> 0 | N52: 0 | O52: =ROUND(E52*N52,2) -> 0 | P52: 0 | Q52: =ROUND(E52*P52,2) -> 0 | R52: 800-1 | S52: RTS 25/ II | T52: RTS 23/ I | U52: 0.652 | V52: =ROUND(E52*U52,2) -> 20.55 | X52: Práce | Y52: Běžná | AG52: POL1_
A53: 27 | B53: 162201102R00 | C53: Vodorovné přemístění výkopku z horniny 1 až 4, na vzdálenost přes 20 do 50 m | D53: m3 | E53: 31.5225 | G53: =ROUND(E53*F53,2) -> 0 | I53: =ROUND(E53*H53,2) -> 0 | K53: =ROUND(E53*J53,2) -> 0 | L53: 21 | M53: =G53*(1+L53/100) -> 0 | N53: 0 | O53: =ROUND(E53*N53,2) -> 0 | P53: 0 | Q53: =ROUND(E53*P53,2) -> 0 | R53: 800-1 | S53: RTS 25/ II | T53: RTS 23/ I | U53: 0.074 | V53: =ROUND(E53*U53,2) -> 2.33 | X53: Práce | Y53: Běžná | AG53: POL1_
C54: po suchu, bez naložení výkopku, avšak se složením bez rozhrnutí, zpáteční cesta vozidla. | AG54: SPI
A55: 28 | B55: 182301122R00 | C55: Rozprostření a urovnání ornice ve svahu v souvislé ploše do 500 m2, tloušťka vrstvy přes 100 do 150 mm | D55: m2 | E55: 210.15 | G55: =ROUND(E55*F55,2) -> 0 | I55: =ROUND(E55*H55,2) -> 0 | K55: =ROUND(E55*J55,2) -> 0 | L55: 21 | M55: =G55*(1+L55/100) -> 0 | N55: 0 | O55: =ROUND(E55*N55,2) -> 0 | P55: 0 | Q55: =ROUND(E55*P55,2) -> 0 | R55: 800-1 | S55: RTS 25/ II | T55: RTS 23/ I | U55: 0.263 | V55: =ROUND(E55*U55,2) -> 55.27 | X55: Práce | Y55: Běžná | AG55: POL1_
C56: s případným nutným přemístěním hromad nebo dočasných skládek na místo potřeby ze vzdálenosti do 30 m, ve svahu sklonu přes 1 : 5, | AG56: SPI | BA56: =C56 -> s případným nutným přemístěním hromad nebo dočasných skládek na místo potřeby ze vzdálenosti do 30 m, ve svahu sklonu přes 1 : 5,
A57: 29 | B57: 180402112R00 | C57: Založení trávníku parkový trávník, výsevem, na svahu přes 1:5 do 1:2 | D57: m2 | E57: 210.15 | G57: =ROUND(E57*F57,2) -> 0 | I57: =ROUND(E57*H57,2) -> 0 | K57: =ROUND(E57*J57,2) -> 0 | L57: 21 | M57: =G57*(1+L57/100) -> 0 | N57: 0 | O57: =ROUND(E57*N57,2) -> 0 | P57: 0 | Q57: =ROUND(E57*P57,2) -> 0 | R57: 823-1 | S57: RTS 25/ II | T57: RTS 23/ I | U57: 0.097 | V57: =ROUND(E57*U57,2) -> 20.38 | X57: Práce | Y57: Běžná | AG57: POL1_
C58: na půdě předem připravené s pokosením, naložením, odvozem odpadu do 20 km a se složením, | AG58: SPI
A59: 30 | B59: 00572400R | C59: směs travní parková, pro běžnou zátěž | D59: kg | E59: 8 | G59: =ROUND(E59*F59,2) -> 0 | I59: =ROUND(E59*H59,2) -> 0 | K59: =ROUND(E59*J59,2) -> 0 | L59: 21 | M59: =G59*(1+L59/100) -> 0 | N59: 0.001 | O59: =ROUND(E59*N59,2) -> 0.01 | P59: 0 | Q59: =ROUND(E59*P59,2) -> 0 | R59: SPCM | S59: RTS 25/ II | T59: RTS 23/ I | U59: 0 | V59: =ROUND(E59*U59,2) -> 0 | X59: Specifikace | Y59: Běžná | AG59: POL3_
A60: Díl: | B60: 21 | C60: Úprava podloží a základ.spáry | G60: =SUMIF(AG61:AG67,"<>NOR",G61:G67) -> 0 | I60: =SUM(I61:I67) -> 0 | K60: =SUM(K61:K67) -> 0 | M60: =SUM(M61:M67) -> 0 | O60: =SUM(O61:O67) -> 12.46 | Q60: =SUM(Q61:Q67) -> 0 | V60: =SUM(V61:V67) -> 12.77 | AG60: DIL
A61: 31 | B61: 212532111R00 | C61: Lože pro trativody z kameniva hrubého drceného frskce 16-32 mm | D61: m3 | E61: 0.368 | G61: =ROUND(E61*F61,2) -> 0 | I61: =ROUND(E61*H61,2) -> 0 | K61: =ROUND(E61*J61,2) -> 0 | L61: 21 | M61: =G61*(1+L61/100) -> 0 | N61: 1.63 | O61: =ROUND(E61*N61,2) -> 0.6 | P61: 0 | Q61: =ROUND(E61*P61,2) -> 0 | R61: 800-2 | S61: RTS 25/ II | T61: RTS 23/ I | U61: 1.584 | V61: =ROUND(E61*U61,2) -> 0.58 | X61: Práce | Y61: Běžná | AG61: POL1_
A62: 32 | B62: 212755214T00 | C62: Trativody bez lože z drenážních trubek plastových flexibilních D 100 mm | D62: m | E62: 46 | G62: =ROUND(E62*F62,2) -> 0 | I62: =ROUND(E62*H62,2) -> 0 | K62: =ROUND(E62*J62,2) -> 0 | L62: 21 | M62: =G62*(1+L62/100) -> 0 | N62: 0.00049 | O62: =ROUND(E62*N62,2) -> 0.02 | P62: 0 | Q62: =ROUND(E62*P62,2) -> 0 | S62: Vlastní | T62: Indiv | U62: 0.045 | V62: =ROUND(E62*U62,2) -> 2.07 | X62: Práce | Y62: Běžná | AG62: POL1_
A63: 33 | B63: 212531111R00 | C63: Výplň trativodů kamenivem hrubým drceným, frakce 16-63 mm | D63: m3 | E63: 7.245 | G63: =ROUND(E63*F63,2) -> 0 | I63: =ROUND(E63*H63,2) -> 0 | K63: =ROUND(E63*J63,2) -> 0 | L63: 21 | M63: =G63*(1+L63/100) -> 0 | N63: 1.63 | O63: =ROUND(E63*N63,2) -> 11.81 | P63: 0 | Q63: =ROUND(E63*P63,2) -> 0 | R63: 800-2 | S63: RTS 25/ II | T63: RTS 23/ I | U63: 0.92 | V63: =ROUND(E63*U63,2) -> 6.67 | X63: Práce | Y63: Běžná | AG63: POL1_
C64: do rýh bez zhutnění s úpravou povrchu výplně, | AG64: SPI
A65: 34 | B65: 212971110R00 | C65: Zřízení opláštění odvod. trativodů z geotextilie o sklonu do 2,5, | D65: m2 | E65: 46 | G65: =ROUND(E65*F65,2) -> 0 | I65: =ROUND(E65*H65,2) -> 0 | K65: =ROUND(E65*J65,2) -> 0 | L65: 21 | M65: =G65*(1+L65/100) -> 0 | N65: 0.00018 | O65: =ROUND(E65*N65,2) -> 0.01 | P65: 0 | Q65: =ROUND(E65*P65,2) -> 0 | R65: 800-2 | S65: RTS 25/ II | T65: RTS 23/ I | U65: 0.075 | V65: =ROUND(E65*U65,2) -> 3.45 | X65: Práce | Y65: Běžná | AG65: POL1_
C66: v rýze nebo v zářezu se stěnami, | AG66: SPI
A67: 35 | B67: 69366055R | C67: geotextilie PP; funkce drenážní, separační, výztužná, filtrační; plošná hmotnost 300 g/m2; tl. při 2 kPa 3,90 mm | D67: m2 | E67: 50.6 | G67: =ROUND(E67*F67,2) -> 0 | I67: =ROUND(E67*H67,2) -> 0 | K67: =ROUND(E67*J67,2) -> 0 | L67: 21 | M67: =G67*(1+L67/100) -> 0 | N67: 0.0003 | O67: =ROUND(E67*N67,2) -> 0.02 | P67: 0 | Q67: =ROUND(E67*P67,2) -> 0 | R67: SPCM | S67: RTS 25/ II | T67: RTS 23/ I | U67: 0 | V67: =ROUND(E67*U67,2) -> 0 | X67: Specifikace | Y67: Běžná | AG67: POL3_
A68: Díl: | B68: 27 | C68: Základy | G68: =SUMIF(AG69:AG75,"<>NOR",G69:G75) -> 0 | I68: =SUM(I69:I75) -> 0 | K68: =SUM(K69:K75) -> 0 | M68: =SUM(M69:M75) -> 0 | O68: =SUM(O69:O75) -> 42.79 | Q68: =SUM(Q69:Q75) -> 0 | V68: =SUM(V69:V75) -> 101.87 | AG68: DIL
A69: 36 | B69: 274313611R00 | C69: Beton základových pasů prostý třídy C 16/20 | D69: m3 | E69: 15.87 | G69: =ROUND(E69*F69,2) -> 0 | I69: =ROUND(E69*H69,2) -> 0 | K69: =ROUND(E69*J69,2) -> 0 | L69: 21 | M69: =G69*(1+L69/100) -> 0 | N69: 2.525 | O69: =ROUND(E69*N69,2) -> 40.07 | P69: 0 | Q69: =ROUND(E69*P69,2) -> 0 | R69: 801-1 | S69: RTS 25/ II | T69: RTS 23/ I | U69: 0.477 | V69: =ROUND(E69*U69,2) -> 7.57 | X69: Práce | Y69: Běžná | AG69: POL1_
A70: 37 | B70: 274351215R00 | C70: Bednění stěn základových pasů zřízení | D70: m2 | E70: 55.2 | G70: =ROUND(E70*F70,2) -> 0 | I70: =ROUND(E70*H70,2) -> 0 | K70: =ROUND(E70*J70,2) -> 0 | L70: 21 | M70: =G70*(1+L70/100) -> 0 | N70: 0.03916 | O70: =ROUND(E70*N70,2) -> 2.16 | P70: 0 | Q70: =ROUND(E70*P70,2) -> 0 | R70: 801-1 | S70: RTS 25/ II | T70: RTS 23/ I | U70: 1.05 | V70: =ROUND(E70*U70,2) -> 57.96 | X70: Práce | Y70: Běžná | AG70: POL1_
C71: svislé nebo šikmé (odkloněné), půdorysně přímé nebo zalomené, stěn základových pasů ve volných nebo zapažených jámách, rýhách, šachtách, včetně případných vzpěr, | AG71: SPI | BA71: =C71 -> svislé nebo šikmé (odkloněné), půdorysně přímé nebo zalomené, stěn základových pasů ve volných nebo zapažených jámách, rýhách, šachtách, včetně případných vzpěr,
A72: 38 | B72: 274351216R00 | C72: Bednění stěn základových pasů odstranění | D72: m2 | E72: 55.2 | G72: =ROUND(E72*F72,2) -> 0 | I72: =ROUND(E72*H72,2) -> 0 | K72: =ROUND(E72*J72,2) -> 0 | L72: 21 | M72: =G72*(1+L72/100) -> 0 | N72: 0 | O72: =ROUND(E72*N72,2) -> 0 | P72: 0 | Q72: =ROUND(E72*P72,2) -> 0 | R72: 801-1 | S72: RTS 25/ II | T72: RTS 23/ I | U72: 0.32 | V72: =ROUND(E72*U72,2) -> 17.66 | X72: Práce | Y72: Běžná | AG72: POL1_
C73: svislé nebo šikmé (odkloněné), půdorysně přímé nebo zalomené, stěn základových pasů ve volných nebo zapažených jámách, rýhách, šachtách, včetně případných vzpěr, | AG73: SPI | BA73: =C73 -> svislé nebo šikmé (odkloněné), půdorysně přímé nebo zalomené, stěn základových pasů ve volných nebo zapažených jámách, rýhách, šachtách, včetně případných vzpěr,
A74: 39 | B74: 274361821R00 | C74: Výztuž základových pasů z betonářské oceli výztuž, z oceli 10505, , | D74: t | E74: 0.51584 | G74: =ROUND(E74*F74,2) -> 0 | I74: =ROUND(E74*H74,2) -> 0 | K74: =ROUND(E74*J74,2) -> 0 | L74: 21 | M74: =G74*(1+L74/100) -> 0 | N74: 1.02116 | O74: =ROUND(E74*N74,2) -> 0.53 | P74: 0 | Q74: =ROUND(E74*P74,2) -> 0 | R74: 801-1 | S74: RTS 25/ II | T74: RTS 23/ I | U74: 23.531 | V74: =ROUND(E74*U74,2) -> 12.14 | X74: Práce | Y74: Běžná | AG74: POL1_
A75: 40 | B75: 711212331R00 | C75: Izolace proti vodě stěrka hydroizolační asfaltobentonitová, s výztužnými vlákny, včetně penetrace | D75: m2 | E75: 13.8 | G75: =ROUND(E75*F75,2) -> 0 | I75: =ROUND(E75*H75,2) -> 0 | K75: =ROUND(E75*J75,2) -> 0 | L75: 21 | M75: =G75*(1+L75/100) -> 0 | N75: 0.00214 | O75: =ROUND(E75*N75,2) -> 0.03 | P75: 0 | Q75: =ROUND(E75*P75,2) -> 0 | R75: 800-711 | S75: RTS 25/ II | T75: RTS 23/ I | U75: 0.47376 | V75: =ROUND(E75*U75,2) -> 6.54 | X75: Práce | Y75: Běžná | AG75: POL1_
A76: Díl: | B76: 28 | C76: Zpevňování hornin a konstrukcí | G76: =SUMIF(AG77:AG78,"<>NOR",G77:G78) -> 0 | I76: =SUM(I77:I78) -> 0 | K76: =SUM(K77:K78) -> 0 | M76: =SUM(M77:M78) -> 0 | O76: =SUM(O77:O78) -> 0.15 | Q76: =SUM(Q77:Q78) -> 0 | V76: =SUM(V77:V78) -> 18.19 | AG76: DIL
A77: 41 | B77: 289971211R00 | C77: Zřízení vrstvy z geotextilie na upraveném povrchu sklon do 1:5, šířka od 0 do 3 m | D77: m2 | E77: 413.48 | G77: =ROUND(E77*F77,2) -> 0 | I77: =ROUND(E77*H77,2) -> 0 | K77: =ROUND(E77*J77,2) -> 0 | L77: 21 | M77: =G77*(1+L77/100) -> 0 | N77: 3e-05 | O77: =ROUND(E77*N77,2) -> 0.01 | P77: 0 | Q77: =ROUND(E77*P77,2) -> 0 | R77: 800-2 | S77: RTS 25/ II | T77: RTS 23/ I | U77: 0.044 | V77: =ROUND(E77*U77,2) -> 18.19 | X77: Práce | Y77: Běžná | AG77: POL1_
A78: 42 | B78: 69366055R | C78: geotextilie PP; funkce drenážní, separační, výztužná, filtrační; plošná hmotnost 300 g/m2; tl. při 2 kPa 3,90 mm | D78: m2 | E78: 454.828 | G78: =ROUND(E78*F78,2) -> 0 | I78: =ROUND(E78*H78,2) -> 0 | K78: =ROUND(E78*J78,2) -> 0 | L78: 21 | M78: =G78*(1+L78/100) -> 0 | N78: 0.0003 | O78: =ROUND(E78*N78,2) -> 0.14 | P78: 0 | Q78: =ROUND(E78*P78,2) -> 0 | R78: SPCM | S78: RTS 25/ II | T78: RTS 23/ I | U78: 0 | V78: =ROUND(E78*U78,2) -> 0 | X78: Specifikace | Y78: Běžná | AG78: POL3_
A79: Díl: | B79: 3 | C79: Svislé a kompletní konstrukce | G79: =SUMIF(AG80:AG89,"<>NOR",G80:G89) -> 0 | I79: =SUM(I80:I89) -> 0 | K79: =SUM(K80:K89) -> 0 | M79: =SUM(M80:M89) -> 0 | O79: =SUM(O80:O89) -> 14.76 | Q79: =SUM(Q80:Q89) -> 0 | V79: =SUM(V80:V89) -> 75.53 | AG79: DIL
A80: 43 | B80: 348922211R00 | C80: Zdivo plotové z betonových tvarovek tloušťky 200 mm hladkých, přírodních | D80: m2 | E80: 27.6 | G80: =ROUND(E80*F80,2) -> 0 | I80: =ROUND(E80*H80,2) -> 0 | K80: =ROUND(E80*J80,2) -> 0 | L80: 21 | M80: =G80*(1+L80/100) -> 0 | N80: 0.24568 | O80: =ROUND(E80*N80,2) -> 6.78 | P80: 0 | Q80: =ROUND(E80*P80,2) -> 0 | R80: 801-1 | S80: RTS 25/ II | T80: RTS 23/ I | U80: 1.5 | V80: =ROUND(E80*U80,2) -> 41.4 | X80: Práce | Y80: Běžná | AG80: POL1_
C81: kladení tvárnic na speciální maltu, spárování současně při zdění, zvýšené nároky na udržení čistoty zdiva | AG81: SPI | BA81: =C81 -> kladení tvárnic na speciální maltu, spárování současně při zdění, zvýšené nároky na udržení čistoty zdiva
A82: 44 | B82: 338171111R00 | C82: Osazování sloupků a vzpěr plotových ocelových výšky do 2,00 m, se zalitím jakoukoliv cementovou maltou do vynechaných otvorů | D82: kus | E82: 17 | G82: =ROUND(E82*F82,2) -> 0 | I82: =ROUND(E82*H82,2) -> 0 | K82: =ROUND(E82*J82,2) -> 0 | L82: 21 | M82: =G82*(1+L82/100) -> 0 | N82: 0.00468 | O82: =ROUND(E82*N82,2) -> 0.08 | P82: 0 | Q82: =ROUND(E82*P82,2) -> 0 | R82: 801-5 | S82: RTS 25/ II | T82: RTS 23/ I | U82: 0.44 | V82: =ROUND(E82*U82,2) -> 7.48 | X82: Práce | Y82: Běžná | AG82: POL1_
C83: trubkových nebo profilovaných | AG83: SPI
A84: 45 | B84: 55346 | C84: Sloupek plotový 38/1500 mm, pozinkováno + poplastováno | D84: kus | E84: 17 | G84: =ROUND(E84*F84,2) -> 0 | I84: =ROUND(E84*H84,2) -> 0 | K84: =ROUND(E84*J84,2) -> 0 | L84: 21 | M84: =G84*(1+L84/100) -> 0 | N84: 0.0021 | O84: =ROUND(E84*N84,2) -> 0.04 | P84: 0 | Q84: =ROUND(E84*P84,2) -> 0 | S84: Vlastní | T84: RTS 23/ I | U84: 0 | V84: =ROUND(E84*U84,2) -> 0 | X84: Specifikace | Y84: Běžná | AG84: POL3_
A85: 46 | B85: 936457124R00 | C85: Zálivka objem přes 1 do 3 m3 | D85: m3 | E85: 2.36046 | G85: =ROUND(E85*F85,2) -> 0 | I85: =ROUND(E85*H85,2) -> 0 | K85: =ROUND(E85*J85,2) -> 0 | L85: 21 | M85: =G85*(1+L85/100) -> 0 | N85: 2.525 | O85: =ROUND(E85*N85,2) -> 5.96 | P85: 0 | Q85: =ROUND(E85*P85,2) -> 0 | R85: 832-1 | S85: RTS 25/ II | T85: RTS 23/ I | U85: 2.68 | V85: =ROUND(E85*U85,2) -> 6.33 | X85: Práce | Y85: Běžná | AG85: POL1_
C86: kotevních šroubů, ocelových konstrukcí, různých dutin apod. betonem vodostavebním | AG86: SPI
A87: 47 | B87: 311361821R00 | C87: Výztuž nadzákladových zdí z betonářské oceli 10 505(R) | D87: t | E87: 0.25792 | G87: =ROUND(E87*F87,2) -> 0 | I87: =ROUND(E87*H87,2) -> 0 | K87: =ROUND(E87*J87,2) -> 0 | L87: 21 | M87: =G87*(1+L87/100) -> 0 | N87: 1.02029 | O87: =ROUND(E87*N87,2) -> 0.26 | P87: 0 | Q87: =ROUND(E87*P87,2) -> 0 | R87: 801-1 | S87: RTS 25/ II | T87: RTS 23/ I | U87: 25.271 | V87: =ROUND(E87*U87,2) -> 6.52 | X87: Práce | Y87: Běžná | AG87: POL1_
C88: včetně distančních prvků | AG88: SPI
A89: 48 | B89: 348924131R00 | C89: Stříška plotová z betonových tvarovek pro zdivo tloušťky 200 mm, z tvárnic hladkých, přírodních | D89: m | E89: 46 | G89: =ROUND(E89*F89,2) -> 0 | I89: =ROUND(E89*H89,2) -> 0 | K89: =ROUND(E89*J89,2) -> 0 | L89: 21 | M89: =G89*(1+L89/100) -> 0 | N89: 0.03558 | O89: =ROUND(E89*N89,2) -> 1.64 | P89: 0 | Q89: =ROUND(E89*P89,2) -> 0 | R89: 801-1 | S89: RTS 25/ II | T89: RTS 23/ I | U89: 0.3 | V89: =ROUND(E89*U89,2) -> 13.8 | X89: Práce | Y89: Běžná | AG89: POL1_
A90: Díl: | B90: 56 | C90: Podkladní vrstvy komunikací a zpevněných ploch | G90: =SUMIF(AG91:AG99,"<>NOR",G91:G99) -> 0 | I90: =SUM(I91:I99) -> 0 | K90: =SUM(K91:K99) -> 0 | M90: =SUM(M91:M99) -> 0 | O90: =SUM(O91:O99) -> 427.56 | Q90: =SUM(Q91:Q99) -> 0 | V90: =SUM(V91:V99) -> 46.85 | AG90: DIL
A91: 49 | B91: 564851111RT2 | C91: Podklad ze štěrkodrti s rozprostřením a zhutněním frakce 0-32 mm, tloušťka po zhutnění 150 mm | D91: m2 | E91: 226 | G91: =ROUND(E91*F91,2) -> 0 | I91: =ROUND(E91*H91,2) -> 0 | K91: =ROUND(E91*J91,2) -> 0 | L91: 21 | M91: =G91*(1+L91/100) -> 0 | N91: 0.378 | O91: =ROUND(E91*N91,2) -> 85.43 | P91: 0 | Q91: =ROUND(E91*P91,2) -> 0 | R91: 822-1 | S91: RTS 25/ II | T91: RTS 23/ I | U91: 0.026 | V91: =ROUND(E91*U91,2) -> 5.88 | X91: Práce | Y91: Běžná | AG91: POL1_
A92: 50 | B92: 564851111RT4 | C92: Podklad ze štěrkodrti s rozprostřením a zhutněním frakce 0-63 mm, tloušťka po zhutnění 150 mm | D92: m2 | E92: 762.58 | G92: =ROUND(E92*F92,2) -> 0 | I92: =ROUND(E92*H92,2) -> 0 | K92: =ROUND(E92*J92,2) -> 0 | L92: 21 | M92: =G92*(1+L92/100) -> 0 | N92: 0.378 | O92: =ROUND(E92*N92,2) -> 288.26 | P92: 0 | Q92: =ROUND(E92*P92,2) -> 0 | R92: 822-1 | S92: RTS 25/ II | T92: RTS 23/ I | U92: 0.026 | V92: =ROUND(E92*U92,2) -> 19.83 | X92: Práce | Y92: Běžná | AG92: POL1_
A93: 51 | B93: 564861111RT2 | C93: Podklad ze štěrkodrti s rozprostřením a zhutněním frakce 0-32 mm, tloušťka po zhutnění 200 mm | D93: m2 | E93: 91.1 | G93: =ROUND(E93*F93,2) -> 0 | I93: =ROUND(E93*H93,2) -> 0 | K93: =ROUND(E93*J93,2) -> 0 | L93: 21 | M93: =G93*(1+L93/100) -> 0 | N93: 0.441 | O93: =ROUND(E93*N93,2) -> 40.18 | P93: 0 | Q93: =ROUND(E93*P93,2) -> 0 | R93: 822-1 | S93: RTS 25/ II | T93: RTS 23/ I | U93: 0.029 | V93: =ROUND(E93*U93,2) -> 2.64 | X93: Práce | Y93: Běžná | AG93: POL1_
A94: 52 | B94: 631315621R00 | C94: Mazanina z betonu prostého tl. přes 120 do 240 mm třídy C 20/25, | D94: m3 | E94: 5.28 | G94: =ROUND(E94*F94,2) -> 0 | I94: =ROUND(E94*H94,2) -> 0 | K94: =ROUND(E94*J94,2) -> 0 | L94: 21 | M94: =G94*(1+L94/100) -> 0 | N94: 2.525 | O94: =ROUND(E94*N94,2) -> 13.33 | P94: 0 | Q94: =ROUND(E94*P94,2) -> 0 | R94: 801-1 | S94: RTS 25/ II | T94: RTS 23/ I | U94: 2.317 | V94: =ROUND(E94*U94,2) -> 12.23 | X94: Práce | Y94: Běžná | AG94: POL1_
C95: (z kameniva) hlazená dřevěným hladítkem | AG95: SPI
A96: 53 | B96: 631319175R00 | C96: Příplatek za stržení povrchu tloušťka mazaniny od 120 mm do 240 mm | D96: m3 | E96: 5.28 | G96: =ROUND(E96*F96,2) -> 0 | I96: =ROUND(E96*H96,2) -> 0 | K96: =ROUND(E96*J96,2) -> 0 | L96: 21 | M96: =G96*(1+L96/100) -> 0 | N96: 0 | O96: =ROUND(E96*N96,2) -> 0 | P96: 0 | Q96: =ROUND(E96*P96,2) -> 0 | R96: 801-1 | S96: RTS 25/ II | T96: RTS 23/ I | U96: 0.205 | V96: =ROUND(E96*U96,2) -> 1.08 | X96: Práce | Y96: Běžná | AG96: POL1_
C97: spodní vrstvy mazaniny latí před vložením výztuže nebo pletiva pro tloušťku obou vrstev mazaniny | AG97: SPI
A98: 54 | B98: 631361921RT4 | C98: Výztuž mazanin z betonů a z lehkých betonů ze svařovaných sítí průměr drátu 6 mm, velikost oka 100/100 mm | D98: t | E98: 0.34099 | G98: =ROUND(E98*F98,2) -> 0 | I98: =ROUND(E98*H98,2) -> 0 | K98: =ROUND(E98*J98,2) -> 0 | L98: 21 | M98: =G98*(1+L98/100) -> 0 | N98: 1.06625 | O98: =ROUND(E98*N98,2) -> 0.36 | P98: 0 | Q98: =ROUND(E98*P98,2) -> 0 | R98: 801-1 | S98: RTS 25/ II | T98: RTS 23/ I | U98: 15.231 | V98: =ROUND(E98*U98,2) -> 5.19 | X98: Práce | Y98: Běžná | AG98: POL1_
C99: včetně distančních prvků | AG99: SPI
A100: Díl: | B100: 57 | C100: Kryty štěrkových a živičných komunikací | G100: =SUMIF(AG101:AG105,"<>NOR",G101:G105) -> 0 | I100: =SUM(I101:I105) -> 0 | K100: =SUM(K101:K105) -> 0 | M100: =SUM(M101:M105) -> 0 | O100: =SUM(O101:O105) -> 21.82 | Q100: =SUM(Q101:Q105) -> 0 | V100: =SUM(V101:V105) -> 3.64 | AG100: DIL
A101: 55 | B101: 573111114R00 | C101: Postřik živičný infiltrační s posypem kamenivem v množství 2 kg/m2 | D101: m2 | E101: 91.1 | G101: =ROUND(E101*F101,2) -> 0 | I101: =ROUND(E101*H101,2) -> 0 | K101: =ROUND(E101*J101,2) -> 0 | L101: 21 | M101: =G101*(1+L101/100) -> 0 | N101: 0.00702 | O101: =ROUND(E101*N101,2) -> 0.64 | P101: 0 | Q101: =ROUND(E101*P101,2) -> 0 | R101: 822-1 | S101: RTS 25/ II | T101: RTS 23/ I | U101: 0.004 | V101: =ROUND(E101*U101,2) -> 0.36 | X101: Práce | Y101: Běžná | AG101: POL1_
A102: 56 | B102: 577142222RT3 | C102: Beton asfaltový s rozprostřením a zhutněním v pruhu šířky přes 3 m, ACL 22, tloušťky 50 mm, plochy do 200 m2 | D102: m2 | E102: 91.1 | G102: =ROUND(E102*F102,2) -> 0 | I102: =ROUND(E102*H102,2) -> 0 | K102: =ROUND(E102*J102,2) -> 0 | L102: 21 | M102: =G102*(1+L102/100) -> 0 | N102: 0.12818 | O102: =ROUND(E102*N102,2) -> 11.68 | P102: 0 | Q102: =ROUND(E102*P102,2) -> 0 | R102: 822-1 | S102: RTS 25/ II | T102: RTS 23/ I | U102: 0.021 | V102: =ROUND(E102*U102,2) -> 1.91 | X102: Práce | Y102: Běžná | AG102: POL1_
...

Sheet 02 01 Novostavba chodníku
A1: Položkový soupis prací a dodávek | AG1: #TypZaznamu#
A2: S: | B2: 87277 - 23 | C2: Novostavba chodníku a stav. úpravy části stáv. chodníku s příslušenstvím v obci Údrnice | AG2: STA
A3: O: | B3: 02 | C3: Novostavba chodníku | AC3: STA | AG3: OBJ
A4: R: | B4: 01 | C4: Novostavba chodníku | AG4: ROZ
A6: P.č. | B6: Číslo položky | C6: Název položky | D6: MJ | E6: Množství | F6: Cena / MJ | G6: Celkem | H6: Dodávka | I6: Dodávka celk. | J6: Montáž | K6: Montáž celk. | L6: DPH | M6: Cena s DPH | N6: Hmotnost / MJ | O6: Hmotnost celk.(t) | P6: Dem. hmotnost / MJ | Q6: Dem. hmotnost celk.(t) | R6: Ceník | S6: Cen. soustava / platnost | T6: Cenová úroveň | U6: Nhod / MJ | V6: Nhod celk. | W6: Dodavatel | X6: Typ položky | Y6: Stav položky
A8: Díl: | B8: 1 | C8: Zemní práce | G8: =SUMIF(AG9:AG38,"<>NOR",G9:G38) -> 0 | I8: =SUM(I9:I38) -> 0 | K8: =SUM(K9:K38) -> 0 | M8: =SUM(M9:M38) -> 0 | O8: =SUM(O9:O38) -> 0 | Q8: =SUM(Q9:Q38) -> 12.81 | V8: =SUM(V9:V38) -> 180.51 | AG8: DIL
A9: 1 | B9: 919735112R00 | C9: Řezání stávajících krytů nebo podkladů živičných, hloubky přes 50 do 100 mm | D9: m | E9: 120 | G9: =ROUND(E9*F9,2) -> 0 | I9: =ROUND(E9*H9,2) -> 0 | K9: =ROUND(E9*J9,2) -> 0 | L9: 21 | M9: =G9*(1+L9/100) -> 0 | N9: 0 | O9: =ROUND(E9*N9,2) -> 0 | P9: 0 | Q9: =ROUND(E9*P9,2) -> 0 | R9: 822-1 | S9: RTS 25/ II | T9: RTS 23/ I | U9: 0.037 | V9: =ROUND(E9*U9,2) -> 4.44 | X9: Práce | Y9: Běžná | AG9: POL1_
C10: včetně spotřeby vody | AG10: SPI
A11: 2 | B11: 113108309R00 | C11: Odstranění podkladů nebo krytů živičných, v ploše jednotlivě do 50 m2, tloušťka vrstvy 90 mm | D11: m2 | E11: 64.7 | G11: =ROUND(E11*F11,2) -> 0 | I11: =ROUND(E11*H11,2) -> 0 | K11: =ROUND(E11*J11,2) -> 0 | L11: 21 | M11: =G11*(1+L11/100) -> 0 | N11: 0 | O11: =ROUND(E11*N11,2) -> 0 | P11: 0.198 | Q11: =ROUND(E11*P11,2) -> 12.81 | R11: 822-1 | S11: RTS 25/ II | T11: RTS 23/ I | U11: 0.34 | V11: =ROUND(E11*U11,2) -> 22 | X11: Práce | Y11: Běžná | AG11: POL1_
A12: 3 | B12: 979087212R00 | C12: Nakládání na dopravní prostředky suti | D12: t | E12: 12.8106 | G12: =ROUND(E12*F12,2) -> 0 | I12: =ROUND(E12*H12,2) -> 0 | K12: =ROUND(E12*J12,2) -> 0 | L12: 21 | M12: =G12*(1+L12/100) -> 0 | N12: 0 | O12: =ROUND(E12*N12,2) -> 0 | P12: 0 | Q12: =ROUND(E12*P12,2) -> 0 | R12: 822-1 | S12: RTS 25/ II | T12: RTS 23/ I | U12: 0.099 | V12: =ROUND(E12*U12,2) -> 1.27 | X12: Přesun suti | Y12: Běžná | AG12: POL8_
C13: pro vodorovnou dopravu | AG13: SPI
A14: 4 | B14: 979082213R00 | C14: Vodorovná doprava suti po suchu bez naložení, ale se složením a hrubým urovnáním na vzdálenost do 1 km | D14: t | E14: 12.8106 | G14: =ROUND(E14*F14,2) -> 0 | I14: =ROUND(E14*H14,2) -> 0 | K14: =ROUND(E14*J14,2) -> 0 | L14: 21 | M14: =G14*(1+L14/100) -> 0 | N14: 0 | O14: =ROUND(E14*N14,2) -> 0 | P14: 0 | Q14: =ROUND(E14*P14,2) -> 0 | R14: 822-1 | S14: RTS 25/ II | T14: RTS 23/ I | U14: 0.01 | V14: =ROUND(E14*U14,2) -> 0.13 | X14: Přesun suti | Y14: Běžná | AG14: POL8_
A15: 5 | B15: 979082219R00 | C15: Vodorovná doprava suti po suchu příplatek k ceně za každý další i započatý 1 km přes 1 km | D15: t | E15: 243.4014 | G15: =ROUND(E15*F15,2) -> 0 | I15: =ROUND(E15*H15,2) -> 0 | K15: =ROUND(E15*J15,2) -> 0 | L15: 21 | M15: =G15*(1+L15/100) -> 0 | N15: 0 | O15: =ROUND(E15*N15,2) -> 0 | P15: 0 | Q15: =ROUND(E15*P15,2) -> 0 | R15: 822-1 | S15: RTS 25/ II | T15: RTS 23/ I | U15: 0 | V15: =ROUND(E15*U15,2) -> 0 | X15: Přesun suti | Y15: Běžná | AG15: POL8_
A16: 6 | B16: 979990 | C16: Poplatek za uložení suti - obal. kamenivo, asfalt, skupina odpadu 170302 | D16: t | E16: 12.8106 | G16: =ROUND(E16*F16,2) -> 0 | I16: =ROUND(E16*H16,2) -> 0 | K16: =ROUND(E16*J16,2) -> 0 | L16: 21 | M16: =G16*(1+L16/100) -> 0 | N16: 0 | O16: =ROUND(E16*N16,2) -> 0 | P16: 0 | Q16: =ROUND(E16*P16,2) -> 0 | S16: Vlastní | T16: Kalkul | U16: 0 | V16: =ROUND(E16*U16,2) -> 0 | X16: Přesun suti | Y16: Běžná | AG16: POL8_
A17: 7 | B17: 121101100R00 | C17: Sejmutí ornice s přemístěním na vzdálenost do 50 m | D17: m3 | E17: 107.23 | G17: =ROUND(E17*F17,2) -> 0 | I17: =ROUND(E17*H17,2) -> 0 | K17: =ROUND(E17*J17,2) -> 0 | L17: 21 | M17: =G17*(1+L17/100) -> 0 | N17: 0 | O17: =ROUND(E17*N17,2) -> 0 | P17: 0 | Q17: =ROUND(E17*P17,2) -> 0 | R17: 800-1 | S17: RTS 25/ II | T17: RTS 23/ I | U17: 0.0952 | V17: =ROUND(E17*U17,2) -> 10.21 | X17: Práce | Y17: Běžná | AG17: POL1_
C18: nebo lesní půdy, s vodorovným přemístěním na hromady v místě upotřebení nebo na dočasné či trvalé skládky se složením | AG18: SPI | BA18: =C18 -> nebo lesní půdy, s vodorovným přemístěním na hromady v místě upotřebení nebo na dočasné či trvalé skládky se složením
A19: 8 | B19: 122301101R00 | C19: Odkopávky a prokopávky nezapažené v hornině 4 do 100 m3 | D19: m3 | E19: 32.35 | G19: =ROUND(E19*F19,2) -> 0 | I19: =ROUND(E19*H19,2) -> 0 | K19: =ROUND(E19*J19,2) -> 0 | L19: 21 | M19: =G19*(1+L19/100) -> 0 | N19: 0 | O19: =ROUND(E19*N19,2) -> 0 | P19: 0 | Q19: =ROUND(E19*P19,2) -> 0 | R19: 800-1 | S19: RTS 25/ II | T19: RTS 23/ I | U19: 0.626 | V19: =ROUND(E19*U19,2) -> 20.25 | X19: Práce | Y19: Běžná | AG19: POL1_
C20: s přehozením výkopku na vzdálenost do 3 m nebo s naložením na dopravní prostředek, | AG20: SPI
A21: 9 | B21: 122301109R00 | C21: Odkopávky a prokopávky nezapažené v hornině 4 příplatek k cenám za lepivost horniny | D21: m3 | E21: 9.705 | G21: =ROUND(E21*F21,2) -> 0 | I21: =ROUND(E21*H21,2) -> 0 | K21: =ROUND(E21*J21,2) -> 0 | L21: 21 | M21: =G21*(1+L21/100) -> 0 | N21: 0 | O21: =ROUND(E21*N21,2) -> 0 | P21: 0 | Q21: =ROUND(E21*P21,2) -> 0 | R21: 800-1 | S21: RTS 25/ II | T21: RTS 23/ I | U21: 0.081 | V21: =ROUND(E21*U21,2) -> 0.79 | X21: Práce | Y21: Běžná | AG21: POL1_
C22: s přehozením výkopku na vzdálenost do 3 m nebo s naložením na dopravní prostředek, | AG22: SPI
A23: 10 | B23: 122201101R00 | C23: Odkopávky a prokopávky nezapažené v hornině 3 do 100 m3 | D23: m3 | E23: 55.59 | G23: =ROUND(E23*F23,2) -> 0 | I23: =ROUND(E23*H23,2) -> 0 | K23: =ROUND(E23*J23,2) -> 0 | L23: 21 | M23: =G23*(1+L23/100) -> 0 | N23: 0 | O23: =ROUND(E23*N23,2) -> 0 | P23: 0 | Q23: =ROUND(E23*P23,2) -> 0 | R23: 800-1 | S23: RTS 25/ II | T23: RTS 23/ I | U23: 0.368 | V23: =ROUND(E23*U23,2) -> 20.46 | X23: Práce | Y23: Běžná | AG23: POL1_
C24: s přehozením výkopku na vzdálenost do 3 m nebo s naložením na dopravní prostředek, | AG24: SPI
A25: 11 | B25: 122201109R00 | C25: Odkopávky a prokopávky nezapažené v hornině 3 příplatek k cenám za lepivost horniny | D25: m3 | E25: 27.795 | G25: =ROUND(E25*F25,2) -> 0 | I25: =ROUND(E25*H25,2) -> 0 | K25: =ROUND(E25*J25,2) -> 0 | L25: 21 | M25: =G25*(1+L25/100) -> 0 | N25: 0 | O25: =ROUND(E25*N25,2) -> 0 | P25: 0 | Q25: =ROUND(E25*P25,2) -> 0 | R25: 800-1 | S25: RTS 25/ II | T25: RTS 23/ I | U25: 0.058 | V25: =ROUND(E25*U25,2) -> 1.61 | X25: Práce | Y25: Běžná | AG25: POL1_
C26: s přehozením výkopku na vzdálenost do 3 m nebo s naložením na dopravní prostředek, | AG26: SPI
A27: 12 | B27: 162301101R00 | C27: Vodorovné přemístění výkopku z horniny 1 až 4, na vzdálenost přes 50 do 500 m | D27: m3 | E27: 87.94 | G27: =ROUND(E27*F27,2) -> 0 | I27: =ROUND(E27*H27,2) -> 0 | K27: =ROUND(E27*J27,2) -> 0 | L27: 21 | M27: =G27*(1+L27/100) -> 0 | N27: 0 | O27: =ROUND(E27*N27,2) -> 0 | P27: 0 | Q27: =ROUND(E27*P27,2) -> 0 | R27: 800-1 | S27: RTS 25/ II | T27: RTS 23/ I | U27: 0.011 | V27: =ROUND(E27*U27,2) -> 0.97 | X27: Práce | Y27: Běžná | AG27: POL1_
C28: po suchu, bez naložení výkopku, avšak se složením bez rozhrnutí, zpáteční cesta vozidla. | AG28: SPI
A29: 13 | B29: 171201201R00 | C29: Uložení sypaniny na dočasnou skládku tak, že na 1 m2 plochy připadá přes 2 m3 výkopku nebo ornice | D29: m3 | E29: 87.94 | G29: =ROUND(E29*F29,2) -> 0 | I29: =ROUND(E29*H29,2) -> 0 | K29: =ROUND(E29*J29,2) -> 0 | L29: 21 | M29: =G29*(1+L29/100) -> 0 | N29: 0 | O29: =ROUND(E29*N29,2) -> 0 | P29: 0 | Q29: =ROUND(E29*P29,2) -> 0 | R29: 800-1 | S29: RTS 25/ II | T29: RTS 23/ I | U29: 0.009 | V29: =ROUND(E29*U29,2) -> 0.79 | X29: Práce | Y29: Běžná | AG29: POL1_
A30: 14 | B30: 167101102R00 | C30: Nakládání, skládání, překládání neulehlého výkopku nakládání výkopku přes 100 m3, z horniny 1 až 4 | D30: m3 | E30: 26.49 | G30: =ROUND(E30*F30,2) -> 0 | I30: =ROUND(E30*H30,2) -> 0 | K30: =ROUND(E30*J30,2) -> 0 | L30: 21 | M30: =G30*(1+L30/100) -> 0 | N30: 0 | O30: =ROUND(E30*N30,2) -> 0 | P30: 0 | Q30: =ROUND(E30*P30,2) -> 0 | R30: 800-1 | S30: RTS 25/ II | T30: RTS 23/ I | U30: 0.053 | V30: =ROUND(E30*U30,2) -> 1.4 | X30: Práce | Y30: Běžná | AG30: POL1_
A31: 15 | B31: 162301101R00 | C31: Vodorovné přemístění výkopku z horniny 1 až 4, na vzdálenost přes 50 do 500 m | D31: m3 | E31: 26.49 | G31: =ROUND(E31*F31,2) -> 0 | I31: =ROUND(E31*H31,2) -> 0 | K31: =ROUND(E31*J31,2) -> 0 | L31: 21 | M31: =G31*(1+L31/100) -> 0 | N31: 0 | O31: =ROUND(E31*N31,2) -> 0 | P31: 0 | Q31: =ROUND(E31*P31,2) -> 0 | R31: 800-1 | S31: RTS 25/ II | T31: RTS 23/ I | U31: 0.011 | V31: =ROUND(E31*U31,2) -> 0.29 | X31: Práce | Y31: Běžná | AG31: POL1_
C32: po suchu, bez naložení výkopku, avšak se složením bez rozhrnutí, zpáteční cesta vozidla. | AG32: SPI
A33: 16 | B33: 174101102R00 | C33: Zásyp sypaninou se zhutněním v uzavřených prostorách s urovnáním povrchu zásypu s ručním zhutněním | D33: m3 | E33: 26.49 | G33: =ROUND(E33*F33,2) -> 0 | I33: =ROUND(E33*H33,2) -> 0 | K33: =ROUND(E33*J33,2) -> 0 | L33: 21 | M33: =G33*(1+L33/100) -> 0 | N33: 0 | O33: =ROUND(E33*N33,2) -> 0 | P33: 0 | Q33: =ROUND(E33*P33,2) -> 0 | R33: 800-1 | S33: RTS 25/ II | T33: RTS 23/ I | U33: 1.15 | V33: =ROUND(E33*U33,2) -> 30.46 | X33: Práce | Y33: Běžná | AG33: POL1_
C34: z jakékoliv horniny s uložením výkopku po vrstvách, | AG34: SPI
A35: 17 | B35: 182201101R00 | C35: Svahování násypů bez rozlišení horniny | D35: m2 | E35: 253.7875 | G35: =ROUND(E35*F35,2) -> 0 | I35: =ROUND(E35*H35,2) -> 0 | K35: =ROUND(E35*J35,2) -> 0 | L35: 21 | M35: =G35*(1+L35/100) -> 0 | N35: 0 | O35: =ROUND(E35*N35,2) -> 0 | P35: 0 | Q35: =ROUND(E35*P35,2) -> 0 | R35: 800-1 | S35: RTS 25/ II | T35: RTS 23/ I | U35: 0.107 | V35: =ROUND(E35*U35,2) -> 27.16 | X35: Práce | Y35: Běžná | AG35: POL1_
C36: trvalých svahů do projektovaných profilů s potřebným přemístěním výkopku při svahování v násypech, | AG36: SPI
A37: 18 | B37: 181101111R00 | C37: Úprava pláně v zářezech bez rozlišení horniny, se zhutněním - ručně | D37: m2 | E37: 398.73 | G37: =ROUND(E37*F37,2) -> 0 | I37: =ROUND(E37*H37,2) -> 0 | K37: =ROUND(E37*J37,2) -> 0 | L37: 21 | M37: =G37*(1+L37/100) -> 0 | N37: 0 | O37: =ROUND(E37*N37,2) -> 0 | P37: 0 | Q37: =ROUND(E37*P37,2) -> 0 | R37: 800-1 | S37: RTS 25/ II | T37: RTS 23/ I | U37: 0.096 | V37: =ROUND(E37*U37,2) -> 38.28 | X37: Práce | Y37: Běžná | AG37: POL1_
C38: vyrovnáním výškových rozdílů, ploch vodorovných a ploch do sklonu 1 : 5. | AG38: SPI
A39: Díl: | B39: 18 | C39: Povrchové úpravy terénu | G39: =SUMIF(AG40:AG52,"<>NOR",G40:G52) -> 0 | I39: =SUM(I40:I52) -> 0 | K39: =SUM(K40:K52) -> 0 | M39: =SUM(M40:M52) -> 0 | O39: =SUM(O40:O52) -> 0.01 | Q39: =SUM(Q40:Q52) -> 0 | V39: =SUM(V40:V52) -> 125.24 | AG39: DIL
A40: 19 | B40: 167101101R00 | C40: Nakládání, skládání, překládání neulehlého výkopku nakládání výkopku do 100 m3, z horniny 1 až 4 | D40: m3 | E40: 40.76812 | G40: =ROUND(E40*F40,2) -> 0 | I40: =ROUND(E40*H40,2) -> 0 | K40: =ROUND(E40*J40,2) -> 0 | L40: 21 | M40: =G40*(1+L40/100) -> 0 | N40: 0 | O40: =ROUND(E40*N40,2) -> 0 | P40: 0 | Q40: =ROUND(E40*P40,2) -> 0 | R40: 800-1 | S40: RTS 25/ II | T40: RTS 23/ I | U40: 0.652 | V40: =ROUND(E40*U40,2) -> 26.58 | X40: Práce | Y40: Běžná | AG40: POL1_
A41: 20 | B41: 162201102R00 | C41: Vodorovné přemístění výkopku z horniny 1 až 4, na vzdálenost přes 20 do 50 m | D41: m3 | E41: 40.76812 | G41: =ROUND(E41*F41,2) -> 0 | I41: =ROUND(E41*H41,2) -> 0 | K41: =ROUND(E41*J41,2) -> 0 | L41: 21 | M41: =G41*(1+L41/100) -> 0 | N41: 0 | O41: =ROUND(E41*N41,2) -> 0 | P41: 0 | Q41: =ROUND(E41*P41,2) -> 0 | R41: 800-1 | S41: RTS 25/ II | T41: RTS 23/ I | U41: 0.074 | V41: =ROUND(E41*U41,2) -> 3.02 | X41: Práce | Y41: Běžná | AG41: POL1_
C42: po suchu, bez naložení výkopku, avšak se složením bez rozhrnutí, zpáteční cesta vozidla. | AG42: SPI
A43: 21 | B43: 181301102R00 | C43: Rozprostření a urovnání ornice v rovině v souvislé ploše do 500 m2, tloušťka vrstvy přes 100 do 150 mm | D43: m2 | E43: 18 | G43: =ROUND(E43*F43,2) -> 0 | I43: =ROUND(E43*H43,2) -> 0 | K43: =ROUND(E43*J43,2) -> 0 | L43: 21 | M43: =G43*(1+L43/100) -> 0 | N43: 0 | O43: =ROUND(E43*N43,2) -> 0 | P43: 0 | Q43: =ROUND(E43*P43,2) -> 0 | R43: 800-1 | S43: RTS 25/ II | T43: RTS 23/ I | U43: 0.177 | V43: =ROUND(E43*U43,2) -> 3.19 | X43: Práce | Y43: Běžná | AG43: POL1_
C44: s případným nutným přemístěním hromad nebo dočasných skládek na místo potřeby ze vzdálenosti do 30 m, v rovině nebo ve svahu do 1 : 5, | AG44: SPI | BA44: =C44 -> s případným nutným přemístěním hromad nebo dočasných skládek na místo potřeby ze vzdálenosti do 30 m, v rovině nebo ve svahu do 1 : 5,
A45: 22 | B45: 182301122R00 | C45: Rozprostření a urovnání ornice ve svahu v souvislé ploše do 500 m2, tloušťka vrstvy přes 100 do 150 mm | D45: m2 | E45: 253.7875 | G45: =ROUND(E45*F45,2) -> 0 | I45: =ROUND(E45*H45,2) -> 0 | K45: =ROUND(E45*J45,2) -> 0 | L45: 21 | M45: =G45*(1+L45/100) -> 0 | N45: 0 | O45: =ROUND(E45*N45,2) -> 0 | P45: 0 | Q45: =ROUND(E45*P45,2) -> 0 | R45: 800-1 | S45: RTS 25/ II | T45: RTS 23/ I | U45: 0.263 | V45: =ROUND(E45*U45,2) -> 66.75 | X45: Práce | Y45: Běžná | AG45: POL1_
C46: s případným nutným přemístěním hromad nebo dočasných skládek na místo potřeby ze vzdálenosti do 30 m, ve svahu sklonu přes 1 : 5, | AG46: SPI | BA46: =C46 -> s případným nutným přemístěním hromad nebo dočasných skládek na místo potřeby ze vzdálenosti do 30 m, ve svahu sklonu přes 1 : 5,
A47: 23 | B47: 180402111R00 | C47: Založení trávníku parkový trávník, výsevem, v rovině nebo na svahu do 1:5 | D47: m2 | E47: 18 | G47: =ROUND(E47*F47,2) -> 0 | I47: =ROUND(E47*H47,2) -> 0 | K47: =ROUND(E47*J47,2) -> 0 | L47: 21 | M47: =G47*(1+L47/100) -> 0 | N47: 0 | O47: =ROUND(E47*N47,2) -> 0 | P47: 0 | Q47: =ROUND(E47*P47,2) -> 0 | R47: 823-1 | S47: RTS 25/ II | T47: RTS 23/ I | U47: 0.06 | V47: =ROUND(E47*U47,2) -> 1.08 | X47: Práce | Y47: Běžná | AG47: POL1_
C48: na půdě předem připravené s pokosením, naložením, odvozem odpadu do 20 km a se složením, | AG48: SPI
A49: 24 | B49: 180402112R00 | C49: Založení trávníku parkový trávník, výsevem, na svahu přes 1:5 do 1:2 | D49: m2 | E49: 253.7875 | G49: =ROUND(E49*F49,2) -> 0 | I49: =ROUND(E49*H49,2) -> 0 | K49: =ROUND(E49*J49,2) -> 0 | L49: 21 | M49: =G49*(1+L49/100) -> 0 | N49: 0 | O49: =ROUND(E49*N49,2) -> 0 | P49: 0 | Q49: =ROUND(E49*P49,2) -> 0 | R49: 823-1 | S49: RTS 25/ II | T49: RTS 23/ I | U49: 0.097 | V49: =ROUND(E49*U49,2) -> 24.62 | X49: Práce | Y49: Běžná | AG49: POL1_
C50: na půdě předem připravené s pokosením, naložením, odvozem odpadu do 20 km a se složením, | AG50: SPI
A51: 25 | B51: 00572400R | C51: směs travní parková, pro běžnou zátěž | D51: kg | E51: 12 | G51: =ROUND(E51*F51,2) -> 0 | I51: =ROUND(E51*H51,2) -> 0 | K51: =ROUND(E51*J51,2) -> 0 | L51: 21 | M51: =G51*(1+L51/100) -> 0 | N51: 0.001 | O51: =ROUND(E51*N51,2) -> 0.01 | P51: 0 | Q51: =ROUND(E51*P51,2) -> 0 | R51: SPCM | S51: RTS 25/ II | T51: RTS 23/ I | U51: 0 | V51: =ROUND(E51*U51,2) -> 0 | X51: Specifikace | Y51: Běžná | AG51: POL3_
A52: 26 | B52: 18401 | C52: Výsadba stromu (např. Platan bělokorý) | D52: kus | E52: 1 | G52: =ROUND(E52*F52,2) -> 0 | I52: =ROUND(E52*H52,2) -> 0 | K52: =ROUND(E52*J52,2) -> 0 | L52: 21 | M52: =G52*(1+L52/100) -> 0 | N52: 0 | O52: =ROUND(E52*N52,2) -> 0 | P52: 0 | Q52: =ROUND(E52*P52,2) -> 0 | S52: Vlastní | T52: Kalkul | U52: 0 | V52: =ROUND(E52*U52,2) -> 0 | X52: Práce | Y52: Běžná | AG52: POL1_
A53: Díl: | B53: 27 | C53: Základy | G53: =SUMIF(AG54:AG58,"<>NOR",G54:G58) -> 0 | I53: =SUM(I54:I58) -> 0 | K53: =SUM(K54:K58) -> 0 | M53: =SUM(M54:M58) -> 0 | O53: =SUM(O54:O58) -> 0.7 | Q53: =SUM(Q54:Q58) -> 0 | V53: =SUM(V54:V58) -> 1.76 | AG53: DIL
A54: 27 | B54: 274313611R00 | C54: Beton základových pasů prostý třídy C 16/20 | D54: m3 | E54: 0.25875 | G54: =ROUND(E54*F54,2) -> 0 | I54: =ROUND(E54*H54,2) -> 0 | K54: =ROUND(E54*J54,2) -> 0 | L54: 21 | M54: =G54*(1+L54/100) -> 0 | N54: 2.525 | O54: =ROUND(E54*N54,2) -> 0.65 | P54: 0 | Q54: =ROUND(E54*P54,2) -> 0 | R54: 801-1 | S54: RTS 25/ II | T54: RTS 23/ I | U54: 0.477 | V54: =ROUND(E54*U54,2) -> 0.12 | X54: Práce | Y54: Běžná | AG54: POL1_
A55: 28 | B55: 274351215R00 | C55: Bednění stěn základových pasů zřízení | D55: m2 | E55: 1.2 | G55: =ROUND(E55*F55,2) -> 0 | I55: =ROUND(E55*H55,2) -> 0 | K55: =ROUND(E55*J55,2) -> 0 | L55: 21 | M55: =G55*(1+L55/100) -> 0 | N55: 0.03916 | O55: =ROUND(E55*N55,2) -> 0.05 | P55: 0 | Q55: =ROUND(E55*P55,2) -> 0 | R55: 801-1 | S55: RTS 25/ II | T55: RTS 23/ I | U55: 1.05 | V55: =ROUND(E55*U55,2) -> 1.26 | X55: Práce | Y55: Běžná | AG55: POL1_
C56: svislé nebo šikmé (odkloněné), půdorysně přímé nebo zalomené, stěn základových pasů ve volných nebo zapažených jámách, rýhách, šachtách, včetně případných vzpěr, | AG56: SPI | BA56: =C56 -> svislé nebo šikmé (odkloněné), půdorysně přímé nebo zalomené, stěn základových pasů ve volných nebo zapažených jámách, rýhách, šachtách, včetně případných vzpěr,
A57: 29 | B57: 274351216R00 | C57: Bednění stěn základových pasů odstranění | D57: m2 | E57: 1.2 | G57: =ROUND(E57*F57,2) -> 0 | I57: =ROUND(E57*H57,2) -> 0 | K57: =ROUND(E57*J57,2) -> 0 | L57: 21 | M57: =G57*(1+L57/100) -> 0 | N57: 0 | O57: =ROUND(E57*N57,2) -> 0 | P57: 0 | Q57: =ROUND(E57*P57,2) -> 0 | R57: 801-1 | S57: RTS 25/ II | T57: RTS 23/ I | U57: 0.32 | V57: =ROUND(E57*U57,2) -> 0.38 | X57: Práce | Y57: Běžná | AG57: POL1_
C58: svislé nebo šikmé (odkloněné), půdorysně přímé nebo zalomené, stěn základových pasů ve volných nebo zapažených jámách, rýhách, šachtách, včetně případných vzpěr, | AG58: SPI | BA58: =C58 -> svislé nebo šikmé (odkloněné), půdorysně přímé nebo zalomené, stěn základových pasů ve volných nebo zapažených jámách, rýhách, šachtách, včetně případných vzpěr,
A59: Díl: | B59: 28 | C59: Zpevňování hornin a konstrukcí | G59: =SUMIF(AG60:AG61,"<>NOR",G60:G61) -> 0 | I59: =SUM(I60:I61) -> 0 | K59: =SUM(K60:K61) -> 0 | M59: =SUM(M60:M61) -> 0 | O59: =SUM(O60:O61) -> 0.14 | Q59: =SUM(Q60:Q61) -> 0 | V59: =SUM(V60:V61) -> 17.75 | AG59: DIL
A60: 30 | B60: 289971211R00 | C60: Zřízení vrstvy z geotextilie na upraveném povrchu sklon do 1:5, šířka od 0 do 3 m | D60: m2 | E60: 403.43 | G60: =ROUND(E60*F60,2) -> 0 | I60: =ROUND(E60*H60,2) -> 0 | K60: =ROUND(E60*J60,2) -> 0 | L60: 21 | M60: =G60*(1+L60/100) -> 0 | N60: 3e-05 | O60: =ROUND(E60*N60,2) -> 0.01 | P60: 0 | Q60: =ROUND(E60*P60,2) -> 0 | R60: 800-2 | S60: RTS 25/ II | T60: RTS 23/ I | U60: 0.044 | V60: =ROUND(E60*U60,2) -> 17.75 | X60: Práce | Y60: Běžná | AG60: POL1_
A61: 31 | B61: 69366055R | C61: Geosyntetika typ: geotextilie; netkaná; materiál: PP; tl (2 kPa) = 3,9 mm; plošná hmotnost = 300 g/m2 | D61: m2 | E61: 443.773 | G61: =ROUND(E61*F61,2) -> 0 | I61: =ROUND(E61*H61,2) -> 0 | K61: =ROUND(E61*J61,2) -> 0 | L61: 21 | M61: =G61*(1+L61/100) -> 0 | N61: 0.0003 | O61: =ROUND(E61*N61,2) -> 0.13 | P61: 0 | Q61: =ROUND(E61*P61,2) -> 0 | R61: SPCM | S61: RTS 25/ II | T61: RTS 23/ I | U61: 0 | V61: =ROUND(E61*U61,2) -> 0 | X61: Specifikace | Y61: Běžná | AG61: POL3_
A62: Díl: | B62: 56 | C62: Podkladní vrstvy komunikací a zpevněných ploch | G62: =SUMIF(AG63:AG71,"<>NOR",G63:G71) -> 0 | I62: =SUM(I63:I71) -> 0 | K62: =SUM(K63:K71) -> 0 | M62: =SUM(M63:M71) -> 0 | O62: =SUM(O63:O71) -> 402.97 | Q62: =SUM(Q63:Q71) -> 0 | V62: =SUM(V63:V71) -> 52.9 | AG62: DIL
A63: 32 | B63: 564851111RT2 | C63: Podklad ze štěrkodrti s rozprostřením a zhutněním frakce 0-32 mm, tloušťka po zhutnění 150 mm | D63: m2 | E63: 212.2 | G63: =ROUND(E63*F63,2) -> 0 | I63: =ROUND(E63*H63,2) -> 0 | K63: =ROUND(E63*J63,2) -> 0 | L63: 21 | M63: =G63*(1+L63/100) -> 0 | N63: 0.378 | O63: =ROUND(E63*N63,2) -> 80.21 | P63: 0 | Q63: =ROUND(E63*P63,2) -> 0 | R63: 822-1 | S63: RTS 25/ II | T63: RTS 23/ I | U63: 0.026 | V63: =ROUND(E63*U63,2) -> 5.52 | X63: Práce | Y63: Běžná | AG63: POL1_
A64: 33 | B64: 564851111RT4 | C64: Podklad ze štěrkodrti s rozprostřením a zhutněním frakce 0-63 mm, tloušťka po zhutnění 150 mm | D64: m2 | E64: 726.33 | G64: =ROUND(E64*F64,2) -> 0 | I64: =ROUND(E64*H64,2) -> 0 | K64: =ROUND(E64*J64,2) -> 0 | L64: 21 | M64: =G64*(1+L64/100) -> 0 | N64: 0.378 | O64: =ROUND(E64*N64,2) -> 274.55 | P64: 0 | Q64: =ROUND(E64*P64,2) -> 0 | R64: 822-1 | S64: RTS 25/ II | T64: RTS 23/ I | U64: 0.026 | V64: =ROUND(E64*U64,2) -> 18.88 | X64: Práce | Y64: Běžná | AG64: POL1_
A65: 34 | B65: 564861111RT2 | C65: Podklad ze štěrkodrti s rozprostřením a zhutněním frakce 0-32 mm, tloušťka po zhutnění 200 mm | D65: m2 | E65: 64.7 | G65: =ROUND(E65*F65,2) -> 0 | I65: =ROUND(E65*H65,2) -> 0 | K65: =ROUND(E65*J65,2) -> 0 | L65: 21 | M65: =G65*(1+L65/100) -> 0 | N65: 0.441 | O65: =ROUND(E65*N65,2) -> 28.53 | P65: 0 | Q65: =ROUND(E65*P65,2) -> 0 | R65: 822-1 | S65: RTS 25/ II | T65: RTS 23/ I | U65: 0.029 | V65: =ROUND(E65*U65,2) -> 1.88 | X65: Práce | Y65: Běžná | AG65: POL1_
A66: 35 | B66: 631315621R00 | C66: Mazanina z betonu prostého tl. přes 120 do 240 mm třídy C 20/25, | D66: m3 | E66: 7.59 | G66: =ROUND(E66*F66,2) -> 0 | I66: =ROUND(E66*H66,2) -> 0 | K66: =ROUND(E66*J66,2) -> 0 | L66: 21 | M66: =G66*(1+L66/100) -> 0 | N66: 2.525 | O66: =ROUND(E66*N66,2) -> 19.16 | P66: 0 | Q66: =ROUND(E66*P66,2) -> 0 | R66: 801-1 | S66: RTS 25/ II | T66: RTS 23/ I | U66: 2.317 | V66: =ROUND(E66*U66,2) -> 17.59 | X66: Práce | Y66: Běžná | AG66: POL1_
C67: (z kameniva) hlazená dřevěným hladítkem | AG67: SPI
A68: 36 | B68: 631319175R00 | C68: Příplatek za stržení povrchu tloušťka mazaniny od 120 mm do 240 mm | D68: m3 | E68: 7.59 | G68: =ROUND(E68*F68,2) -> 0 | I68: =ROUND(E68*H68,2) -> 0 | K68: =ROUND(E68*J68,2) -> 0 | L68: 21 | M68: =G68*(1+L68/100) -> 0 | N68: 0 | O68: =ROUND(E68*N68,2) -> 0 | P68: 0 | Q68: =ROUND(E68*P68,2) -> 0 | R68: 801-1 | S68: RTS 25/ II | T68: RTS 23/ I | U68: 0.205 | V68: =ROUND(E68*U68,2) -> 1.56 | X68: Práce | Y68: Běžná | AG68: POL1_
C69: spodní vrstvy mazaniny latí před vložením výztuže nebo pletiva pro tloušťku obou vrstev mazaniny | AG69: SPI
A70: 37 | B70: 631361921RT4 | C70: Výztuž mazanin z betonů a z lehkých betonů ze svařovaných sítí průměr drátu 6 mm, velikost oka 100/100 mm | D70: t | E70: 0.49018 | G70: =ROUND(E70*F70,2) -> 0 | I70: =ROUND(E70*H70,2) -> 0 | K70: =ROUND(E70*J70,2) -> 0 | L70: 21 | M70: =G70*(1+L70/100) -> 0 | N70: 1.06625 | O70: =ROUND(E70*N70,2) -> 0.52 | P70: 0 | Q70: =ROUND(E70*P70,2) -> 0 | R70: 801-1 | S70: RTS 25/ II | T70: RTS 23/ I | U70: 15.231 | V70: =ROUND(E70*U70,2) -> 7.47 | X70: Práce | Y70: Běžná | AG70: POL1_
C71: včetně distančních prvků | AG71: SPI
A72: Díl: | B72: 57 | C72: Kryty štěrkových a živičných komunikací | G72: =SUMIF(AG73:AG77,"<>NOR",G73:G77) -> 0 | I72: =SUM(I73:I77) -> 0 | K72: =SUM(K73:K77) -> 0 | M72: =SUM(M73:M77) -> 0 | O72: =SUM(O73:O77) -> 15.48 | Q72: =SUM(Q73:Q77) -> 0 | V72: =SUM(V73:V77) -> 2.59 | AG72: DIL
A73: 38 | B73: 573111114R00 | C73: Postřik infiltrační asfaltovým pojivem v množství 2 kg/m2 | D73: m2 | E73: 64.7 | G73: =ROUND(E73*F73,2) -> 0 | I73: =ROUND(E73*H73,2) -> 0 | K73: =ROUND(E73*J73,2) -> 0 | L73: 21 | M73: =G73*(1+L73/100) -> 0 | N73: 0.00702 | O73: =ROUND(E73*N73,2) -> 0.45 | P73: 0 | Q73: =ROUND(E73*P73,2) -> 0 | R73: 822-1 | S73: RTS 25/ II | T73: RTS 23/ I | U73: 0.004 | V73: =ROUND(E73*U73,2) -> 0.26 | X73: Práce | Y73: Běžná | AG73: POL1_
A74: 39 | B74: 577142222RT3 | C74: Beton asfaltový s rozprostřením a zhutněním v pruhu šířky přes 3 m, ACL 22, tloušťky 50 mm, plochy do 200 m2 | D74: m2 | E74: 64.7 | G74: =ROUND(E74*F74,2) -> 0 | I74: =ROUND(E74*H74,2) -> 0 | K74: =ROUND(E74*J74,2) -> 0 | L74: 21 | M74: =G74*(1+L74/100) -> 0 | N74: 0.12818 | O74: =ROUND(E74*N74,2) -> 8.29 | P74: 0 | Q74: =ROUND(E74*P74,2) -> 0 | R74: 822-1 | S74: RTS 25/ II | T74: RTS 23/ I | U74: 0.021 | V74: =ROUND(E74*U74,2) -> 1.36 | X74: Práce | Y74: Běžná | AG74: POL1_
A75: 40 | B75: 573211109 | C75: Postřik živičný spojovací z asfaltu v množství 0,50 kg/m2 | D75: m2 | E75: 64.7 | G75: =ROUND(E75*F75,2) -> 0 | I75: =ROUND(E75*H75,2) -> 0 | K75: =ROUND(E75*J75,2) -> 0 | L75: 21 | M75: =G75*(1+L75/100) -> 0 | N75: 0.00051 | O75: =ROUND(E75*N75,2) -> 0.03 | P75: 0 | Q75: =ROUND(E75*P75,2) -> 0 | S75: Vlastní | T75: Kalkul | U75: 0 | V75: =ROUND(E75*U75,2) -> 0 | X75: Práce | Y75: Běžná | AG75: POL1_
A76: 41 | B76: 577132111RT3 | C76: Beton asfaltový s rozprostřením a zhutněním v pruhu šířky přes 3 m, ACO 11+, tloušťky 40 mm, plochy do 200 m2 | D76: m2 | E76: 64.7 | G76: =ROUND(E76*F76,2) -> 0 | I76: =ROUND(E76*H76,2) -> 0 | K76: =ROUND(E76*J76,2) -> 0 | L76: 21 | M76: =G76*(1+L76/100) -> 0 | N76: 0.10373 | O76: =ROUND(E76*N76,2) -> 6.71 | P76: 0 | Q76: =ROUND(E76*P76,2) -> 0 | R76: 822-1 | S76: RTS 25/ II | T76: RTS 23/ I | U76: 0.015 | V76: =ROUND(E76*U76,2) -> 0.97 | X76: Práce | Y76: Běžná | AG76: POL1_
A77: 42 | B77: 57701 | C77: Zalití spáry v živičném krytu | D77: m | E77: 120 | G77: =ROUND(E77*F77,2) -> 0 | I77: =ROUND(E77*H77,2) -> 0 | K77: =ROUND(E77*J77,2) -> 0 | L77: 21 | M77: =G77*(1+L77/100) -> 0 | N77: 0 | O77: =ROUND(E77*N77,2) -> 0 | P77: 0 | Q77: =ROUND(E77*P77,2) -> 0 | S77: Vlastní | T77: Kalkul | U77: 0 | V77: =ROUND(E77*U77,2) -> 0 | X77: Práce | Y77: Běžná | AG77: POL1_
A78: Díl: | B78: 59 | C78: Dlažby a předlažby komunikací | G78: =SUMIF(AG79:AG82,"<>NOR",G79:G82) -> 0 | I78: =SUM(I79:I82) -> 0 | K78: =SUM(K79:K82) -> 0 | M78: =SUM(M79:M82) -> 0 | O78: =SUM(O79:O82) -> 48.93 | Q78: =SUM(Q79:Q82) -> 0 | V78: =SUM(V79:V82) -> 146.92 | AG78: DIL
A79: 43 | B79: 596215020R00 | C79: Kladení zámkové dlažby do drtě tloušťka dlažby 60 mm, tloušťka lože 30 mm | D79: m2 | E79: 258.2 | G79: =ROUND(E79*F79,2) -> 0 | I79: =ROUND(E79*H79,2) -> 0 | K79: =ROUND(E79*J79,2) -> 0 | L79: 21 | M79: =G79*(1+L79/100) -> 0 | N79: 0.05545 | O79: =ROUND(E79*N79,2) -> 14.32 | P79: 0 | Q79: =ROUND(E79*P79,2) -> 0 | R79: 822-1 | S79: RTS 25/ II | T79: RTS 23/ I | U79: 0.442 | V79: =ROUND(E79*U79,2) -> 114.12 | X79: Práce | Y79: Běžná | AG79: POL1_
C80: s provedením lože z kameniva drceného, s vyplněním spár, s dvojitým hutněním a se smetením přebytečného materiálu na krajnici. S dodáním hmot pro lože a výplň spár. | AG80: SPI | BA80: =C80 -> s provedením lože z kameniva drceného, s vyplněním spár, s dvojitým hutněním a se smetením přebytečného materiálu na krajnici. S dodáním hmot pro lože a výplň spár.
A81: 44 | B81: 596291111R00 | C81: Řezání zámkové dlažby tloušťky 60 mm | D81: m | E81: 80 | G81: =ROUND(E81*F81,2) -> 0 | I81: =ROUND(E81*H81,2) -> 0 | K81: =ROUND(E81*J81,2) -> 0 | L81: 21 | M81: =G81*(1+L81/100) -> 0 | N81: 0.00033 | O81: =ROUND(E81*N81,2) -> 0.03 | P81: 0 | Q81: =ROUND(E81*P81,2) -> 0 | R81: 822-1 | S81: RTS 25/ II | T81: RTS 23/ I | U81: 0.41 | V81: =ROUND(E81*U81,2) -> 32.8 | X81: Práce | Y81: Běžná | AG81: POL1_
A82: 45 | B82: 59245308R | C82: Dlažba betonová typ: obdélníkový; dl = 200 mm; š = 100 mm; tl = 60,0 mm; povrchová úprava: impregnace; provedení: přírodní | D82: m2 | E82: 264 | G82: =ROUND(E82*F82,2) -> 0 | I82: =ROUND(E82*H82,2) -> 0 | K82: =ROUND(E82*J82,2) -> 0 | L82: 21 | M82: =G82*(1+L82/100) -> 0 | N82: 0.131 | O82: =ROUND(E82*N82,2) -> 34.58 | P82: 0 | Q82: =ROUND(E82*P82,2) -> 0 | R82: SPCM | S82: RTS 25/ II | T82: RTS 23/ I | U82: 0 | V82: =ROUND(E82*U82,2) -> 0 | X82: Specifikace | Y82: Běžná | AG82: POL3_
A83: Díl: | B83: 8 | C83: Trubní vedení | G83: =SUMIF(AG84:AG100,"<>NOR",G84:G100) -> 0 | I83: =SUM(I84:I100) -> 0 | K83: =SUM(K84:K100) -> 0 | M83: =SUM(M84:M100) -> 0 | O83: =SUM(O84:O100) -> 0.06 | Q83: =SUM(Q84:Q100) -> 0 | V83: =SUM(V84:V100) -> 9.65 | AG83: DIL
A84: 46 | B84: 871313121R00 | C84: Montáž potrubí z trub z plastů těsněných gumovým kroužkem DN 150 | D84: m | E84: 4 | G84: =ROUND(E84*F84,2) -> 0 | I84: =ROUND(E84*H84,2) -> 0 | K84: =ROUND(E84*J84,2) -> 0 | L84: 21 | M84: =G84*(1+L84/100) -> 0 | N84: 0 | O84: =ROUND(E84*N84,2) -> 0 | P84: 0 | Q84: =ROUND(E84*P84,2) -> 0 | R84: 827-1 | S84: RTS 25/ II | T84: RTS 23/ I | U84: 0.066 | V84: =ROUND(E84*U84,2) -> 0.26 | X84: Práce | Y84: Běžná | AG84: POL1_1
C85: v otevřeném výkopu ve sklonu do 20 %, | AG85: SPI
A86: 47 | B86: 899202111R00 | C86: Osazení mříží litinových o hmotnost jednotlivě přes 50 do 100 kg | D86: kus | E86: 4 | G86: =ROUND(E86*F86,2) -> 0 | I86: =ROUND(E86*H86,2) -> 0 | K86: =ROUND(E86*J86,2) -> 0 | L86: 21 | M86: =G86*(1+L86/100) -> 0 | N86: 0.00936 | O86: =ROUND(E86*N86,2) -> 0.04 | P86: 0 | Q86: =ROUND(E86*P86,2) -> 0 | R86: 827-1 | S86: RTS 25/ II | T86: RTS 23/ I | U86: 1.314 | V86: =ROUND(E86*U86,2) -> 5.26 | X86: Práce | Y86: Běžná | AG86: POL1_1
C87: včetně rámů a košů na bahno, | AG87: SPI
A88: 48 | B88: 899204111R00 | C88: Osazení mříží litinových o hmotnost jednotlivě přes 150 kg | D88: kus | E88: 2 | G88: =ROUND(E88*F88,2) -> 0 | I88: =ROUND(E88*H88,2) -> 0 | K88: =ROUND(E88*J88,2) -> 0 | L88: 21 | M88: =G88*(1+L88/100) -> 0 | N88: 0.0117 | O88: =ROUND(E88*N88,2) -> 0.02 | P88: 0 | Q88: =ROUND(E88*P88,2) -> 0 | R88: 827-1 | S88: RTS 25/ II | T88: RTS 23/ I | U88: 2.064 | V88: =ROUND(E88*U88,2) -> 4.13 | X88: Práce | Y88: Běžná | AG88: POL1_1
C89: včetně rámů a košů na bahno, | AG89: SPI
A90: 49 | B90: 28611150.A | C90: Trubka kanalizační KGEM SN 4 PVC 160x4,0x 500 | D90: kus | E90: 4.06 | G90: =ROUND(E90*F90,2) -> 0 | I90: =ROUND(E90*H90,2) -> 0 | K90: =ROUND(E90*J90,2) -> 0 | L90: 21 | M90: =G90*(1+L90/100) -> 0 | N90: 0 | O90: =ROUND(E90*N90,2) -> 0 | P90: 0 | Q90: =ROUND(E90*P90,2) -> 0 | S90: Vlastní | T90: Kalkul | U90: 0 | V90: =ROUND(E90*U90,2) -> 0 | X90: Specifikace | Y90: Běžná | AG90: POL3_0
A91: 50 | B91: 28611151.A | C91: Trubka kanalizační KGEM SN 4 PVC 160x4,0x1000 | D91: kus | E91: 2.03 | G91: =ROUND(E91*F91,2) -> 0 | I91: =ROUND(E91*H91,2) -> 0 | K91: =ROUND(E91*J91,2) -> 0 | L91: 21 | M91: =G91*(1+L91/100) -> 0 | N91: 0 | O91: =ROUND(E91*N91,2) -> 0 | P91: 0 | Q91: =ROUND(E91*P91,2) -> 0 | S91: Vlastní | T91: Kalkul | U91: 0 | V91: =ROUND(E91*U91,2) -> 0 | X91: Specifikace | Y91: Běžná | AG91: POL3_0
A92: 51 | B92: 55340374 | C92: Mříž s rámem 500/500/160 D400 | D92: kus | E92: 2 | G92: =ROUND(E92*F92,2) -> 0 | I92: =ROUND(E92*H92,2) -> 0 | K92: =ROUND(E92*J92,2) -> 0 | L92: 21 | M92: =G92*(1+L92/100) -> 0 | N92: 0 | O92: =ROUND(E92*N92,2) -> 0 | P92: 0 | Q92: =ROUND(E92*P92,2) -> 0 | S92: Vlastní | T92: Kalkul | U92: 0 | V92: =ROUND(E92*U92,2) -> 0 | X92: Specifikace | Y92: Běžná | AG92: POL3_0
A93: 52 | B93: 55340376 | C93: Obrubníková vpust | D93: kus | E93: 4 | G93: =ROUND(E93*F93,2) -> 0 | I93: =ROUND(E93*H93,2) -> 0 | K93: =ROUND(E93*J93,2) -> 0 | L93: 21 | M93: =G93*(1+L93/100) -> 0 | N93: 0 | O93: =ROUND(E93*N93,2) -> 0 | P93: 0 | Q93: =ROUND(E93*P93,2) -> 0 | S93: Vlastní | T93: Kalkul | U93: 0 | V93: =ROUND(E93*U93,2) -> 0 | X93: Specifikace | Y93: Běžná | AG93: POL3_0
A94: 53 | B94: 59223852 | C94: Spodní díl TBV 2a 45x33x5 cm | D94: kus | E94: 6.06 | G94: =ROUND(E94*F94,2) -> 0 | I94: =ROUND(E94*H94,2) -> 0 | K94: =ROUND(E94*J94,2) -> 0 | L94: 21 | M94: =G94*(1+L94/100) -> 0 | N94: 0 | O94: =ROUND(E94*N94,2) -> 0 | P94: 0 | Q94: =ROUND(E94*P94,2) -> 0 | S94: Vlastní | T94: Kalkul | U94: 0 | V94: =ROUND(E94*U94,2) -> 0 | X94: Specifikace | Y94: Běžná | AG94: POL3_0
A95: 54 | B95: 59223853 | C95: Přípojný díl TBV 3a / PVC 150 mm 45x38x5 cm | D95: kus | E95: 6.06 | G95: =ROUND(E95*F95,2) -> 0 | I95: =ROUND(E95*H95,2) -> 0 | K95: =ROUND(E95*J95,2) -> 0 | L95: 21 | M95: =G95*(1+L95/100) -> 0 | N95: 0 | O95: =ROUND(E95*N95,2) -> 0 | P95: 0 | Q95: =ROUND(E95*P95,2) -> 0 | S95: Vlastní | T95: Kalkul | U95: 0 | V95: =ROUND(E95*U95,2) -> 0 | X95: Specifikace | Y95: Běžná | AG95: POL3_0
A96: 55 | B96: 59223857 | C96: Skruž horní TBV - 5b | D96: kus | E96: 2.02 | G96: =ROUND(E96*F96,2) -> 0 | I96: =ROUND(E96*H96,2) -> 0 | K96: =ROUND(E96*J96,2) -> 0 | L96: 21 | M96: =G96*(1+L96/100) -> 0 | N96: 0 | O96: =ROUND(E96*N96,2) -> 0 | P96: 0 | Q96: =ROUND(E96*P96,2) -> 0 | S96: Vlastní | T96: Kalkul | U96: 0 | V96: =ROUND(E96*U96,2) -> 0 | X96: Specifikace | Y96: Běžná | AG96: POL3_0
A97: 56 | B97: 59223859 | C97: Skruž horní TBV - 5d | D97: kus | E97: 4.04 | G97: =ROUND(E97*F97,2) -> 0 | I97: =ROUND(E97*H97,2) -> 0 | K97: =ROUND(E97*J97,2) -> 0 | L97: 21 | M97: =G97*(1+L97/100) -> 0 | N97: 0 | O97: =ROUND(E97*N97,2) -> 0 | P97: 0 | Q97: =ROUND(E97*P97,2) -> 0 | S97: Vlastní | T97: Kalkul | U97: 0 | V97: =ROUND(E97*U97,2) -> 0 | X97: Specifikace | Y97: Běžná | AG97: POL3_0
A98: 57 | B98: 59223861 | C98: Skruž TBV - 6a | D98: kus | E98: 2.02 | G98: =ROUND(E98*F98,2) -> 0 | I98: =ROUND(E98*H98,2) -> 0 | K98: =ROUND(E98*J98,2) -> 0 | L98: 21 | M98: =G98*(1+L98/100) -> 0 | N98: 0 | O98: =ROUND(E98*N98,2) -> 0 | P98: 0 | Q98: =ROUND(E98*P98,2) -> 0 | S98: Vlastní | T98: Kalkul | U98: 0 | V98: =ROUND(E98*U98,2) -> 0 | X98: Specifikace | Y98: Běžná | AG98: POL3_0
A99: 58 | B99: 592238709 | C99: Koš kalový A4 | D99: kus | E99: 2.02 | G99: =ROUND(E99*F99,2) -> 0 | I99: =ROUND(E99*H99,2) -> 0 | K99: =ROUND(E99*J99,2) -> 0 | L99: 21 | M99: =G99*(1+L99/100) -> 0 | N99: 0 | O99: =ROUND(E99*N99,2) -> 0 | P99: 0 | Q99: =ROUND(E99*P99,2) -> 0 | S99: Vlastní | T99: Kalkul | U99: 0 | V99: =ROUND(E99*U99,2) -> 0 | X99: Specifikace | Y99: Běžná | AG99: POL3_
A100: 59 | B100: 59223871 | C100: Koš kalový B1 | D100: kus | E100: 4.04 | G100: =ROUND(E100*F100,2) -> 0 | I100: =ROUND(E100*H100,2) -> 0 | K100: =ROUND(E100*J100,2) -> 0 | L100: 21 | M100: =G100*(1+L100/100) -> 0 | N100: 0 | O100: =ROUND(E100*N100,2) -> 0 | P100: 0 | Q100: =ROUND(E100*P100,2) -> 0 | S100: Vlastní | T100: Kalkul | U100: 0 | V100: =ROUND(E100*U100,2) -> 0 | X100: Specifikace | Y100: Běžná | AG100: POL3_0
A101: Díl: | B101: 9 | C101: Ostatní konstrukce, bourání | G101: =SUMIF(AG102:AG107,"<>NOR",G102:G107) -> 0 | I101: =SUM(I102:I107) -> 0 | K101: =SUM(K102:K107) -> 0 | M101: =SUM(M102:M107) -> 0 | O101: =SUM(O102:O107) -> 0 | Q101: =SUM(Q102:Q107) -> 0 | V101: =SUM(V102:V107) -> 0.73 | AG101: DIL
A102: 60 | B102: 919731121R00 | C102: Zarovnání styčné plochy podkladu nebo krytu živičné, tloušťky do 50 mm | D102: m | E102: 7 | G102: =ROUND(E102*F102,2) -> 0 | I102: =ROUND(E102*H102,2) -> 0 | K102: =ROUND(E102*J102,2) -> 0 | L102: 21 | M102: =G102*(1+L102/100) -> 0 | N102: 0 | O102: =ROUND(E102*N102,2) -> 0 | P102: 0 | Q102: =ROUND(E102*P102,2) -> 0 | R102: 822-1 | S102: RTS 25/ II | T102: RTS 23/ I | U102: 0.067 | V102: =ROUND(E102*U102,2) -> 0.47 | X102: Práce | Y102: Běžná | AG102: POL1_1
...

Sheet 03 01 Vjezd k bytovce
A1: Položkový soupis prací a dodávek | AG1: #TypZaznamu#
A2: S: | B2: 87277 - 23 | C2: Novostavba chodníku a stav. úpravy části stáv. chodníku s příslušenstvím v obci Údrnice | AG2: STA
A3: O: | B3: 03 | C3: Vjezd k bytovce | AC3: STA | AG3: OBJ
A4: R: | B4: 01 | C4: Vjezd k bytovce | AG4: ROZ
A6: P.č. | B6: Číslo položky | C6: Název položky | D6: MJ | E6: Množství | F6: Cena / MJ | G6: Celkem | H6: Dodávka | I6: Dodávka celk. | J6: Montáž | K6: Montáž celk. | L6: DPH | M6: Cena s DPH | N6: Hmotnost / MJ | O6: Hmotnost celk.(t) | P6: Dem. hmotnost / MJ | Q6: Dem. hmotnost celk.(t) | R6: Ceník | S6: Cen. soustava / platnost | T6: Cenová úroveň | U6: Nhod / MJ | V6: Nhod celk. | W6: Dodavatel | X6: Typ položky | Y6: Stav položky
A8: Díl: | B8: 1 | C8: Zemní práce | G8: =SUMIF(AG9:AG32,"<>NOR",G9:G32) -> 0 | I8: =SUM(I9:I32) -> 0 | K8: =SUM(K9:K32) -> 0 | M8: =SUM(M9:M32) -> 0 | O8: =SUM(O9:O32) -> 0 | Q8: =SUM(Q9:Q32) -> 43.97 | V8: =SUM(V9:V32) -> 93.62 | AG8: DIL
A9: 1 | B9: 919735122R00 | C9: Řezání stávajících krytů nebo podkladů betonových, hloubky přes 50 do 100 mm | D9: m | E9: 21 | G9: =ROUND(E9*F9,2) -> 0 | I9: =ROUND(E9*H9,2) -> 0 | K9: =ROUND(E9*J9,2) -> 0 | L9: 21 | M9: =G9*(1+L9/100) -> 0 | N9: 0 | O9: =ROUND(E9*N9,2) -> 0 | P9: 0 | Q9: =ROUND(E9*P9,2) -> 0 | R9: 822-1 | S9: RTS 25/ II | T9: RTS 23/ I | U9: 0.074 | V9: =ROUND(E9*U9,2) -> 1.55 | X9: Práce | Y9: Běžná | AG9: POL1_
C10: včetně spotřeby vody | AG10: SPI
A11: 2 | B11: 113108409R00 | C11: Odstranění podkladů nebo krytů živičných, v ploše jednotlivě nad 50 m2, tloušťka vrstvy 90 mm | D11: m2 | E11: 203 | G11: =ROUND(E11*F11,2) -> 0 | I11: =ROUND(E11*H11,2) -> 0 | K11: =ROUND(E11*J11,2) -> 0 | L11: 21 | M11: =G11*(1+L11/100) -> 0 | N11: 0 | O11: =ROUND(E11*N11,2) -> 0 | P11: 0.198 | Q11: =ROUND(E11*P11,2) -> 40.19 | R11: 822-1 | S11: RTS 25/ II | T11: RTS 23/ I | U11: 0.0646 | V11: =ROUND(E11*U11,2) -> 13.11 | X11: Práce | Y11: Běžná | AG11: POL1_
A12: 3 | B12: 113202111R00 | C12: Vytrhání obrub z krajníků nebo obrubníků stojatých | D12: m | E12: 14 | G12: =ROUND(E12*F12,2) -> 0 | I12: =ROUND(E12*H12,2) -> 0 | K12: =ROUND(E12*J12,2) -> 0 | L12: 21 | M12: =G12*(1+L12/100) -> 0 | N12: 0 | O12: =ROUND(E12*N12,2) -> 0 | P12: 0.27 | Q12: =ROUND(E12*P12,2) -> 3.78 | R12: 822-1 | S12: RTS 25/ II | T12: RTS 23/ I | U12: 0.123 | V12: =ROUND(E12*U12,2) -> 1.72 | X12: Práce | Y12: Běžná | AG12: POL1_
C13: s vybouráním lože, s přemístěním hmot na skládku na vzdálenost do 3 m nebo naložením na dopravní prostředek | AG13: SPI | BA13: =C13 -> s vybouráním lože, s přemístěním hmot na skládku na vzdálenost do 3 m nebo naložením na dopravní prostředek
A14: 4 | B14: 979087212R00 | C14: Nakládání na dopravní prostředky suti | D14: t | E14: 43.974 | G14: =ROUND(E14*F14,2) -> 0 | I14: =ROUND(E14*H14,2) -> 0 | K14: =ROUND(E14*J14,2) -> 0 | L14: 21 | M14: =G14*(1+L14/100) -> 0 | N14: 0 | O14: =ROUND(E14*N14,2) -> 0 | P14: 0 | Q14: =ROUND(E14*P14,2) -> 0 | R14: 822-1 | S14: RTS 25/ II | T14: RTS 23/ I | U14: 0.099 | V14: =ROUND(E14*U14,2) -> 4.35 | X14: Přesun suti | Y14: Běžná | AG14: POL8_
C15: pro vodorovnou dopravu | AG15: SPI
A16: 5 | B16: 979082213R00 | C16: Vodorovná doprava suti po suchu bez naložení, ale se složením a hrubým urovnáním na vzdálenost do 1 km | D16: t | E16: 43.974 | G16: =ROUND(E16*F16,2) -> 0 | I16: =ROUND(E16*H16,2) -> 0 | K16: =ROUND(E16*J16,2) -> 0 | L16: 21 | M16: =G16*(1+L16/100) -> 0 | N16: 0 | O16: =ROUND(E16*N16,2) -> 0 | P16: 0 | Q16: =ROUND(E16*P16,2) -> 0 | R16: 822-1 | S16: RTS 25/ II | T16: RTS 23/ I | U16: 0.01 | V16: =ROUND(E16*U16,2) -> 0.44 | X16: Přesun suti | Y16: Běžná | AG16: POL8_
A17: 6 | B17: 979082219R00 | C17: Vodorovná doprava suti po suchu příplatek k ceně za každý další i započatý 1 km přes 1 km | D17: t | E17: 835.506 | G17: =ROUND(E17*F17,2) -> 0 | I17: =ROUND(E17*H17,2) -> 0 | K17: =ROUND(E17*J17,2) -> 0 | L17: 21 | M17: =G17*(1+L17/100) -> 0 | N17: 0 | O17: =ROUND(E17*N17,2) -> 0 | P17: 0 | Q17: =ROUND(E17*P17,2) -> 0 | R17: 822-1 | S17: RTS 25/ II | T17: RTS 23/ I | U17: 0 | V17: =ROUND(E17*U17,2) -> 0 | X17: Přesun suti | Y17: Běžná | AG17: POL8_
A18: 7 | B18: 979990 | C18: Poplatek za uložení suti - obal. kamenivo, asfalt, skupina odpadu 170302 | D18: t | E18: 40.194 | G18: =ROUND(E18*F18,2) -> 0 | I18: =ROUND(E18*H18,2) -> 0 | K18: =ROUND(E18*J18,2) -> 0 | L18: 21 | M18: =G18*(1+L18/100) -> 0 | N18: 0 | O18: =ROUND(E18*N18,2) -> 0 | P18: 0 | Q18: =ROUND(E18*P18,2) -> 0 | S18: Vlastní | T18: Kalkul | U18: 0 | V18: =ROUND(E18*U18,2) -> 0 | X18: Práce | Y18: Běžná | AG18: POL1_
A19: 8 | B19: 979991 | C19: Poplatek za uložení suti - beton, skupina odpadu 170101 | D19: t | E19: 3.78 | G19: =ROUND(E19*F19,2) -> 0 | I19: =ROUND(E19*H19,2) -> 0 | K19: =ROUND(E19*J19,2) -> 0 | L19: 21 | M19: =G19*(1+L19/100) -> 0 | N19: 0 | O19: =ROUND(E19*N19,2) -> 0 | P19: 0 | Q19: =ROUND(E19*P19,2) -> 0 | S19: Vlastní | T19: Kalkul | U19: 0 | V19: =ROUND(E19*U19,2) -> 0 | X19: Práce | Y19: Běžná | AG19: POL1_
A20: 9 | B20: 122201101R00 | C20: Odkopávky a prokopávky nezapažené v hornině 3 do 100 m3 | D20: m3 | E20: 27 | G20: =ROUND(E20*F20,2) -> 0 | I20: =ROUND(E20*H20,2) -> 0 | K20: =ROUND(E20*J20,2) -> 0 | L20: 21 | M20: =G20*(1+L20/100) -> 0 | N20: 0 | O20: =ROUND(E20*N20,2) -> 0 | P20: 0 | Q20: =ROUND(E20*P20,2) -> 0 | R20: 800-1 | S20: RTS 25/ II | T20: RTS 23/ I | U20: 0.368 | V20: =ROUND(E20*U20,2) -> 9.94 | X20: Práce | Y20: Běžná | AG20: POL1_
C21: s přehozením výkopku na vzdálenost do 3 m nebo s naložením na dopravní prostředek, | AG21: SPI
A22: 10 | B22: 122201109R00 | C22: Odkopávky a prokopávky nezapažené v hornině 3 příplatek k cenám za lepivost horniny | D22: m3 | E22: 13.5 | G22: =ROUND(E22*F22,2) -> 0 | I22: =ROUND(E22*H22,2) -> 0 | K22: =ROUND(E22*J22,2) -> 0 | L22: 21 | M22: =G22*(1+L22/100) -> 0 | N22: 0 | O22: =ROUND(E22*N22,2) -> 0 | P22: 0 | Q22: =ROUND(E22*P22,2) -> 0 | R22: 800-1 | S22: RTS 25/ II | T22: RTS 23/ I | U22: 0.058 | V22: =ROUND(E22*U22,2) -> 0.78 | X22: Práce | Y22: Běžná | AG22: POL1_
C23: s přehozením výkopku na vzdálenost do 3 m nebo s naložením na dopravní prostředek, | AG23: SPI
A24: 11 | B24: 122301102R00 | C24: Odkopávky a prokopávky nezapažené v hornině 4 přes 100 do 1 000 m3 | D24: m3 | E24: 105.125 | G24: =ROUND(E24*F24,2) -> 0 | I24: =ROUND(E24*H24,2) -> 0 | K24: =ROUND(E24*J24,2) -> 0 | L24: 21 | M24: =G24*(1+L24/100) -> 0 | N24: 0 | O24: =ROUND(E24*N24,2) -> 0 | P24: 0 | Q24: =ROUND(E24*P24,2) -> 0 | R24: 800-1 | S24: RTS 25/ II | T24: RTS 23/ I | U24: 0.294 | V24: =ROUND(E24*U24,2) -> 30.91 | X24: Práce | Y24: Běžná | AG24: POL1_
C25: s přehozením výkopku na vzdálenost do 3 m nebo s naložením na dopravní prostředek, | AG25: SPI
A26: 12 | B26: 122301109R00 | C26: Odkopávky a prokopávky nezapažené v hornině 4 příplatek k cenám za lepivost horniny | D26: m3 | E26: 31.5375 | G26: =ROUND(E26*F26,2) -> 0 | I26: =ROUND(E26*H26,2) -> 0 | K26: =ROUND(E26*J26,2) -> 0 | L26: 21 | M26: =G26*(1+L26/100) -> 0 | N26: 0 | O26: =ROUND(E26*N26,2) -> 0 | P26: 0 | Q26: =ROUND(E26*P26,2) -> 0 | R26: 800-1 | S26: RTS 25/ II | T26: RTS 23/ I | U26: 0.081 | V26: =ROUND(E26*U26,2) -> 2.55 | X26: Práce | Y26: Běžná | AG26: POL1_
C27: s přehozením výkopku na vzdálenost do 3 m nebo s naložením na dopravní prostředek, | AG27: SPI
A28: 13 | B28: 162301101R00 | C28: Vodorovné přemístění výkopku z horniny 1 až 4, na vzdálenost přes 50 do 500 m | D28: m3 | E28: 132.125 | G28: =ROUND(E28*F28,2) -> 0 | I28: =ROUND(E28*H28,2) -> 0 | K28: =ROUND(E28*J28,2) -> 0 | L28: 21 | M28: =G28*(1+L28/100) -> 0 | N28: 0 | O28: =ROUND(E28*N28,2) -> 0 | P28: 0 | Q28: =ROUND(E28*P28,2) -> 0 | R28: 800-1 | S28: RTS 25/ II | T28: RTS 23/ I | U28: 0.011 | V28: =ROUND(E28*U28,2) -> 1.45 | X28: Práce | Y28: Běžná | AG28: POL1_
C29: po suchu, bez naložení výkopku, avšak se složením bez rozhrnutí, zpáteční cesta vozidla. | AG29: SPI
A30: 14 | B30: 171201201R00 | C30: Uložení sypaniny na dočasnou skládku tak, že na 1 m2 plochy připadá přes 2 m3 výkopku nebo ornice | D30: m3 | E30: 132.125 | G30: =ROUND(E30*F30,2) -> 0 | I30: =ROUND(E30*H30,2) -> 0 | K30: =ROUND(E30*J30,2) -> 0 | L30: 21 | M30: =G30*(1+L30/100) -> 0 | N30: 0 | O30: =ROUND(E30*N30,2) -> 0 | P30: 0 | Q30: =ROUND(E30*P30,2) -> 0 | R30: 800-1 | S30: RTS 25/ II | T30: RTS 23/ I | U30: 0.009 | V30: =ROUND(E30*U30,2) -> 1.19 | X30: Práce | Y30: Běžná | AG30: POL1_
A31: 15 | B31: 181101111R00 | C31: Úprava pláně v zářezech bez rozlišení horniny, se zhutněním - ručně | D31: m2 | E31: 267 | G31: =ROUND(E31*F31,2) -> 0 | I31: =ROUND(E31*H31,2) -> 0 | K31: =ROUND(E31*J31,2) -> 0 | L31: 21 | M31: =G31*(1+L31/100) -> 0 | N31: 0 | O31: =ROUND(E31*N31,2) -> 0 | P31: 0 | Q31: =ROUND(E31*P31,2) -> 0 | R31: 800-1 | S31: RTS 25/ II | T31: RTS 23/ I | U31: 0.096 | V31: =ROUND(E31*U31,2) -> 25.63 | X31: Práce | Y31: Běžná | AG31: POL1_
C32: vyrovnáním výškových rozdílů, ploch vodorovných a ploch do sklonu 1 : 5. | AG32: SPI
A33: Díl: | B33: 28 | C33: Zpevňování hornin a konstrukcí | G33: =SUMIF(AG34:AG35,"<>NOR",G34:G35) -> 0 | I33: =SUM(I34:I35) -> 0 | K33: =SUM(K34:K35) -> 0 | M33: =SUM(M34:M35) -> 0 | O33: =SUM(O34:O35) -> 0.1 | Q33: =SUM(Q34:Q35) -> 0 | V33: =SUM(V34:V35) -> 11.75 | AG33: DIL
A34: 16 | B34: 289971211R00 | C34: Zřízení vrstvy z geotextilie na upraveném povrchu sklon do 1:5, šířka od 0 do 3 m | D34: m2 | E34: 267 | G34: =ROUND(E34*F34,2) -> 0 | I34: =ROUND(E34*H34,2) -> 0 | K34: =ROUND(E34*J34,2) -> 0 | L34: 21 | M34: =G34*(1+L34/100) -> 0 | N34: 3e-05 | O34: =ROUND(E34*N34,2) -> 0.01 | P34: 0 | Q34: =ROUND(E34*P34,2) -> 0 | R34: 800-2 | S34: RTS 25/ II | T34: RTS 23/ I | U34: 0.044 | V34: =ROUND(E34*U34,2) -> 11.75 | X34: Práce | Y34: Běžná | AG34: POL1_
A35: 17 | B35: 69366055R | C35: geotextilie PP; funkce drenážní, separační, výztužná, filtrační; plošná hmotnost 300 g/m2; tl. při 2 kPa 3,90 mm | D35: m2 | E35: 293.7 | G35: =ROUND(E35*F35,2) -> 0 | I35: =ROUND(E35*H35,2) -> 0 | K35: =ROUND(E35*J35,2) -> 0 | L35: 21 | M35: =G35*(1+L35/100) -> 0 | N35: 0.0003 | O35: =ROUND(E35*N35,2) -> 0.09 | P35: 0 | Q35: =ROUND(E35*P35,2) -> 0 | R35: SPCM | S35: RTS 25/ II | T35: RTS 23/ I | U35: 0 | V35: =ROUND(E35*U35,2) -> 0 | X35: Specifikace | Y35: Běžná | AG35: POL3_
A36: Díl: | B36: 56 | C36: Podkladní vrstvy komunikací a zpevněných ploch | G36: =SUMIF(AG37:AG38,"<>NOR",G37:G38) -> 0 | I36: =SUM(I37:I38) -> 0 | K36: =SUM(K37:K38) -> 0 | M36: =SUM(M37:M38) -> 0 | O36: =SUM(O37:O38) -> 318.38 | Q36: =SUM(Q37:Q38) -> 0 | V36: =SUM(V37:V38) -> 21.54 | AG36: DIL
A37: 18 | B37: 564851111RT4 | C37: Podklad ze štěrkodrti s rozprostřením a zhutněním frakce 0-63 mm, tloušťka po zhutnění 150 mm | D37: m2 | E37: 534 | G37: =ROUND(E37*F37,2) -> 0 | I37: =ROUND(E37*H37,2) -> 0 | K37: =ROUND(E37*J37,2) -> 0 | L37: 21 | M37: =G37*(1+L37/100) -> 0 | N37: 0.378 | O37: =ROUND(E37*N37,2) -> 201.85 | P37: 0 | Q37: =ROUND(E37*P37,2) -> 0 | R37: 822-1 | S37: RTS 25/ II | T37: RTS 23/ I | U37: 0.026 | V37: =ROUND(E37*U37,2) -> 13.88 | X37: Práce | Y37: Běžná | AG37: POL1_
A38: 19 | B38: 564861111RT2 | C38: Podklad ze štěrkodrti s rozprostřením a zhutněním frakce 0-32 mm, tloušťka po zhutnění 200 mm | D38: m2 | E38: 264.25 | G38: =ROUND(E38*F38,2) -> 0 | I38: =ROUND(E38*H38,2) -> 0 | K38: =ROUND(E38*J38,2) -> 0 | L38: 21 | M38: =G38*(1+L38/100) -> 0 | N38: 0.441 | O38: =ROUND(E38*N38,2) -> 116.53 | P38: 0 | Q38: =ROUND(E38*P38,2) -> 0 | R38: 822-1 | S38: RTS 25/ II | T38: RTS 23/ I | U38: 0.029 | V38: =ROUND(E38*U38,2) -> 7.66 | X38: Práce | Y38: Běžná | AG38: POL1_
A39: Díl: | B39: 57 | C39: Kryty štěrkových a živičných komunikací | G39: =SUMIF(AG40:AG44,"<>NOR",G40:G44) -> 0 | I39: =SUM(I40:I44) -> 0 | K39: =SUM(K40:K44) -> 0 | M39: =SUM(M40:M44) -> 0 | O39: =SUM(O40:O44) -> 48.61 | Q39: =SUM(Q40:Q44) -> 0 | V39: =SUM(V40:V44) -> 8.12 | AG39: DIL
A40: 20 | B40: 573111114R00 | C40: Postřik živičný infiltrační s posypem kamenivem v množství 2 kg/m2 | D40: m2 | E40: 203 | G40: =ROUND(E40*F40,2) -> 0 | I40: =ROUND(E40*H40,2) -> 0 | K40: =ROUND(E40*J40,2) -> 0 | L40: 21 | M40: =G40*(1+L40/100) -> 0 | N40: 0.00702 | O40: =ROUND(E40*N40,2) -> 1.43 | P40: 0 | Q40: =ROUND(E40*P40,2) -> 0 | R40: 822-1 | S40: RTS 25/ II | T40: RTS 23/ I | U40: 0.004 | V40: =ROUND(E40*U40,2) -> 0.81 | X40: Práce | Y40: Běžná | AG40: POL1_
A41: 21 | B41: 577142222RT3 | C41: Beton asfaltový s rozprostřením a zhutněním v pruhu šířky přes 3 m, ACL 22, tloušťky 50 mm, plochy do 200 m2 | D41: m2 | E41: 203 | G41: =ROUND(E41*F41,2) -> 0 | I41: =ROUND(E41*H41,2) -> 0 | K41: =ROUND(E41*J41,2) -> 0 | L41: 21 | M41: =G41*(1+L41/100) -> 0 | N41: 0.12818 | O41: =ROUND(E41*N41,2) -> 26.02 | P41: 0 | Q41: =ROUND(E41*P41,2) -> 0 | R41: 822-1 | S41: RTS 25/ II | T41: RTS 23/ I | U41: 0.021 | V41: =ROUND(E41*U41,2) -> 4.26 | X41: Práce | Y41: Běžná | AG41: POL1_
A42: 22 | B42: 573211109 | C42: Postřik živičný spojovací z asfaltu v množství 0,50 kg/m2 | D42: m2 | E42: 203 | G42: =ROUND(E42*F42,2) -> 0 | I42: =ROUND(E42*H42,2) -> 0 | K42: =ROUND(E42*J42,2) -> 0 | L42: 21 | M42: =G42*(1+L42/100) -> 0 | N42: 0.00051 | O42: =ROUND(E42*N42,2) -> 0.1 | P42: 0 | Q42: =ROUND(E42*P42,2) -> 0 | S42: Vlastní | T42: Indiv | U42: 0 | V42: =ROUND(E42*U42,2) -> 0 | X42: Práce | Y42: Běžná | AG42: POL1_
A43: 23 | B43: 577132111RT3 | C43: Beton asfaltový s rozprostřením a zhutněním v pruhu šířky přes 3 m, ACO 11+, tloušťky 40 mm, plochy do 200 m2 | D43: m2 | E43: 203 | G43: =ROUND(E43*F43,2) -> 0 | I43: =ROUND(E43*H43,2) -> 0 | K43: =ROUND(E43*J43,2) -> 0 | L43: 21 | M43: =G43*(1+L43/100) -> 0 | N43: 0.10373 | O43: =ROUND(E43*N43,2) -> 21.06 | P43: 0 | Q43: =ROUND(E43*P43,2) -> 0 | R43: 822-1 | S43: RTS 25/ II | T43: RTS 23/ I | U43: 0.015 | V43: =ROUND(E43*U43,2) -> 3.05 | X43: Práce | Y43: Běžná | AG43: POL1_
A44: 24 | B44: 57701 | C44: Zalití spáry v živičném krytu | D44: m | E44: 8 | G44: =ROUND(E44*F44,2) -> 0 | I44: =ROUND(E44*H44,2) -> 0 | K44: =ROUND(E44*J44,2) -> 0 | L44: 21 | M44: =G44*(1+L44/100) -> 0 | N44: 0 | O44: =ROUND(E44*N44,2) -> 0 | P44: 0 | Q44: =ROUND(E44*P44,2) -> 0 | S44: Vlastní | T44: Indiv | U44: 0 | V44: =ROUND(E44*U44,2) -> 0 | X44: Práce | Y44: Běžná | AG44: POL1_
A45: Díl: | B45: 91 | C45: Doplňující práce na komunikaci | G45: =SUMIF(AG46:AG50,"<>NOR",G46:G50) -> 0 | I45: =SUM(I46:I50) -> 0 | K45: =SUM(K46:K50) -> 0 | M45: =SUM(M46:M50) -> 0 | O45: =SUM(O46:O50) -> 15.07 | Q45: =SUM(Q46:Q50) -> 0 | V45: =SUM(V46:V50) -> 13.91 | AG45: DIL
A46: 25 | B46: 917862111R00 | C46: Osazení silničního nebo chodníkového betonového obrubníku stojatého, s boční opěrou z betonu prostého, do lože z betonu prostého C 12/15 | D46: m | E46: 40 | G46: =ROUND(E46*F46,2) -> 0 | I46: =ROUND(E46*H46,2) -> 0 | K46: =ROUND(E46*J46,2) -> 0 | L46: 21 | M46: =G46*(1+L46/100) -> 0 | N46: 0.188 | O46: =ROUND(E46*N46,2) -> 7.52 | P46: 0 | Q46: =ROUND(E46*P46,2) -> 0 | R46: 822-1 | S46: RTS 25/ II | T46: RTS 23/ I | U46: 0.272 | V46: =ROUND(E46*U46,2) -> 10.88 | X46: Práce | Y46: Běžná | AG46: POL1_
C47: S dodáním hmot pro lože tl. 80-100 mm. | AG47: SPI
A48: 26 | B48: 918101111R00 | C48: Lože pod obrubníky, krajníky nebo obruby z betonu prostého C 12/15 | D48: m3 | E48: 2.1 | G48: =ROUND(E48*F48,2) -> 0 | I48: =ROUND(E48*H48,2) -> 0 | K48: =ROUND(E48*J48,2) -> 0 | L48: 21 | M48: =G48*(1+L48/100) -> 0 | N48: 2.525 | O48: =ROUND(E48*N48,2) -> 5.3 | P48: 0 | Q48: =ROUND(E48*P48,2) -> 0 | R48: 822-1 | S48: RTS 25/ II | T48: RTS 23/ I | U48: 1.442 | V48: =ROUND(E48*U48,2) -> 3.03 | X48: Práce | Y48: Běžná | AG48: POL1_
C49: z dlažebních kostek z betonu prostého | AG49: SPI
A50: 27 | B50: 592176 | C50: Obrubník nájezdový BEST MONO standard přírodní 150x1000x150 mm | D50: kus | E50: 42 | G50: =ROUND(E50*F50,2) -> 0 | I50: =ROUND(E50*H50,2) -> 0 | K50: =ROUND(E50*J50,2) -> 0 | L50: 21 | M50: =G50*(1+L50/100) -> 0 | N50: 0.0535 | O50: =ROUND(E50*N50,2) -> 2.25 | P50: 0 | Q50: =ROUND(E50*P50,2) -> 0 | S50: Vlastní | T50: Indiv | U50: 0 | V50: =ROUND(E50*U50,2) -> 0 | X50: Specifikace | Y50: Běžná | AG50: POL3_
A51: Díl: | B51: 99 | C51: Staveništní přesun hmot | G51: =SUMIF(AG52:AG53,"<>NOR",G52:G53) -> 0 | I51: =SUM(I52:I53) -> 0 | K51: =SUM(K52:K53) -> 0 | M51: =SUM(M52:M53) -> 0 | O51: =SUM(O52:O53) -> 0 | Q51: =SUM(Q52:Q53) -> 0 | V51: =SUM(V52:V53) -> 6.11 | AG51: DIL
A52: 28 | B52: 998225111R00 | C52: Přesun hmot komunikací a letišť, kryt živičný jakékoliv délky objektu | D52: t | E52: 382.15819 | G52: =ROUND(E52*F52,2) -> 0 | I52: =ROUND(E52*H52,2) -> 0 | K52: =ROUND(E52*J52,2) -> 0 | L52: 21 | M52: =G52*(1+L52/100) -> 0 | N52: 0 | O52: =ROUND(E52*N52,2) -> 0 | P52: 0 | Q52: =ROUND(E52*P52,2) -> 0 | R52: 822-1 | S52: RTS 25/ II | T52: RTS 23/ I | U52: 0.016 | V52: =ROUND(E52*U52,2) -> 6.11 | X52: Přesun hmot | Y52: Běžná | AG52: POL7_
C53: vodorovně do 200 m | AG53: SPI
A54: Díl: | B54: VN | C54: Vedlejší náklady | G54: =SUMIF(AG55:AG56,"<>NOR",G55:G56) -> 0 | I54: =SUM(I55:I56) -> 0 | K54: =SUM(K55:K56) -> 0 | M54: =SUM(M55:M56) -> 0 | O54: =SUM(O55:O56) -> 0 | Q54: =SUM(Q55:Q56) -> 0 | V54: =SUM(V55:V56) -> 0 | AG54: DIL
A55: 29 | B55: 005121 R | C55: Zařízení staveniště | D55: kus | E55: 1 | G55: =ROUND(E55*F55,2) -> 0 | I55: =ROUND(E55*H55,2) -> 0 | K55: =ROUND(E55*J55,2) -> 0 | L55: 21 | M55: =G55*(1+L55/100) -> 0 | N55: 0 | O55: =ROUND(E55*N55,2) -> 0 | P55: 0 | Q55: =ROUND(E55*P55,2) -> 0 | S55: RTS 25/ II | T55: Indiv | U55: 0 | V55: =ROUND(E55*U55,2) -> 0 | X55: VRN | Y55: Běžná | AG55: POL99_2
A56: 30 | B56: 0054T | C56: Kompletační činnost | D56: kus | E56: 1 | G56: =ROUND(E56*F56,2) -> 0 | I56: =ROUND(E56*H56,2) -> 0 | K56: =ROUND(E56*J56,2) -> 0 | L56: 21 | M56: =G56*(1+L56/100) -> 0 | N56: 0 | O56: =ROUND(E56*N56,2) -> 0 | P56: 0 | Q56: =ROUND(E56*P56,2) -> 0 | S56: Vlastní | T56: Indiv | U56: 0 | V56: =ROUND(E56*U56,2) -> 0 | X56: VRN | Y56: Běžná | AG56: POL99_2
A57: Díl: | B57: ON | C57: Ostatní náklady | G57: =SUMIF(AG58:AG61,"<>NOR",G58:G61) -> 0 | I57: =SUM(I58:I61) -> 0 | K57: =SUM(K58:K61) -> 0 | M57: =SUM(M58:M61) -> 0 | O57: =SUM(O58:O61) -> 0 | Q57: =SUM(Q58:Q61) -> 0 | V57: =SUM(V58:V61) -> 0 | AG57: DIL
A58: 31 | B58: ON01 | C58: Vytýčení podzemních sítí a vedení | D58: kus | E58: 1 | G58: =ROUND(E58*F58,2) -> 0 | I58: =ROUND(E58*H58,2) -> 0 | K58: =ROUND(E58*J58,2) -> 0 | L58: 21 | M58: =G58*(1+L58/100) -> 0 | N58: 0 | O58: =ROUND(E58*N58,2) -> 0 | P58: 0 | Q58: =ROUND(E58*P58,2) -> 0 | S58: Vlastní | T58: Kalkul | U58: 0 | V58: =ROUND(E58*U58,2) -> 0 | X58: VRN | Y58: Běžná | AG58: POL99_0
A59: 32 | B59: ON02 | C59: Archeologie | D59: kus | E59: 1 | G59: =ROUND(E59*F59,2) -> 0 | I59: =ROUND(E59*H59,2) -> 0 | K59: =ROUND(E59*J59,2) -> 0 | L59: 21 | M59: =G59*(1+L59/100) -> 0 | N59: 0 | O59: =ROUND(E59*N59,2) -> 0 | P59: 0 | Q59: =ROUND(E59*P59,2) -> 0 | S59: Vlastní | T59: Kalkul | U59: 0 | V59: =ROUND(E59*U59,2) -> 0 | X59: VRN | Y59: Běžná | AG59: POL99_0
A60: 33 | B60: ON03 | C60: Geodetická zaměření | D60: kus | E60: 1 | G60: =ROUND(E60*F60,2) -> 0 | I60: =ROUND(E60*H60,2) -> 0 | K60: =ROUND(E60*J60,2) -> 0 | L60: 21 | M60: =G60*(1+L60/100) -> 0 | N60: 0 | O60: =ROUND(E60*N60,2) -> 0 | P60: 0 | Q60: =ROUND(E60*P60,2) -> 0 | S60: Vlastní | T60: Kalkul | U60: 0 | V60: =ROUND(E60*U60,2) -> 0 | X60: VRN | Y60: Běžná | AG60: POL99_0
A61: 34 | B61: ON04 | C61: Dokumentace skutečného provedení | D61: kus | E61: 1 | G61: =ROUND(E61*F61,2) -> 0 | I61: =ROUND(E61*H61,2) -> 0 | K61: =ROUND(E61*J61,2) -> 0 | L61: 21 | M61: =G61*(1+L61/100) -> 0 | N61: 0 | O61: =ROUND(E61*N61,2) -> 0 | P61: 0 | Q61: =ROUND(E61*P61,2) -> 0 | S61: Vlastní | T61: Kalkul | U61: 0 | V61: =ROUND(E61*U61,2) -> 0 | X61: VRN | Y61: Běžná | AG61: POL99_0
AE62: 15 | AF62: 21 | AG62: DPH
B63: Celkem | G63: =G8+G33+G36+G39+G45+G51+G54+G57 -> 0 | AE63: =SUMIF(L7:L61,AE62,G7:G61) -> 0 | AF63: =SUMIF(L7:L61,AF62,G7:G61) -> 0 | AG63: SUM
AG64: END

Sheet 04 01 Vjezd přes potok
A1: Položkový soupis prací a dodávek | AG1: #TypZaznamu#
A2: S: | B2: 87277 - 23 | C2: Novostavba chodníku a stav. úpravy části stáv. chodníku s příslušenstvím v obci Údrnice | AG2: STA
A3: O: | B3: 04 | C3: Vjezd přes potok | AC3: STA | AG3: OBJ
A4: R: | B4: 01 | C4: Vjezd přes potok | AG4: ROZ
A6: P.č. | B6: Číslo položky | C6: Název položky | D6: MJ | E6: Množství | F6: Cena / MJ | G6: Celkem | H6: Dodávka | I6: Dodávka celk. | J6: Montáž | K6: Montáž celk. | L6: DPH | M6: Cena s DPH | N6: Hmotnost / MJ | O6: Hmotnost celk.(t) | P6: Dem. hmotnost / MJ | Q6: Dem. hmotnost celk.(t) | R6: Ceník | S6: Cen. soustava / platnost | T6: Cenová úroveň | U6: Nhod / MJ | V6: Nhod celk. | W6: Dodavatel | X6: Typ položky | Y6: Stav položky
A8: Díl: | B8: 1 | C8: Zemní práce | G8: =SUMIF(AG9:AG19,"<>NOR",G9:G19) -> 0 | I8: =SUM(I9:I19) -> 0 | K8: =SUM(K9:K19) -> 0 | M8: =SUM(M9:M19) -> 0 | O8: =SUM(O9:O19) -> 0 | Q8: =SUM(Q9:Q19) -> 0 | V8: =SUM(V9:V19) -> 63.15 | AG8: DIL
A9: 1 | B9: 121101100R00 | C9: Sejmutí ornice s přemístěním na vzdálenost do 50 m | D9: m3 | E9: 41 | G9: =ROUND(E9*F9,2) -> 0 | I9: =ROUND(E9*H9,2) -> 0 | K9: =ROUND(E9*J9,2) -> 0 | L9: 21 | M9: =G9*(1+L9/100) -> 0 | N9: 0 | O9: =ROUND(E9*N9,2) -> 0 | P9: 0 | Q9: =ROUND(E9*P9,2) -> 0 | R9: 800-1 | S9: RTS 25/ II | T9: RTS 23/ I | U9: 0.0952 | V9: =ROUND(E9*U9,2) -> 3.9 | X9: Práce | Y9: Běžná | AG9: POL1_
C10: nebo lesní půdy, s vodorovným přemístěním na hromady v místě upotřebení nebo na dočasné či trvalé skládky se složením | AG10: SPI | BA10: =C10 -> nebo lesní půdy, s vodorovným přemístěním na hromady v místě upotřebení nebo na dočasné či trvalé skládky se složením
A11: 2 | B11: 167101102R00 | C11: Nakládání, skládání, překládání neulehlého výkopku nakládání výkopku přes 100 m3, z horniny 1 až 4 | D11: m3 | E11: 102.5 | G11: =ROUND(E11*F11,2) -> 0 | I11: =ROUND(E11*H11,2) -> 0 | K11: =ROUND(E11*J11,2) -> 0 | L11: 21 | M11: =G11*(1+L11/100) -> 0 | N11: 0 | O11: =ROUND(E11*N11,2) -> 0 | P11: 0 | Q11: =ROUND(E11*P11,2) -> 0 | R11: 800-1 | S11: RTS 25/ II | T11: RTS 23/ I | U11: 0.053 | V11: =ROUND(E11*U11,2) -> 5.43 | X11: Práce | Y11: Běžná | AG11: POL1_
A12: 3 | B12: 162301101R00 | C12: Vodorovné přemístění výkopku z horniny 1 až 4, na vzdálenost přes 50 do 500 m | D12: m3 | E12: 102.5 | G12: =ROUND(E12*F12,2) -> 0 | I12: =ROUND(E12*H12,2) -> 0 | K12: =ROUND(E12*J12,2) -> 0 | L12: 21 | M12: =G12*(1+L12/100) -> 0 | N12: 0 | O12: =ROUND(E12*N12,2) -> 0 | P12: 0 | Q12: =ROUND(E12*P12,2) -> 0 | R12: 800-1 | S12: RTS 25/ II | T12: RTS 23/ I | U12: 0.011 | V12: =ROUND(E12*U12,2) -> 1.13 | X12: Práce | Y12: Běžná | AG12: POL1_
C13: po suchu, bez naložení výkopku, avšak se složením bez rozhrnutí, zpáteční cesta vozidla. | AG13: SPI
A14: 4 | B14: 171101141R00 | C14: Uložení sypaniny do násypů zhutněných z jakýchkoliv hornin pro jakýkoliv způsob uložení při průměrném množství násypu do 0,75 m3/m silnice nobo železnice | D14: m3 | E14: 102.5 | G14: =ROUND(E14*F14,2) -> 0 | I14: =ROUND(E14*H14,2) -> 0 | K14: =ROUND(E14*J14,2) -> 0 | L14: 21 | M14: =G14*(1+L14/100) -> 0 | N14: 0 | O14: =ROUND(E14*N14,2) -> 0 | P14: 0 | Q14: =ROUND(E14*P14,2) -> 0 | R14: 800-1 | S14: RTS 25/ II | T14: RTS 23/ I | U14: 0.31 | V14: =ROUND(E14*U14,2) -> 31.78 | X14: Práce | Y14: Běžná | AG14: POL1_
C15: s rozprostřením sypaniny ve vrstvách a s hrubým urovnáním, | AG15: SPI
A16: 5 | B16: 181101111R00 | C16: Úprava pláně v zářezech bez rozlišení horniny, se zhutněním - ručně | D16: m2 | E16: 167 | G16: =ROUND(E16*F16,2) -> 0 | I16: =ROUND(E16*H16,2) -> 0 | K16: =ROUND(E16*J16,2) -> 0 | L16: 21 | M16: =G16*(1+L16/100) -> 0 | N16: 0 | O16: =ROUND(E16*N16,2) -> 0 | P16: 0 | Q16: =ROUND(E16*P16,2) -> 0 | R16: 800-1 | S16: RTS 25/ II | T16: RTS 23/ I | U16: 0.096 | V16: =ROUND(E16*U16,2) -> 16.03 | X16: Práce | Y16: Běžná | AG16: POL1_
C17: vyrovnáním výškových rozdílů, ploch vodorovných a ploch do sklonu 1 : 5. | AG17: SPI
A18: 6 | B18: 182201101R00 | C18: Svahování násypů bez rozlišení horniny | D18: m2 | E18: 45.6 | G18: =ROUND(E18*F18,2) -> 0 | I18: =ROUND(E18*H18,2) -> 0 | K18: =ROUND(E18*J18,2) -> 0 | L18: 21 | M18: =G18*(1+L18/100) -> 0 | N18: 0 | O18: =ROUND(E18*N18,2) -> 0 | P18: 0 | Q18: =ROUND(E18*P18,2) -> 0 | R18: 800-1 | S18: RTS 25/ II | T18: RTS 23/ I | U18: 0.107 | V18: =ROUND(E18*U18,2) -> 4.88 | X18: Práce | Y18: Běžná | AG18: POL1_
C19: trvalých svahů do projektovaných profilů s potřebným přemístěním výkopku při svahování v násypech, | AG19: SPI
A20: Díl: | B20: 18 | C20: Povrchové úpravy terénu | G20: =SUMIF(AG21:AG28,"<>NOR",G21:G28) -> 0 | I20: =SUM(I21:I28) -> 0 | K20: =SUM(K21:K28) -> 0 | M20: =SUM(M21:M28) -> 0 | O20: =SUM(O21:O28) -> 0 | Q20: =SUM(Q21:Q28) -> 0 | V20: =SUM(V21:V28) -> 21.38 | AG20: DIL
A21: 7 | B21: 167101101R00 | C21: Nakládání, skládání, překládání neulehlého výkopku nakládání výkopku do 100 m3, z horniny 1 až 4 | D21: m3 | E21: 6.84 | G21: =ROUND(E21*F21,2) -> 0 | I21: =ROUND(E21*H21,2) -> 0 | K21: =ROUND(E21*J21,2) -> 0 | L21: 21 | M21: =G21*(1+L21/100) -> 0 | N21: 0 | O21: =ROUND(E21*N21,2) -> 0 | P21: 0 | Q21: =ROUND(E21*P21,2) -> 0 | R21: 800-1 | S21: RTS 25/ II | T21: RTS 23/ I | U21: 0.652 | V21: =ROUND(E21*U21,2) -> 4.46 | X21: Práce | Y21: Běžná | AG21: POL1_
A22: 8 | B22: 162201102R00 | C22: Vodorovné přemístění výkopku z horniny 1 až 4, na vzdálenost přes 20 do 50 m | D22: m3 | E22: 6.84 | G22: =ROUND(E22*F22,2) -> 0 | I22: =ROUND(E22*H22,2) -> 0 | K22: =ROUND(E22*J22,2) -> 0 | L22: 21 | M22: =G22*(1+L22/100) -> 0 | N22: 0 | O22: =ROUND(E22*N22,2) -> 0 | P22: 0 | Q22: =ROUND(E22*P22,2) -> 0 | R22: 800-1 | S22: RTS 25/ II | T22: RTS 23/ I | U22: 0.074 | V22: =ROUND(E22*U22,2) -> 0.51 | X22: Práce | Y22: Běžná | AG22: POL1_
C23: po suchu, bez naložení výkopku, avšak se složením bez rozhrnutí, zpáteční cesta vozidla. | AG23: SPI
A24: 9 | B24: 182301122R00 | C24: Rozprostření a urovnání ornice ve svahu v souvislé ploše do 500 m2, tloušťka vrstvy přes 100 do 150 mm | D24: m2 | E24: 45.6 | G24: =ROUND(E24*F24,2) -> 0 | I24: =ROUND(E24*H24,2) -> 0 | K24: =ROUND(E24*J24,2) -> 0 | L24: 21 | M24: =G24*(1+L24/100) -> 0 | N24: 0 | O24: =ROUND(E24*N24,2) -> 0 | P24: 0 | Q24: =ROUND(E24*P24,2) -> 0 | R24: 800-1 | S24: RTS 25/ II | T24: RTS 23/ I | U24: 0.263 | V24: =ROUND(E24*U24,2) -> 11.99 | X24: Práce | Y24: Běžná | AG24: POL1_
C25: s případným nutným přemístěním hromad nebo dočasných skládek na místo potřeby ze vzdálenosti do 30 m, ve svahu sklonu přes 1 : 5, | AG25: SPI | BA25: =C25 -> s případným nutným přemístěním hromad nebo dočasných skládek na místo potřeby ze vzdálenosti do 30 m, ve svahu sklonu přes 1 : 5,
A26: 10 | B26: 180402112R00 | C26: Založení trávníku parkový trávník, výsevem, na svahu přes 1:5 do 1:2 | D26: m2 | E26: 45.6 | G26: =ROUND(E26*F26,2) -> 0 | I26: =ROUND(E26*H26,2) -> 0 | K26: =ROUND(E26*J26,2) -> 0 | L26: 21 | M26: =G26*(1+L26/100) -> 0 | N26: 0 | O26: =ROUND(E26*N26,2) -> 0 | P26: 0 | Q26: =ROUND(E26*P26,2) -> 0 | R26: 823-1 | S26: RTS 25/ II | T26: RTS 23/ I | U26: 0.097 | V26: =ROUND(E26*U26,2) -> 4.42 | X26: Práce | Y26: Běžná | AG26: POL1_
C27: na půdě předem připravené s pokosením, naložením, odvozem odpadu do 20 km a se složením, | AG27: SPI
A28: 11 | B28: 00572400R | C28: směs travní parková, pro běžnou zátěž | D28: kg | E28: 2 | G28: =ROUND(E28*F28,2) -> 0 | I28: =ROUND(E28*H28,2) -> 0 | K28: =ROUND(E28*J28,2) -> 0 | L28: 21 | M28: =G28*(1+L28/100) -> 0 | N28: 0.001 | O28: =ROUND(E28*N28,2) -> 0 | P28: 0 | Q28: =ROUND(E28*P28,2) -> 0 | R28: SPCM | S28: RTS 25/ II | T28: RTS 23/ I | U28: 0 | V28: =ROUND(E28*U28,2) -> 0 | X28: Specifikace | Y28: Běžná | AG28: POL3_
A29: Díl: | B29: 28 | C29: Zpevňování hornin a konstrukcí | G29: =SUMIF(AG30:AG31,"<>NOR",G30:G31) -> 0 | I29: =SUM(I30:I31) -> 0 | K29: =SUM(K30:K31) -> 0 | M29: =SUM(M30:M31) -> 0 | O29: =SUM(O30:O31) -> 0.07 | Q29: =SUM(Q30:Q31) -> 0 | V29: =SUM(V30:V31) -> 7.35 | AG29: DIL
A30: 12 | B30: 289971211R00 | C30: Zřízení vrstvy z geotextilie na upraveném povrchu sklon do 1:5, šířka od 0 do 3 m | D30: m2 | E30: 167 | G30: =ROUND(E30*F30,2) -> 0 | I30: =ROUND(E30*H30,2) -> 0 | K30: =ROUND(E30*J30,2) -> 0 | L30: 21 | M30: =G30*(1+L30/100) -> 0 | N30: 3e-05 | O30: =ROUND(E30*N30,2) -> 0.01 | P30: 0 | Q30: =ROUND(E30*P30,2) -> 0 | R30: 800-2 | S30: RTS 25/ II | T30: RTS 23/ I | U30: 0.044 | V30: =ROUND(E30*U30,2) -> 7.35 | X30: Práce | Y30: Běžná | AG30: POL1_
A31: 13 | B31: 69366055R | C31: geotextilie PP; funkce drenážní, separační, výztužná, filtrační; plošná hmotnost 300 g/m2; tl. při 2 kPa 3,90 mm | D31: m2 | E31: 183.7 | G31: =ROUND(E31*F31,2) -> 0 | I31: =ROUND(E31*H31,2) -> 0 | K31: =ROUND(E31*J31,2) -> 0 | L31: 21 | M31: =G31*(1+L31/100) -> 0 | N31: 0.0003 | O31: =ROUND(E31*N31,2) -> 0.06 | P31: 0 | Q31: =ROUND(E31*P31,2) -> 0 | R31: SPCM | S31: RTS 25/ II | T31: RTS 23/ I | U31: 0 | V31: =ROUND(E31*U31,2) -> 0 | X31: Specifikace | Y31: Běžná | AG31: POL3_
A32: Díl: | B32: 56 | C32: Podkladní vrstvy komunikací a zpevněných ploch | G32: =SUMIF(AG33:AG34,"<>NOR",G33:G34) -> 0 | I32: =SUM(I33:I34) -> 0 | K32: =SUM(K33:K34) -> 0 | M32: =SUM(M33:M34) -> 0 | O32: =SUM(O33:O34) -> 199.9 | Q32: =SUM(Q33:Q34) -> 0 | V32: =SUM(V33:V34) -> 13.52 | AG32: DIL
A33: 14 | B33: 564851111RT4 | C33: Podklad ze štěrkodrti s rozprostřením a zhutněním frakce 0-63 mm, tloušťka po zhutnění 150 mm | D33: m2 | E33: 334 | G33: =ROUND(E33*F33,2) -> 0 | I33: =ROUND(E33*H33,2) -> 0 | K33: =ROUND(E33*J33,2) -> 0 | L33: 21 | M33: =G33*(1+L33/100) -> 0 | N33: 0.378 | O33: =ROUND(E33*N33,2) -> 126.25 | P33: 0 | Q33: =ROUND(E33*P33,2) -> 0 | R33: 822-1 | S33: RTS 25/ II | T33: RTS 23/ I | U33: 0.026 | V33: =ROUND(E33*U33,2) -> 8.68 | X33: Práce | Y33: Běžná | AG33: POL1_
A34: 15 | B34: 564861111RT2 | C34: Podklad ze štěrkodrti s rozprostřením a zhutněním frakce 0-32 mm, tloušťka po zhutnění 200 mm | D34: m2 | E34: 167 | G34: =ROUND(E34*F34,2) -> 0 | I34: =ROUND(E34*H34,2) -> 0 | K34: =ROUND(E34*J34,2) -> 0 | L34: 21 | M34: =G34*(1+L34/100) -> 0 | N34: 0.441 | O34: =ROUND(E34*N34,2) -> 73.65 | P34: 0 | Q34: =ROUND(E34*P34,2) -> 0 | R34: 822-1 | S34: RTS 25/ II | T34: RTS 23/ I | U34: 0.029 | V34: =ROUND(E34*U34,2) -> 4.84 | X34: Práce | Y34: Běžná | AG34: POL1_
A35: Díl: | B35: 99 | C35: Staveništní přesun hmot | G35: =SUMIF(AG36:AG36,"<>NOR",G36:G36) -> 0 | I35: =SUM(I36:I36) -> 0 | K35: =SUM(K36:K36) -> 0 | M35: =SUM(M36:M36) -> 0 | O35: =SUM(O36:O36) -> 0 | Q35: =SUM(Q36:Q36) -> 0 | V35: =SUM(V36:V36) -> 15 | AG35: DIL
A36: 16 | B36: 998222012R00 | C36: Přesun hmot, plochy pro tělovýchovu zpevněná plocha z kameniva, | D36: t | E36: 199.96112 | G36: =ROUND(E36*F36,2) -> 0 | I36: =ROUND(E36*H36,2) -> 0 | K36: =ROUND(E36*J36,2) -> 0 | L36: 21 | M36: =G36*(1+L36/100) -> 0 | N36: 0 | O36: =ROUND(E36*N36,2) -> 0 | P36: 0 | Q36: =ROUND(E36*P36,2) -> 0 | R36: 823-1 | S36: RTS 25/ II | T36: RTS 23/ I | U36: 0.075 | V36: =ROUND(E36*U36,2) -> 15 | X36: Přesun hmot | Y36: Běžná | AG36: POL7_
A37: Díl: | B37: VN | C37: Vedlejší náklady | G37: =SUMIF(AG38:AG39,"<>NOR",G38:G39) -> 0 | I37: =SUM(I38:I39) -> 0 | K37: =SUM(K38:K39) -> 0 | M37: =SUM(M38:M39) -> 0 | O37: =SUM(O38:O39) -> 0 | Q37: =SUM(Q38:Q39) -> 0 | V37: =SUM(V38:V39) -> 0 | AG37: DIL
A38: 17 | B38: 005121 R | C38: Zařízení staveniště | D38: kus | E38: 1 | G38: =ROUND(E38*F38,2) -> 0 | I38: =ROUND(E38*H38,2) -> 0 | K38: =ROUND(E38*J38,2) -> 0 | L38: 21 | M38: =G38*(1+L38/100) -> 0 | N38: 0 | O38: =ROUND(E38*N38,2) -> 0 | P38: 0 | Q38: =ROUND(E38*P38,2) -> 0 | S38: RTS 25/ II | T38: Indiv | U38: 0 | V38: =ROUND(E38*U38,2) -> 0 | X38: VRN | Y38: Běžná | AG38: POL99_2
A39: 18 | B39: 0054T | C39: Kompletační činnost | D39: kus | E39: 1 | G39: =ROUND(E39*F39,2) -> 0 | I39: =ROUND(E39*H39,2) -> 0 | K39: =ROUND(E39*J39,2) -> 0 | L39: 21 | M39: =G39*(1+L39/100) -> 0 | N39: 0 | O39: =ROUND(E39*N39,2) -> 0 | P39: 0 | Q39: =ROUND(E39*P39,2) -> 0 | S39: Vlastní | T39: Indiv | U39: 0 | V39: =ROUND(E39*U39,2) -> 0 | X39: VRN | Y39: Běžná | AG39: POL99_2
A40: Díl: | B40: ON | C40: Ostatní náklady | G40: =SUMIF(AG41:AG44,"<>NOR",G41:G44) -> 0 | I40: =SUM(I41:I44) -> 0 | K40: =SUM(K41:K44) -> 0 | M40: =SUM(M41:M44) -> 0 | O40: =SUM(O41:O44) -> 0 | Q40: =SUM(Q41:Q44) -> 0 | V40: =SUM(V41:V44) -> 0 | AG40: DIL
A41: 19 | B41: ON01 | C41: Vytýčení podzemních sítí a vedení | D41: kus | E41: 1 | G41: =ROUND(E41*F41,2) -> 0 | I41: =ROUND(E41*H41,2) -> 0 | K41: =ROUND(E41*J41,2) -> 0 | L41: 21 | M41: =G41*(1+L41/100) -> 0 | N41: 0 | O41: =ROUND(E41*N41,2) -> 0 | P41: 0 | Q41: =ROUND(E41*P41,2) -> 0 | S41: Vlastní | T41: Kalkul | U41: 0 | V41: =ROUND(E41*U41,2) -> 0 | X41: VRN | Y41: Běžná | AG41: POL99_0
A42: 20 | B42: ON02 | C42: Archeologie | D42: kus | E42: 1 | G42: =ROUND(E42*F42,2) -> 0 | I42: =ROUND(E42*H42,2) -> 0 | K42: =ROUND(E42*J42,2) -> 0 | L42: 21 | M42: =G42*(1+L42/100) -> 0 | N42: 0 | O42: =ROUND(E42*N42,2) -> 0 | P42: 0 | Q42: =ROUND(E42*P42,2) -> 0 | S42: Vlastní | T42: Kalkul | U42: 0 | V42: =ROUND(E42*U42,2) -> 0 | X42: VRN | Y42: Běžná | AG42: POL99_0
A43: 21 | B43: ON03 | C43: Geodetická zaměření | D43: kus | E43: 1 | G43: =ROUND(E43*F43,2) -> 0 | I43: =ROUND(E43*H43,2) -> 0 | K43: =ROUND(E43*J43,2) -> 0 | L43: 21 | M43: =G43*(1+L43/100) -> 0 | N43: 0 | O43: =ROUND(E43*N43,2) -> 0 | P43: 0 | Q43: =ROUND(E43*P43,2) -> 0 | S43: Vlastní | T43: Kalkul | U43: 0 | V43: =ROUND(E43*U43,2) -> 0 | X43: VRN | Y43: Běžná | AG43: POL99_0
A44: 22 | B44: ON04 | C44: Dokumentace skutečného provedení | D44: kus | E44: 1 | G44: =ROUND(E44*F44,2) -> 0 | I44: =ROUND(E44*H44,2) -> 0 | K44: =ROUND(E44*J44,2) -> 0 | L44: 21 | M44: =G44*(1+L44/100) -> 0 | N44: 0 | O44: =ROUND(E44*N44,2) -> 0 | P44: 0 | Q44: =ROUND(E44*P44,2) -> 0 | S44: Vlastní | T44: Kalkul | U44: 0 | V44: =ROUND(E44*U44,2) -> 0 | X44: VRN | Y44: Běžná | AG44: POL99_0
AE45: 15 | AF45: 21 | AG45: DPH
B46: Celkem | G46: =G8+G20+G29+G32+G35+G37+G40 -> 0 | AE46: =SUMIF(L7:L44,AE45,G7:G44) -> 0 | AF46: =SUMIF(L7:L44,AF45,G7:G44) -> 0 | AG46: SUM
AG47: END

Sheet 05 01 Lávka
A1: Položkový soupis prací a dodávek | AG1: #TypZaznamu#
A2: S: | B2: 87277 - 23 | C2: Novostavba chodníku a stav. úpravy části stáv. chodníku s příslušenstvím v obci Údrnice | AG2: STA
A3: O: | B3: 05 | C3: Lávka | AC3: STA | AG3: OBJ
A4: R: | B4: 01 | C4: Lávka | AG4: ROZ
A6: P.č. | B6: Číslo položky | C6: Název položky | D6: MJ | E6: Množství | F6: Cena / MJ | G6: Celkem | H6: Dodávka | I6: Dodávka celk. | J6: Montáž | K6: Montáž celk. | L6: DPH | M6: Cena s DPH | N6: Hmotnost / MJ | O6: Hmotnost celk.(t) | P6: Dem. hmotnost / MJ | Q6: Dem. hmotnost celk.(t) | R6: Ceník | S6: Cen. soustava / platnost | T6: Cenová úroveň | U6: Nhod / MJ | V6: Nhod celk. | W6: Dodavatel | X6: Typ položky | Y6: Stav položky
A8: Díl: | B8: 1 | C8: Zemní práce | G8: =SUMIF(AG9:AG28,"<>NOR",G9:G28) -> 0 | I8: =SUM(I9:I28) -> 0 | K8: =SUM(K9:K28) -> 0 | M8: =SUM(M9:M28) -> 0 | O8: =SUM(O9:O28) -> 0 | Q8: =SUM(Q9:Q28) -> 0 | V8: =SUM(V9:V28) -> 8.76 | AG8: DIL
A9: 1 | B9: 121101100R00 | C9: Sejmutí ornice s přemístěním na vzdálenost do 50 m | D9: m3 | E9: 5.214 | G9: =ROUND(E9*F9,2) -> 0 | I9: =ROUND(E9*H9,2) -> 0 | K9: =ROUND(E9*J9,2) -> 0 | L9: 21 | M9: =G9*(1+L9/100) -> 0 | N9: 0 | O9: =ROUND(E9*N9,2) -> 0 | P9: 0 | Q9: =ROUND(E9*P9,2) -> 0 | R9: 800-1 | S9: RTS 25/ II | T9: RTS 23/ I | U9: 0.0952 | V9: =ROUND(E9*U9,2) -> 0.5 | X9: Práce | Y9: Běžná | AG9: POL1_
C10: nebo lesní půdy, s vodorovným přemístěním na hromady v místě upotřebení nebo na dočasné či trvalé skládky se složením | AG10: SPI | BA10: =C10 -> nebo lesní půdy, s vodorovným přemístěním na hromady v místě upotřebení nebo na dočasné či trvalé skládky se složením
A11: 2 | B11: 124203101R00 | C11: Vykopávky pro koryta vodotečí v hornině 3, do 1 000 m3 | D11: m3 | E11: 2.64 | G11: =ROUND(E11*F11,2) -> 0 | I11: =ROUND(E11*H11,2) -> 0 | K11: =ROUND(E11*J11,2) -> 0 | L11: 21 | M11: =G11*(1+L11/100) -> 0 | N11: 0 | O11: =ROUND(E11*N11,2) -> 0 | P11: 0 | Q11: =ROUND(E11*P11,2) -> 0 | R11: 800-1 | S11: RTS 25/ II | T11: RTS 23/ I | U11: 0.529 | V11: =ROUND(E11*U11,2) -> 1.4 | X11: Práce | Y11: Běžná | AG11: POL1_
C12: se svislým přemístění výkopku do 4 m a s přehozením výkopku na vzdálenost do 3 m nebo s naložením na dopravní prostředek, | AG12: SPI | BA12: =C12 -> se svislým přemístění výkopku do 4 m a s přehozením výkopku na vzdálenost do 3 m nebo s naložením na dopravní prostředek,
A13: 3 | B13: 124203109R00 | C13: Vykopávky pro koryta vodotečí příplatek k cenám za lepivost, v hornině 3 | D13: m3 | E13: 2.64 | G13: =ROUND(E13*F13,2) -> 0 | I13: =ROUND(E13*H13,2) -> 0 | K13: =ROUND(E13*J13,2) -> 0 | L13: 21 | M13: =G13*(1+L13/100) -> 0 | N13: 0 | O13: =ROUND(E13*N13,2) -> 0 | P13: 0 | Q13: =ROUND(E13*P13,2) -> 0 | R13: 800-1 | S13: RTS 25/ II | T13: RTS 23/ I | U13: 0.034 | V13: =ROUND(E13*U13,2) -> 0.09 | X13: Práce | Y13: Běžná | AG13: POL1_
C14: se svislým přemístění výkopku do 4 m a s přehozením výkopku na vzdálenost do 3 m nebo s naložením na dopravní prostředek, | AG14: SPI | BA14: =C14 -> se svislým přemístění výkopku do 4 m a s přehozením výkopku na vzdálenost do 3 m nebo s naložením na dopravní prostředek,
A15: 4 | B15: 132201110R00 | C15: Hloubení rýh šířky do 60 cm do 50 m3, v hornině 3, hloubení strojně | D15: m3 | E15: 3.52 | G15: =ROUND(E15*F15,2) -> 0 | I15: =ROUND(E15*H15,2) -> 0 | K15: =ROUND(E15*J15,2) -> 0 | L15: 21 | M15: =G15*(1+L15/100) -> 0 | N15: 0 | O15: =ROUND(E15*N15,2) -> 0 | P15: 0 | Q15: =ROUND(E15*P15,2) -> 0 | R15: 800-1 | S15: RTS 25/ II | T15: RTS 23/ I | U15: 0.365 | V15: =ROUND(E15*U15,2) -> 1.28 | X15: Práce | Y15: Běžná | AG15: POL1_
C16: zapažených i nezapažených s urovnáním dna do předepsaného profilu a spádu, s přehozením výkopku na přilehlém terénu na vzdálenost do 3 m od podélné osy rýhy nebo s naložením výkopku na dopravní prostředek. | AG16: SPI | BA16: =C16 -> zapažených i nezapažených s urovnáním dna do předepsaného profilu a spádu, s přehozením výkopku na přilehlém terénu na vzdálenost do 3 m od podélné osy rýhy nebo s naložením výkopku na dopravní prostředek.
A17: 5 | B17: 132201119R00 | C17: Hloubení rýh šířky do 60 cm příplatek za lepivost, v hornině 3, | D17: m3 | E17: 3.52 | G17: =ROUND(E17*F17,2) -> 0 | I17: =ROUND(E17*H17,2) -> 0 | K17: =ROUND(E17*J17,2) -> 0 | L17: 21 | M17: =G17*(1+L17/100) -> 0 | N17: 0 | O17: =ROUND(E17*N17,2) -> 0 | P17: 0 | Q17: =ROUND(E17*P17,2) -> 0 | R17: 800-1 | S17: RTS 25/ II | T17: RTS 23/ I | U17: 0.3898 | V17: =ROUND(E17*U17,2) -> 1.37 | X17: Práce | Y17: Běžná | AG17: POL1_
C18: zapažených i nezapažených s urovnáním dna do předepsaného profilu a spádu, s přehozením výkopku na přilehlém terénu na vzdálenost do 3 m od podélné osy rýhy nebo s naložením výkopku na dopravní prostředek. | AG18: SPI | BA18: =C18 -> zapažených i nezapažených s urovnáním dna do předepsaného profilu a spádu, s přehozením výkopku na přilehlém terénu na vzdálenost do 3 m od podélné osy rýhy nebo s naložením výkopku na dopravní prostředek.
A19: 6 | B19: 162301101R00 | C19: Vodorovné přemístění výkopku z horniny 1 až 4, na vzdálenost přes 50 do 500 m | D19: m3 | E19: 6.16 | G19: =ROUND(E19*F19,2) -> 0 | I19: =ROUND(E19*H19,2) -> 0 | K19: =ROUND(E19*J19,2) -> 0 | L19: 21 | M19: =G19*(1+L19/100) -> 0 | N19: 0 | O19: =ROUND(E19*N19,2) -> 0 | P19: 0 | Q19: =ROUND(E19*P19,2) -> 0 | R19: 800-1 | S19: RTS 25/ II | T19: RTS 23/ I | U19: 0.011 | V19: =ROUND(E19*U19,2) -> 0.07 | X19: Práce | Y19: Běžná | AG19: POL1_
C20: po suchu, bez naložení výkopku, avšak se složením bez rozhrnutí, zpáteční cesta vozidla. | AG20: SPI
A21: 7 | B21: 171201201R00 | C21: Uložení sypaniny na dočasnou skládku tak, že na 1 m2 plochy připadá přes 2 m3 výkopku nebo ornice | D21: m3 | E21: 6.16 | G21: =ROUND(E21*F21,2) -> 0 | I21: =ROUND(E21*H21,2) -> 0 | K21: =ROUND(E21*J21,2) -> 0 | L21: 21 | M21: =G21*(1+L21/100) -> 0 | N21: 0 | O21: =ROUND(E21*N21,2) -> 0 | P21: 0 | Q21: =ROUND(E21*P21,2) -> 0 | R21: 800-1 | S21: RTS 25/ II | T21: RTS 23/ I | U21: 0.009 | V21: =ROUND(E21*U21,2) -> 0.06 | X21: Práce | Y21: Běžná | AG21: POL1_
A22: 8 | B22: 167101102R00 | C22: Nakládání, skládání, překládání neulehlého výkopku nakládání výkopku přes 100 m3, z horniny 1 až 4 | D22: m3 | E22: 5.7575 | G22: =ROUND(E22*F22,2) -> 0 | I22: =ROUND(E22*H22,2) -> 0 | K22: =ROUND(E22*J22,2) -> 0 | L22: 21 | M22: =G22*(1+L22/100) -> 0 | N22: 0 | O22: =ROUND(E22*N22,2) -> 0 | P22: 0 | Q22: =ROUND(E22*P22,2) -> 0 | R22: 800-1 | S22: RTS 25/ II | T22: RTS 23/ I | U22: 0.053 | V22: =ROUND(E22*U22,2) -> 0.31 | X22: Práce | Y22: Běžná | AG22: POL1_
A23: 9 | B23: 162301101R00 | C23: Vodorovné přemístění výkopku z horniny 1 až 4, na vzdálenost přes 50 do 500 m | D23: m3 | E23: 5.7575 | G23: =ROUND(E23*F23,2) -> 0 | I23: =ROUND(E23*H23,2) -> 0 | K23: =ROUND(E23*J23,2) -> 0 | L23: 21 | M23: =G23*(1+L23/100) -> 0 | N23: 0 | O23: =ROUND(E23*N23,2) -> 0 | P23: 0 | Q23: =ROUND(E23*P23,2) -> 0 | R23: 800-1 | S23: RTS 25/ II | T23: RTS 23/ I | U23: 0.011 | V23: =ROUND(E23*U23,2) -> 0.06 | X23: Práce | Y23: Běžná | AG23: POL1_
C24: po suchu, bez naložení výkopku, avšak se složením bez rozhrnutí, zpáteční cesta vozidla. | AG24: SPI
A25: 10 | B25: 174101101R00 | C25: Zásyp sypaninou se zhutněním jam, šachet, rýh nebo kolem objektů v těchto vykopávkách | D25: m3 | E25: 5.7575 | G25: =ROUND(E25*F25,2) -> 0 | I25: =ROUND(E25*H25,2) -> 0 | K25: =ROUND(E25*J25,2) -> 0 | L25: 21 | M25: =G25*(1+L25/100) -> 0 | N25: 0 | O25: =ROUND(E25*N25,2) -> 0 | P25: 0 | Q25: =ROUND(E25*P25,2) -> 0 | R25: 800-1 | S25: RTS 25/ II | T25: RTS 23/ I | U25: 0.202 | V25: =ROUND(E25*U25,2) -> 1.16 | X25: Práce | Y25: Běžná | AG25: POL1_
C26: z jakékoliv horniny s uložením výkopku po vrstvách, | AG26: SPI
A27: 11 | B27: 182201101R00 | C27: Svahování násypů bez rozlišení horniny | D27: m2 | E27: 23.03 | G27: =ROUND(E27*F27,2) -> 0 | I27: =ROUND(E27*H27,2) -> 0 | K27: =ROUND(E27*J27,2) -> 0 | L27: 21 | M27: =G27*(1+L27/100) -> 0 | N27: 0 | O27: =ROUND(E27*N27,2) -> 0 | P27: 0 | Q27: =ROUND(E27*P27,2) -> 0 | R27: 800-1 | S27: RTS 25/ II | T27: RTS 23/ I | U27: 0.107 | V27: =ROUND(E27*U27,2) -> 2.46 | X27: Práce | Y27: Běžná | AG27: POL1_
C28: trvalých svahů do projektovaných profilů s potřebným přemístěním výkopku při svahování v násypech, | AG28: SPI
A29: Díl: | B29: 27 | C29: Základy | G29: =SUMIF(AG30:AG37,"<>NOR",G30:G37) -> 0 | I29: =SUM(I30:I37) -> 0 | K29: =SUM(K30:K37) -> 0 | M29: =SUM(M30:M37) -> 0 | O29: =SUM(O30:O37) -> 17.05 | Q29: =SUM(Q30:Q37) -> 0 | V29: =SUM(V30:V37) -> 20.6 | AG29: DIL
A30: 12 | B30: 271571112R00 | C30: Polštáře zhutněné pod základy štěrkopísek netříděný, | D30: m3 | E30: 0.176 | G30: =ROUND(E30*F30,2) -> 0 | I30: =ROUND(E30*H30,2) -> 0 | K30: =ROUND(E30*J30,2) -> 0 | L30: 21 | M30: =G30*(1+L30/100) -> 0 | N30: 2.1 | O30: =ROUND(E30*N30,2) -> 0.37 | P30: 0 | Q30: =ROUND(E30*P30,2) -> 0 | R30: 800-2 | S30: RTS 25/ II | T30: RTS 23/ I | U30: 0.965 | V30: =ROUND(E30*U30,2) -> 0.17 | X30: Práce | Y30: Běžná | AG30: POL1_
A31: 13 | B31: 274324118R00 | C31: Základové pasy, prahy, věnce, ostruhy ze ŽB beton C 30/37, XA3 | D31: m3 | E31: 4.4 | G31: =ROUND(E31*F31,2) -> 0 | I31: =ROUND(E31*H31,2) -> 0 | K31: =ROUND(E31*J31,2) -> 0 | L31: 21 | M31: =G31*(1+L31/100) -> 0 | N31: 2.525 | O31: =ROUND(E31*N31,2) -> 11.11 | P31: 0 | Q31: =ROUND(E31*P31,2) -> 0 | R31: 821-1 | S31: RTS 25/ II | T31: RTS 23/ I | U31: 0.46 | V31: =ROUND(E31*U31,2) -> 2.02 | X31: Práce | Y31: Běžná | AG31: POL1_
C32: ve výkopu zapaženém nebo nezapaženém, popř. nad terénem, | AG32: SPI
A33: 14 | B33: 274324119R00 | C33: Základové pasy, prahy, věnce, ostruhy ze ŽB beton C 35/45, XA3 | D33: m3 | E33: 2.112 | G33: =ROUND(E33*F33,2) -> 0 | I33: =ROUND(E33*H33,2) -> 0 | K33: =ROUND(E33*J33,2) -> 0 | L33: 21 | M33: =G33*(1+L33/100) -> 0 | N33: 2.525 | O33: =ROUND(E33*N33,2) -> 5.33 | P33: 0 | Q33: =ROUND(E33*P33,2) -> 0 | R33: 821-1 | S33: RTS 25/ II | T33: RTS 23/ I | U33: 0.46 | V33: =ROUND(E33*U33,2) -> 0.97 | X33: Práce | Y33: Běžná | AG33: POL1_
C34: ve výkopu zapaženém nebo nezapaženém, popř. nad terénem, | AG34: SPI
A35: 15 | B35: 274354111R00 | C35: Bednění základových pasů, prahů, věnců, ostruh zřízení bednění | D35: m2 | E35: 18.12 | G35: =ROUND(E35*F35,2) -> 0 | I35: =ROUND(E35*H35,2) -> 0 | K35: =ROUND(E35*J35,2) -> 0 | L35: 21 | M35: =G35*(1+L35/100) -> 0 | N35: 0.0002 | O35: =ROUND(E35*N35,2) -> 0 | P35: 0 | Q35: =ROUND(E35*P35,2) -> 0 | R35: 821-1 | S35: RTS 25/ II | T35: RTS 23/ I | U35: 0.45 | V35: =ROUND(E35*U35,2) -> 8.15 | X35: Práce | Y35: Běžná | AG35: POL1_
A36: 16 | B36: 274354211R00 | C36: Bednění základových pasů, prahů, věnců, ostruh odstranění bednění | D36: m2 | E36: 18.12 | G36: =ROUND(E36*F36,2) -> 0 | I36: =ROUND(E36*H36,2) -> 0 | K36: =ROUND(E36*J36,2) -> 0 | L36: 21 | M36: =G36*(1+L36/100) -> 0 | N36: 0 | O36: =ROUND(E36*N36,2) -> 0 | P36: 0 | Q36: =ROUND(E36*P36,2) -> 0 | R36: 821-1 | S36: RTS 25/ II | T36: RTS 23/ I | U36: 0.32 | V36: =ROUND(E36*U36,2) -> 5.8 | X36: Práce | Y36: Běžná | AG36: POL1_
A37: 17 | B37: 274361921RT8 | C37: Výztuž základových pasů ze svařovaných sítí ze svařovaných sítí, , drát d 8,0 mm, oka 100 x 100 mm | D37: t | E37: 0.22942 | G37: =ROUND(E37*F37,2) -> 0 | I37: =ROUND(E37*H37,2) -> 0 | K37: =ROUND(E37*J37,2) -> 0 | L37: 21 | M37: =G37*(1+L37/100) -> 0 | N37: 1.05439 | O37: =ROUND(E37*N37,2) -> 0.24 | P37: 0 | Q37: =ROUND(E37*P37,2) -> 0 | R37: 801-1 | S37: RTS 25/ II | T37: RTS 23/ I | U37: 15.231 | V37: =ROUND(E37*U37,2) -> 3.49 | X37: Práce | Y37: Běžná | AG37: POL1_
A38: Díl: | B38: 4 | C38: Vodorovné konstrukce | G38: =SUMIF(AG39:AG49,"<>NOR",G39:G49) -> 0 | I38: =SUM(I39:I49) -> 0 | K38: =SUM(K39:K49) -> 0 | M38: =SUM(M39:M49) -> 0 | O38: =SUM(O39:O49) -> 3.6 | Q38: =SUM(Q39:Q49) -> 0 | V38: =SUM(V39:V49) -> 20.54 | AG38: DIL
A39: 18 | B39: 413941123RT6 | C39: Osazení ocelových válcovaných nosníků ve stropech profil I, 220 mm | D39: t | E39: 0.30789 | G39: =ROUND(E39*F39,2) -> 0 | I39: =ROUND(E39*H39,2) -> 0 | K39: =ROUND(E39*J39,2) -> 0 | L39: 21 | M39: =G39*(1+L39/100) -> 0 | N39: 1.09663 | O39: =ROUND(E39*N39,2) -> 0.34 | P39: 0 | Q39: =ROUND(E39*P39,2) -> 0 | R39: 801-1 | S39: RTS 25/ II | T39: RTS 23/ I | U39: 16.583 | V39: =ROUND(E39*U39,2) -> 5.11 | X39: Práce | Y39: Běžná | AG39: POL1_
C40: I , IE, U , UE nebo L | AG40: SPI
A41: 19 | B41: 783226100R00 | C41: Nátěry kov.stavebních doplňk.konstrukcí syntetické základní, | D41: m2 | E41: 6.975 | G41: =ROUND(E41*F41,2) -> 0 | I41: =ROUND(E41*H41,2) -> 0 | K41: =ROUND(E41*J41,2) -> 0 | L41: 21 | M41: =G41*(1+L41/100) -> 0 | N41: 8e-05 | O41: =ROUND(E41*N41,2) -> 0 | P41: 0 | Q41: =ROUND(E41*P41,2) -> 0 | R41: 800-783 | S41: RTS 25/ II | T41: RTS 23/ I | U41: 0.156 | V41: =ROUND(E41*U41,2) -> 1.09 | X41: Práce | Y41: Běžná | AG41: POL1_
A42: 20 | B42: 41135 | C42: Bednění stropů z trapézového plechu, vlna 60 mm tl. 1,2 mm | D42: m2 | E42: 7.2 | G42: =ROUND(E42*F42,2) -> 0 | I42: =ROUND(E42*H42,2) -> 0 | K42: =ROUND(E42*J42,2) -> 0 | L42: 21 | M42: =G42*(1+L42/100) -> 0 | N42: 0 | O42: =ROUND(E42*N42,2) -> 0 | P42: 0 | Q42: =ROUND(E42*P42,2) -> 0 | S42: Vlastní | T42: Kalkul | U42: 0.2 | V42: =ROUND(E42*U42,2) -> 1.44 | X42: Práce | Y42: Běžná | AG42: POL1_
A43: 21 | B43: 411321826R00 | C43: Beton stropů železový stropů deskových, desek plochých střech, desek balkónových, desek hřibových stropů včetně hlavic hřibových sloupů, železový (bez výztuže) z betonu pohledového tř. PB2 pevnosti tř. C 30/37 | D43: m3 | E43: 1.12 | G43: =ROUND(E43*F43,2) -> 0 | I43: =ROUND(E43*H43,2) -> 0 | K43: =ROUND(E43*J43,2) -> 0 | L43: 21 | M43: =G43*(1+L43/100) -> 0 | N43: 2.52514 | O43: =ROUND(E43*N43,2) -> 2.83 | P43: 0 | Q43: =ROUND(E43*P43,2) -> 0 | R43: 801-1 | S43: RTS 25/ II | T43: RTS 23/ I | U43: 0.987 | V43: =ROUND(E43*U43,2) -> 1.11 | X43: Práce | Y43: Běžná | AG43: POL1_
A44: 22 | B44: 411351205R00 | C44: Bednění stropů deskových včetně podpěrné konstrukce výšky do 3,5 m přes 10 do 12 kPa, - zřízení | D44: m2 | E44: 3.3 | G44: =ROUND(E44*F44,2) -> 0 | I44: =ROUND(E44*H44,2) -> 0 | K44: =ROUND(E44*J44,2) -> 0 | L44: 21 | M44: =G44*(1+L44/100) -> 0 | N44: 0.04252 | O44: =ROUND(E44*N44,2) -> 0.14 | P44: 0 | Q44: =ROUND(E44*P44,2) -> 0 | R44: 801-1 | S44: RTS 25/ II | T44: RTS 23/ I | U44: 0.879 | V44: =ROUND(E44*U44,2) -> 2.9 | X44: Práce | Y44: Běžná | AG44: POL1_
C45: s pomocným lešením | AG45: SPI
A46: 23 | B46: 411351206R00 | C46: Bednění stropů deskových včetně podpěrné konstrukce výšky do 3,5 m přes 10 do 12 kPa, - odstranění | D46: m2 | E46: 3.3 | G46: =ROUND(E46*F46,2) -> 0 | I46: =ROUND(E46*H46,2) -> 0 | K46: =ROUND(E46*J46,2) -> 0 | L46: 21 | M46: =G46*(1+L46/100) -> 0 | N46: 0 | O46: =ROUND(E46*N46,2) -> 0 | P46: 0 | Q46: =ROUND(E46*P46,2) -> 0 | R46: 801-1 | S46: RTS 25/ II | T46: RTS 23/ I | U46: 0.436 | V46: =ROUND(E46*U46,2) -> 1.44 | X46: Práce | Y46: Běžná | AG46: POL1_
C47: s pomocným lešením | AG47: SPI
A48: 24 | B48: 411361821R00 | C48: Výztuž stropů z betonářské oceli 10 505(R) | D48: t | E48: 0.28 | G48: =ROUND(E48*F48,2) -> 0 | I48: =ROUND(E48*H48,2) -> 0 | K48: =ROUND(E48*J48,2) -> 0 | L48: 21 | M48: =G48*(1+L48/100) -> 0 | N48: 1.02139 | O48: =ROUND(E48*N48,2) -> 0.29 | P48: 0 | Q48: =ROUND(E48*P48,2) -> 0 | R48: 801-1 | S48: RTS 25/ II | T48: RTS 23/ I | U48: 26.616 | V48: =ROUND(E48*U48,2) -> 7.45 | X48: Práce | Y48: Běžná | AG48: POL1_
C49: prostě uložených, vetknutých i spojitých, deskových, trámových (žebrových, kazetových), s keramickými a jinými vložkami, konzolových nebo balkónových, hřibových včetně hlavic hřibových sloupů, plochých střech a pro zavěšení železobetonových podhledů. Včetně distančních prvků. | AG49: SPI | BA49: =C49 -> prostě uložených, vetknutých i spojitých, deskových, trámových (žebrových, kazetových), s keramickými a jinými vložkami, konzolových nebo balkónových, hřibových včetně hlavic hřibových sloupů, plochých střech a pro zavěšení železobetonových podhledů. Včetně distančních prvků.
A50: Díl: | B50: 59 | C50: Dlažby a předlažby komunikací | G50: =SUMIF(AG51:AG54,"<>NOR",G51:G54) -> 0 | I50: =SUM(I51:I54) -> 0 | K50: =SUM(K51:K54) -> 0 | M50: =SUM(M51:M54) -> 0 | O50: =SUM(O51:O54) -> 22.92 | Q50: =SUM(Q51:Q54) -> 0 | V50: =SUM(V51:V54) -> 27.91 | AG50: DIL
A51: 25 | B51: 631315811RN3 | C51: Mazanina z betonu prostého tl. přes 120 do 240 mm třídy C 30/37, stupeň vlivu prostředí XF4, pro podlahové konstrukce se speciálními přísadami omezujícími smrštění | D51: m3 | E51: 3.79995 | G51: =ROUND(E51*F51,2) -> 0 | I51: =ROUND(E51*H51,2) -> 0 | K51: =ROUND(E51*J51,2) -> 0 | L51: 21 | M51: =G51*(1+L51/100) -> 0 | N51: 2.323 | O51: =ROUND(E51*N51,2) -> 8.83 | P51: 0 | Q51: =ROUND(E51*P51,2) -> 0 | R51: 801-1 | S51: RTS 25/ II | T51: RTS 23/ I | U51: 2.317 | V51: =ROUND(E51*U51,2) -> 8.8 | X51: Práce | Y51: Běžná | AG51: POL1_
C52: (z kameniva) hlazená dřevěným hladítkem | AG52: SPI
A53: 26 | B53: 594411111RT2 | C53: Dlažba nebo přídlažba z lomového kamene do lože z cementové malty tloušťky 50 mm, včetně dodávky kamene tloušťky 20cm, třídy 1 | D53: m2 | E53: 23.03 | G53: =ROUND(E53*F53,2) -> 0 | I53: =ROUND(E53*H53,2) -> 0 | K53: =ROUND(E53*J53,2) -> 0 | L53: 21 | M53: =G53*(1+L53/100) -> 0 | N53: 0.612 | O53: =ROUND(E53*N53,2) -> 14.09 | P53: 0 | Q53: =ROUND(E53*P53,2) -> 0 | R53: 822-1 | S53: RTS 25/ II | T53: RTS 23/ I | U53: 0.83 | V53: =ROUND(E53*U53,2) -> 19.11 | X53: Práce | Y53: Běžná | AG53: POL1_
C54: lomařsky upraveného rigolového, bez vyplnění spár v ploše vodorovné nebo ve sklonu, s provedením lože tl. 50 mm | AG54: SPI | BA54: =C54 -> lomařsky upraveného rigolového, bez vyplnění spár v ploše vodorovné nebo ve sklonu, s provedením lože tl. 50 mm
A55: Díl: | B55: 96 | C55: Bourání konstrukcí | G55: =SUMIF(AG56:AG56,"<>NOR",G56:G56) -> 0 | I55: =SUM(I56:I56) -> 0 | K55: =SUM(K56:K56) -> 0 | M55: =SUM(M56:M56) -> 0 | O55: =SUM(O56:O56) -> 0 | Q55: =SUM(Q56:Q56) -> 0.19 | V55: =SUM(V56:V56) -> 2.75 | AG55: DIL
A56: 27 | B56: 976071111R00 | C56: Vybourání kovových doplňkových konstrukcí madel a zábradlí v jakémkoliv zdivu | D56: m | E56: 5 | G56: =ROUND(E56*F56,2) -> 0 | I56: =ROUND(E56*H56,2) -> 0 | K56: =ROUND(E56*J56,2) -> 0 | L56: 21 | M56: =G56*(1+L56/100) -> 0 | N56: 0 | O56: =ROUND(E56*N56,2) -> 0 | P56: 0.037 | Q56: =ROUND(E56*P56,2) -> 0.19 | R56: 801-3 | S56: RTS 25/ II | T56: RTS 23/ I | U56: 0.55 | V56: =ROUND(E56*U56,2) -> 2.75 | X56: Práce | Y56: Běžná | AG56: POL1_
A57: Díl: | B57: 99 | C57: Staveništní přesun hmot | G57: =SUMIF(AG58:AG59,"<>NOR",G58:G59) -> 0 | I57: =SUM(I58:I59) -> 0 | K57: =SUM(K58:K59) -> 0 | M57: =SUM(M58:M59) -> 0 | O57: =SUM(O58:O59) -> 0 | Q57: =SUM(Q58:Q59) -> 0 | V57: =SUM(V58:V59) -> 19.69 | AG57: DIL
A58: 28 | B58: 998212111R00 | C58: Přesun hmot pro mosty zděné, monolitické, kovové výška do 20 m, | D58: t | E58: 43.57223 | G58: =ROUND(E58*F58,2) -> 0 | I58: =ROUND(E58*H58,2) -> 0 | K58: =ROUND(E58*J58,2) -> 0 | L58: 21 | M58: =G58*(1+L58/100) -> 0 | N58: 0 | O58: =ROUND(E58*N58,2) -> 0 | P58: 0 | Q58: =ROUND(E58*P58,2) -> 0 | R58: 821-1 | S58: RTS 25/ II | T58: RTS 23/ I | U58: 0.452 | V58: =ROUND(E58*U58,2) -> 19.69 | X58: Přesun hmot | Y58: Běžná | AG58: POL7_
C59: betonové nepředpjaté i předpjaté a mosty spřažené ocelobetonové nebo kovové na novostavbách, včetně příplatku za zvětšený přesun přes vymezenou vzdálenost, | AG59: SPI | BA59: =C59 -> betonové nepředpjaté i předpjaté a mosty spřažené ocelobetonové nebo kovové na novostavbách, včetně příplatku za zvětšený přesun přes vymezenou vzdálenost,
A60: Díl: | B60: 767 | C60: Konstrukce zámečnické | G60: =SUMIF(AG61:AG63,"<>NOR",G61:G63) -> 0 | I60: =SUM(I61:I63) -> 0 | K60: =SUM(K61:K63) -> 0 | M60: =SUM(M61:M63) -> 0 | O60: =SUM(O61:O63) -> 0.57 | Q60: =SUM(Q61:Q63) -> 0 | V60: =SUM(V61:V63) -> 1.9 | AG60: DIL
A61: 29 | B61: 76701 | C61: Montáž + dodávka ocelového zábradlí, povrchová úprava žárovým zinkováním | D61: kg | E61: 570 | G61: =ROUND(E61*F61,2) -> 0 | I61: =ROUND(E61*H61,2) -> 0 | K61: =ROUND(E61*J61,2) -> 0 | L61: 21 | M61: =G61*(1+L61/100) -> 0 | N61: 0.001 | O61: =ROUND(E61*N61,2) -> 0.57 | P61: 0 | Q61: =ROUND(E61*P61,2) -> 0 | S61: Vlastní | T61: Kalkul | U61: 0 | V61: =ROUND(E61*U61,2) -> 0 | X61: Práce | Y61: Běžná | AG61: POL1_
A62: 30 | B62: 998767101R00 | C62: Přesun hmot pro kovové stavební doplňk. konstrukce v objektech výšky do 6 m | D62: t | E62: 0.57 | G62: =ROUND(E62*F62,2) -> 0 | I62: =ROUND(E62*H62,2) -> 0 | K62: =ROUND(E62*J62,2) -> 0 | L62: 21 | M62: =G62*(1+L62/100) -> 0 | N62: 0 | O62: =ROUND(E62*N62,2) -> 0 | P62: 0 | Q62: =ROUND(E62*P62,2) -> 0 | R62: 800-767 | S62: RTS 25/ II | T62: RTS 23/ I | U62: 3.327 | V62: =ROUND(E62*U62,2) -> 1.9 | X62: Přesun hmot | Y62: Běžná | AG62: POL7_
C63: 50 m vodorovně | AG63: SPI
A64: Díl: | B64: VN | C64: Vedlejší náklady | G64: =SUMIF(AG65:AG66,"<>NOR",G65:G66) -> 0 | I64: =SUM(I65:I66) -> 0 | K64: =SUM(K65:K66) -> 0 | M64: =SUM(M65:M66) -> 0 | O64: =SUM(O65:O66) -> 0 | Q64: =SUM(Q65:Q66) -> 0 | V64: =SUM(V65:V66) -> 0 | AG64: DIL
A65: 31 | B65: 005121 R | C65: Zařízení staveniště | D65: kus | E65: 1 | G65: =ROUND(E65*F65,2) -> 0 | I65: =ROUND(E65*H65,2) -> 0 | K65: =ROUND(E65*J65,2) -> 0 | L65: 21 | M65: =G65*(1+L65/100) -> 0 | N65: 0 | O65: =ROUND(E65*N65,2) -> 0 | P65: 0 | Q65: =ROUND(E65*P65,2) -> 0 | S65: RTS 25/ II | T65: Indiv | U65: 0 | V65: =ROUND(E65*U65,2) -> 0 | X65: VRN | Y65: Běžná | AG65: POL99_2
A66: 32 | B66: 0054T | C66: Kompletační činnost | D66: kus | E66: 1 | G66: =ROUND(E66*F66,2) -> 0 | I66: =ROUND(E66*H66,2) -> 0 | K66: =ROUND(E66*J66,2) -> 0 | L66: 21 | M66: =G66*(1+L66/100) -> 0 | N66: 0 | O66: =ROUND(E66*N66,2) -> 0 | P66: 0 | Q66: =ROUND(E66*P66,2) -> 0 | S66: Vlastní | T66: Indiv | U66: 0 | V66: =ROUND(E66*U66,2) -> 0 | X66: VRN | Y66: Běžná | AG66: POL99_2
A67: Díl: | B67: ON | C67: Ostatní náklady | G67: =SUMIF(AG68:AG71,"<>NOR",G68:G71) -> 0 | I67: =SUM(I68:I71) -> 0 | K67: =SUM(K68:K71) -> 0 | M67: =SUM(M68:M71) -> 0 | O67: =SUM(O68:O71) -> 0 | Q67: =SUM(Q68:Q71) -> 0 | V67: =SUM(V68:V71) -> 0 | AG67: DIL
A68: 33 | B68: ON01 | C68: Vytýčení podzemních sítí a vedení | D68: kus | E68: 1 | G68: =ROUND(E68*F68,2) -> 0 | I68: =ROUND(E68*H68,2) -> 0 | K68: =ROUND(E68*J68,2) -> 0 | L68: 21 | M68: =G68*(1+L68/100) -> 0 | N68: 0 | O68: =ROUND(E68*N68,2) -> 0 | P68: 0 | Q68: =ROUND(E68*P68,2) -> 0 | S68: Vlastní | T68: Kalkul | U68: 0 | V68: =ROUND(E68*U68,2) -> 0 | X68: VRN | Y68: Běžná | AG68: POL99_0
A69: 34 | B69: ON02 | C69: Archeologie | D69: kus | E69: 1 | G69: =ROUND(E69*F69,2) -> 0 | I69: =ROUND(E69*H69,2) -> 0 | K69: =ROUND(E69*J69,2) -> 0 | L69: 21 | M69: =G69*(1+L69/100) -> 0 | N69: 0 | O69: =ROUND(E69*N69,2) -> 0 | P69: 0 | Q69: =ROUND(E69*P69,2) -> 0 | S69: Vlastní | T69: Kalkul | U69: 0 | V69: =ROUND(E69*U69,2) -> 0 | X69: VRN | Y69: Běžná | AG69: POL99_0
A70: 35 | B70: ON03 | C70: Geodetická zaměření | D70: kus | E70: 1 | G70: =ROUND(E70*F70,2) -> 0 | I70: =ROUND(E70*H70,2) -> 0 | K70: =ROUND(E70*J70,2) -> 0 | L70: 21 | M70: =G70*(1+L70/100) -> 0 | N70: 0 | O70: =ROUND(E70*N70,2) -> 0 | P70: 0 | Q70: =ROUND(E70*P70,2) -> 0 | S70: Vlastní | T70: Kalkul | U70: 0 | V70: =ROUND(E70*U70,2) -> 0 | X70: VRN | Y70: Běžná | AG70: POL99_0
A71: 36 | B71: ON04 | C71: Dokumentace skutečného provedení | D71: kus | E71: 1 | G71: =ROUND(E71*F71,2) -> 0 | I71: =ROUND(E71*H71,2) -> 0 | K71: =ROUND(E71*J71,2) -> 0 | L71: 21 | M71: =G71*(1+L71/100) -> 0 | N71: 0 | O71: =ROUND(E71*N71,2) -> 0 | P71: 0 | Q71: =ROUND(E71*P71,2) -> 0 | S71: Vlastní | T71: Kalkul | U71: 0 | V71: =ROUND(E71*U71,2) -> 0 | X71: VRN | Y71: Běžná | AG71: POL99_0
AE72: 15 | AF72: 21 | AG72: DPH
B73: Celkem | G73: =G8+G29+G38+G50+G55+G57+G60+G64+G67 -> 0 | AE73: =SUMIF(L7:L71,AE72,G7:G71) -> 0 | AF73: =SUMIF(L7:L71,AF72,G7:G71) -> 0 | AG73: SUM
AG74: END

Sheet 06 01 Most
A1: Položkový soupis prací a dodávek | AG1: #TypZaznamu#
A2: S: | B2: 87277 - 23 | C2: Novostavba chodníku a stav. úpravy části stáv. chodníku s příslušenstvím v obci Údrnice | AG2: STA
A3: O: | B3: 06 | C3: Most | AC3: STA | AG3: OBJ
A4: R: | B4: 01 | C4: Most | AG4: ROZ
A6: P.č. | B6: Číslo položky | C6: Název položky | D6: MJ | E6: Množství | F6: Cena / MJ | G6: Celkem | H6: Dodávka | I6: Dodávka celk. | J6: Montáž | K6: Montáž celk. | L6: DPH | M6: Cena s DPH | N6: Hmotnost / MJ | O6: Hmotnost celk.(t) | P6: Dem. hmotnost / MJ | Q6: Dem. hmotnost celk.(t) | R6: Ceník | S6: Cen. soustava / platnost | T6: Cenová úroveň | U6: Nhod / MJ | V6: Nhod celk. | W6: Dodavatel | X6: Typ položky | Y6: Stav položky
A8: Díl: | B8: 1 | C8: Zemní práce | G8: =SUMIF(AG9:AG32,"<>NOR",G9:G32) -> 0 | I8: =SUM(I9:I32) -> 0 | K8: =SUM(K9:K32) -> 0 | M8: =SUM(M9:M32) -> 0 | O8: =SUM(O9:O32) -> 0 | Q8: =SUM(Q9:Q32) -> 0 | V8: =SUM(V9:V32) -> 21.87 | AG8: DIL
A9: 1 | B9: 121101100R00 | C9: Sejmutí ornice s přemístěním na vzdálenost do 50 m | D9: m3 | E9: 10.26 | G9: =ROUND(E9*F9,2) -> 0 | I9: =ROUND(E9*H9,2) -> 0 | K9: =ROUND(E9*J9,2) -> 0 | L9: 21 | M9: =G9*(1+L9/100) -> 0 | N9: 0 | O9: =ROUND(E9*N9,2) -> 0 | P9: 0 | Q9: =ROUND(E9*P9,2) -> 0 | R9: 800-1 | S9: RTS 25/ II | T9: RTS 23/ I | U9: 0.0952 | V9: =ROUND(E9*U9,2) -> 0.98 | X9: Práce | Y9: Běžná | AG9: POL1_
C10: nebo lesní půdy, s vodorovným přemístěním na hromady v místě upotřebení nebo na dočasné či trvalé skládky se složením | AG10: SPI | BA10: =C10 -> nebo lesní půdy, s vodorovným přemístěním na hromady v místě upotřebení nebo na dočasné či trvalé skládky se složením
A11: 2 | B11: 124203101R00 | C11: Vykopávky pro koryta vodotečí v hornině 3, do 1 000 m3 | D11: m3 | E11: 10.26 | G11: =ROUND(E11*F11,2) -> 0 | I11: =ROUND(E11*H11,2) -> 0 | K11: =ROUND(E11*J11,2) -> 0 | L11: 21 | M11: =G11*(1+L11/100) -> 0 | N11: 0 | O11: =ROUND(E11*N11,2) -> 0 | P11: 0 | Q11: =ROUND(E11*P11,2) -> 0 | R11: 800-1 | S11: RTS 25/ II | T11: RTS 23/ I | U11: 0.529 | V11: =ROUND(E11*U11,2) -> 5.43 | X11: Práce | Y11: Běžná | AG11: POL1_
C12: se svislým přemístění výkopku do 4 m a s přehozením výkopku na vzdálenost do 3 m nebo s naložením na dopravní prostředek, | AG12: SPI | BA12: =C12 -> se svislým přemístění výkopku do 4 m a s přehozením výkopku na vzdálenost do 3 m nebo s naložením na dopravní prostředek,
A13: 3 | B13: 124203109R00 | C13: Vykopávky pro koryta vodotečí příplatek k cenám za lepivost, v hornině 3 | D13: m3 | E13: 10.26 | G13: =ROUND(E13*F13,2) -> 0 | I13: =ROUND(E13*H13,2) -> 0 | K13: =ROUND(E13*J13,2) -> 0 | L13: 21 | M13: =G13*(1+L13/100) -> 0 | N13: 0 | O13: =ROUND(E13*N13,2) -> 0 | P13: 0 | Q13: =ROUND(E13*P13,2) -> 0 | R13: 800-1 | S13: RTS 25/ II | T13: RTS 23/ I | U13: 0.034 | V13: =ROUND(E13*U13,2) -> 0.35 | X13: Práce | Y13: Běžná | AG13: POL1_
C14: se svislým přemístění výkopku do 4 m a s přehozením výkopku na vzdálenost do 3 m nebo s naložením na dopravní prostředek, | AG14: SPI | BA14: =C14 -> se svislým přemístění výkopku do 4 m a s přehozením výkopku na vzdálenost do 3 m nebo s naložením na dopravní prostředek,
A15: 4 | B15: 132201210R00 | C15: Hloubení rýh šířky přes 60 do 200 cm do 50 m3, v hornině 3, hloubení strojně | D15: m3 | E15: 14.4 | G15: =ROUND(E15*F15,2) -> 0 | I15: =ROUND(E15*H15,2) -> 0 | K15: =ROUND(E15*J15,2) -> 0 | L15: 21 | M15: =G15*(1+L15/100) -> 0 | N15: 0 | O15: =ROUND(E15*N15,2) -> 0 | P15: 0 | Q15: =ROUND(E15*P15,2) -> 0 | R15: 800-1 | S15: RTS 25/ II | T15: RTS 23/ I | U15: 0.365 | V15: =ROUND(E15*U15,2) -> 5.26 | X15: Práce | Y15: Běžná | AG15: POL1_
C16: zapažených i nezapažených, s urovnáním dna do předepsaného profilu a spádu, s případně nutným přehozením výkopku na vzdálenost do 3 m ve výkopišti, s přehozením výkopku na přilehlém terénu na vzdálenost do 5 m od podélné osy rýhy nebo s naložením výkopku na dopravní prostředek. | AG16: SPI | BA16: =C16 -> zapažených i nezapažených, s urovnáním dna do předepsaného profilu a spádu, s případně nutným přehozením výkopku na vzdálenost do 3 m ve výkopišti, s přehozením výkopku na přilehlém terénu na vzdálenost do 5 m od podélné osy rýhy nebo s naložením výkopku na dopravní prostředek.
A17: 5 | B17: 132201219R00 | C17: Hloubení rýh šířky přes 60 do 200 cm příplatek za lepivost, v hornině 3, | D17: m3 | E17: 14.4 | G17: =ROUND(E17*F17,2) -> 0 | I17: =ROUND(E17*H17,2) -> 0 | K17: =ROUND(E17*J17,2) -> 0 | L17: 21 | M17: =G17*(1+L17/100) -> 0 | N17: 0 | O17: =ROUND(E17*N17,2) -> 0 | P17: 0 | Q17: =ROUND(E17*P17,2) -> 0 | R17: 800-1 | S17: RTS 25/ II | T17: RTS 23/ I | U17: 0.084 | V17: =ROUND(E17*U17,2) -> 1.21 | X17: Práce | Y17: Běžná | AG17: POL1_
C18: zapažených i nezapažených, s urovnáním dna do předepsaného profilu a spádu, s případně nutným přehozením výkopku na vzdálenost do 3 m ve výkopišti, s přehozením výkopku na přilehlém terénu na vzdálenost do 5 m od podélné osy rýhy nebo s naložením výkopku na dopravní prostředek. | AG18: SPI | BA18: =C18 -> zapažených i nezapažených, s urovnáním dna do předepsaného profilu a spádu, s případně nutným přehozením výkopku na vzdálenost do 3 m ve výkopišti, s přehozením výkopku na přilehlém terénu na vzdálenost do 5 m od podélné osy rýhy nebo s naložením výkopku na dopravní prostředek.
A19: 6 | B19: 132201110R00 | C19: Hloubení rýh šířky do 60 cm do 50 m3, v hornině 3, hloubení strojně | D19: m3 | E19: 1.98 | G19: =ROUND(E19*F19,2) -> 0 | I19: =ROUND(E19*H19,2) -> 0 | K19: =ROUND(E19*J19,2) -> 0 | L19: 21 | M19: =G19*(1+L19/100) -> 0 | N19: 0 | O19: =ROUND(E19*N19,2) -> 0 | P19: 0 | Q19: =ROUND(E19*P19,2) -> 0 | R19: 800-1 | S19: RTS 25/ II | T19: RTS 23/ I | U19: 0.365 | V19: =ROUND(E19*U19,2) -> 0.72 | X19: Práce | Y19: Běžná | AG19: POL1_
C20: zapažených i nezapažených s urovnáním dna do předepsaného profilu a spádu, s přehozením výkopku na přilehlém terénu na vzdálenost do 3 m od podélné osy rýhy nebo s naložením výkopku na dopravní prostředek. | AG20: SPI | BA20: =C20 -> zapažených i nezapažených s urovnáním dna do předepsaného profilu a spádu, s přehozením výkopku na přilehlém terénu na vzdálenost do 3 m od podélné osy rýhy nebo s naložením výkopku na dopravní prostředek.
A21: 7 | B21: 132201119R00 | C21: Hloubení rýh šířky do 60 cm příplatek za lepivost, v hornině 3, | D21: m3 | E21: 1.98 | G21: =ROUND(E21*F21,2) -> 0 | I21: =ROUND(E21*H21,2) -> 0 | K21: =ROUND(E21*J21,2) -> 0 | L21: 21 | M21: =G21*(1+L21/100) -> 0 | N21: 0 | O21: =ROUND(E21*N21,2) -> 0 | P21: 0 | Q21: =ROUND(E21*P21,2) -> 0 | R21: 800-1 | S21: RTS 25/ II | T21: RTS 23/ I | U21: 0.3898 | V21: =ROUND(E21*U21,2) -> 0.77 | X21: Práce | Y21: Běžná | AG21: POL1_
C22: zapažených i nezapažených s urovnáním dna do předepsaného profilu a spádu, s přehozením výkopku na přilehlém terénu na vzdálenost do 3 m od podélné osy rýhy nebo s naložením výkopku na dopravní prostředek. | AG22: SPI | BA22: =C22 -> zapažených i nezapažených s urovnáním dna do předepsaného profilu a spádu, s přehozením výkopku na přilehlém terénu na vzdálenost do 3 m od podélné osy rýhy nebo s naložením výkopku na dopravní prostředek.
A23: 8 | B23: 162301101R00 | C23: Vodorovné přemístění výkopku z horniny 1 až 4, na vzdálenost přes 50 do 500 m | D23: m3 | E23: 26.64 | G23: =ROUND(E23*F23,2) -> 0 | I23: =ROUND(E23*H23,2) -> 0 | K23: =ROUND(E23*J23,2) -> 0 | L23: 21 | M23: =G23*(1+L23/100) -> 0 | N23: 0 | O23: =ROUND(E23*N23,2) -> 0 | P23: 0 | Q23: =ROUND(E23*P23,2) -> 0 | R23: 800-1 | S23: RTS 25/ II | T23: RTS 23/ I | U23: 0.011 | V23: =ROUND(E23*U23,2) -> 0.29 | X23: Práce | Y23: Běžná | AG23: POL1_
C24: po suchu, bez naložení výkopku, avšak se složením bez rozhrnutí, zpáteční cesta vozidla. | AG24: SPI
A25: 9 | B25: 171201201R00 | C25: Uložení sypaniny na dočasnou skládku tak, že na 1 m2 plochy připadá přes 2 m3 výkopku nebo ornice | D25: m3 | E25: 26.64 | G25: =ROUND(E25*F25,2) -> 0 | I25: =ROUND(E25*H25,2) -> 0 | K25: =ROUND(E25*J25,2) -> 0 | L25: 21 | M25: =G25*(1+L25/100) -> 0 | N25: 0 | O25: =ROUND(E25*N25,2) -> 0 | P25: 0 | Q25: =ROUND(E25*P25,2) -> 0 | R25: 800-1 | S25: RTS 25/ II | T25: RTS 23/ I | U25: 0.009 | V25: =ROUND(E25*U25,2) -> 0.24 | X25: Práce | Y25: Běžná | AG25: POL1_
A26: 10 | B26: 167101102R00 | C26: Nakládání, skládání, překládání neulehlého výkopku nakládání výkopku přes 100 m3, z horniny 1 až 4 | D26: m3 | E26: 8.735 | G26: =ROUND(E26*F26,2) -> 0 | I26: =ROUND(E26*H26,2) -> 0 | K26: =ROUND(E26*J26,2) -> 0 | L26: 21 | M26: =G26*(1+L26/100) -> 0 | N26: 0 | O26: =ROUND(E26*N26,2) -> 0 | P26: 0 | Q26: =ROUND(E26*P26,2) -> 0 | R26: 800-1 | S26: RTS 25/ II | T26: RTS 23/ I | U26: 0.053 | V26: =ROUND(E26*U26,2) -> 0.46 | X26: Práce | Y26: Běžná | AG26: POL1_
A27: 11 | B27: 162301101R00 | C27: Vodorovné přemístění výkopku z horniny 1 až 4, na vzdálenost přes 50 do 500 m | D27: m3 | E27: 8.735 | G27: =ROUND(E27*F27,2) -> 0 | I27: =ROUND(E27*H27,2) -> 0 | K27: =ROUND(E27*J27,2) -> 0 | L27: 21 | M27: =G27*(1+L27/100) -> 0 | N27: 0 | O27: =ROUND(E27*N27,2) -> 0 | P27: 0 | Q27: =ROUND(E27*P27,2) -> 0 | R27: 800-1 | S27: RTS 25/ II | T27: RTS 23/ I | U27: 0.011 | V27: =ROUND(E27*U27,2) -> 0.1 | X27: Práce | Y27: Běžná | AG27: POL1_
C28: po suchu, bez naložení výkopku, avšak se složením bez rozhrnutí, zpáteční cesta vozidla. | AG28: SPI
A29: 12 | B29: 174101101R00 | C29: Zásyp sypaninou se zhutněním jam, šachet, rýh nebo kolem objektů v těchto vykopávkách | D29: m3 | E29: 8.735 | G29: =ROUND(E29*F29,2) -> 0 | I29: =ROUND(E29*H29,2) -> 0 | K29: =ROUND(E29*J29,2) -> 0 | L29: 21 | M29: =G29*(1+L29/100) -> 0 | N29: 0 | O29: =ROUND(E29*N29,2) -> 0 | P29: 0 | Q29: =ROUND(E29*P29,2) -> 0 | R29: 800-1 | S29: RTS 25/ II | T29: RTS 23/ I | U29: 0.202 | V29: =ROUND(E29*U29,2) -> 1.76 | X29: Práce | Y29: Běžná | AG29: POL1_
C30: z jakékoliv horniny s uložením výkopku po vrstvách, | AG30: SPI
A31: 13 | B31: 182201101R00 | C31: Svahování násypů bez rozlišení horniny | D31: m2 | E31: 40.2 | G31: =ROUND(E31*F31,2) -> 0 | I31: =ROUND(E31*H31,2) -> 0 | K31: =ROUND(E31*J31,2) -> 0 | L31: 21 | M31: =G31*(1+L31/100) -> 0 | N31: 0 | O31: =ROUND(E31*N31,2) -> 0 | P31: 0 | Q31: =ROUND(E31*P31,2) -> 0 | R31: 800-1 | S31: RTS 25/ II | T31: RTS 23/ I | U31: 0.107 | V31: =ROUND(E31*U31,2) -> 4.3 | X31: Práce | Y31: Běžná | AG31: POL1_
C32: trvalých svahů do projektovaných profilů s potřebným přemístěním výkopku při svahování v násypech, | AG32: SPI
A33: Díl: | B33: 27 | C33: Základy | G33: =SUMIF(AG34:AG41,"<>NOR",G34:G41) -> 0 | I33: =SUM(I34:I41) -> 0 | K33: =SUM(K34:K41) -> 0 | M33: =SUM(M34:M41) -> 0 | O33: =SUM(O34:O41) -> 79.96 | Q33: =SUM(Q34:Q41) -> 0 | V33: =SUM(V34:V41) -> 71.55 | AG33: DIL
A34: 14 | B34: 271571112R00 | C34: Polštáře zhutněné pod základy štěrkopísek netříděný, | D34: m3 | E34: 0.678 | G34: =ROUND(E34*F34,2) -> 0 | I34: =ROUND(E34*H34,2) -> 0 | K34: =ROUND(E34*J34,2) -> 0 | L34: 21 | M34: =G34*(1+L34/100) -> 0 | N34: 2.1 | O34: =ROUND(E34*N34,2) -> 1.42 | P34: 0 | Q34: =ROUND(E34*P34,2) -> 0 | R34: 800-2 | S34: RTS 25/ II | T34: RTS 23/ I | U34: 0.965 | V34: =ROUND(E34*U34,2) -> 0.65 | X34: Práce | Y34: Běžná | AG34: POL1_
A35: 15 | B35: 274324118R00 | C35: Základové pasy, prahy, věnce, ostruhy ze ŽB beton C 30/37, XA3 | D35: m3 | E35: 26.4 | G35: =ROUND(E35*F35,2) -> 0 | I35: =ROUND(E35*H35,2) -> 0 | K35: =ROUND(E35*J35,2) -> 0 | L35: 21 | M35: =G35*(1+L35/100) -> 0 | N35: 2.525 | O35: =ROUND(E35*N35,2) -> 66.66 | P35: 0 | Q35: =ROUND(E35*P35,2) -> 0 | R35: 821-1 | S35: RTS 25/ II | T35: RTS 23/ I | U35: 0.46 | V35: =ROUND(E35*U35,2) -> 12.14 | X35: Práce | Y35: Běžná | AG35: POL1_
C36: ve výkopu zapaženém nebo nezapaženém, popř. nad terénem, | AG36: SPI
A37: 16 | B37: 274324119R00 | C37: Základové pasy, prahy, věnce, ostruhy ze ŽB beton C 35/45, XA3 | D37: m3 | E37: 4.356 | G37: =ROUND(E37*F37,2) -> 0 | I37: =ROUND(E37*H37,2) -> 0 | K37: =ROUND(E37*J37,2) -> 0 | L37: 21 | M37: =G37*(1+L37/100) -> 0 | N37: 2.525 | O37: =ROUND(E37*N37,2) -> 11 | P37: 0 | Q37: =ROUND(E37*P37,2) -> 0 | R37: 821-1 | S37: RTS 25/ II | T37: RTS 23/ I | U37: 0.46 | V37: =ROUND(E37*U37,2) -> 2 | X37: Práce | Y37: Běžná | AG37: POL1_
C38: ve výkopu zapaženém nebo nezapaženém, popř. nad terénem, | AG38: SPI
A39: 17 | B39: 274354111R00 | C39: Bednění základových pasů, prahů, věnců, ostruh zřízení bednění | D39: m2 | E39: 57.36 | G39: =ROUND(E39*F39,2) -> 0 | I39: =ROUND(E39*H39,2) -> 0 | K39: =ROUND(E39*J39,2) -> 0 | L39: 21 | M39: =G39*(1+L39/100) -> 0 | N39: 0.0002 | O39: =ROUND(E39*N39,2) -> 0.01 | P39: 0 | Q39: =ROUND(E39*P39,2) -> 0 | R39: 821-1 | S39: RTS 25/ II | T39: RTS 23/ I | U39: 0.45 | V39: =ROUND(E39*U39,2) -> 25.81 | X39: Práce | Y39: Běžná | AG39: POL1_
A40: 18 | B40: 274354211R00 | C40: Bednění základových pasů, prahů, věnců, ostruh odstranění bednění | D40: m2 | E40: 57.36 | G40: =ROUND(E40*F40,2) -> 0 | I40: =ROUND(E40*H40,2) -> 0 | K40: =ROUND(E40*J40,2) -> 0 | L40: 21 | M40: =G40*(1+L40/100) -> 0 | N40: 0 | O40: =ROUND(E40*N40,2) -> 0 | P40: 0 | Q40: =ROUND(E40*P40,2) -> 0 | R40: 821-1 | S40: RTS 25/ II | T40: RTS 23/ I | U40: 0.32 | V40: =ROUND(E40*U40,2) -> 18.36 | X40: Práce | Y40: Běžná | AG40: POL1_
A41: 19 | B41: 274361921RT8 | C41: Výztuž základových pasů ze svařovaných sítí ze svařovaných sítí, , drát d 8,0 mm, oka 100 x 100 mm | D41: t | E41: 0.82666 | G41: =ROUND(E41*F41,2) -> 0 | I41: =ROUND(E41*H41,2) -> 0 | K41: =ROUND(E41*J41,2) -> 0 | L41: 21 | M41: =G41*(1+L41/100) -> 0 | N41: 1.05439 | O41: =ROUND(E41*N41,2) -> 0.87 | P41: 0 | Q41: =ROUND(E41*P41,2) -> 0 | R41: 801-1 | S41: RTS 25/ II | T41: RTS 23/ I | U41: 15.231 | V41: =ROUND(E41*U41,2) -> 12.59 | X41: Práce | Y41: Běžná | AG41: POL1_
A42: Díl: | B42: 4 | C42: Vodorovné konstrukce | G42: =SUMIF(AG43:AG43,"<>NOR",G43:G43) -> 0 | I42: =SUM(I43:I43) -> 0 | K42: =SUM(K43:K43) -> 0 | M42: =SUM(M43:M43) -> 0 | O42: =SUM(O43:O43) -> 22.5 | Q42: =SUM(Q43:Q43) -> 0 | V42: =SUM(V43:V43) -> 0 | AG42: DIL
A43: 20 | B43: 40001 | C43: M+D železobetonových panelů tl. 300 mm | D43: m2 | E43: 30 | G43: =ROUND(E43*F43,2) -> 0 | I43: =ROUND(E43*H43,2) -> 0 | K43: =ROUND(E43*J43,2) -> 0 | L43: 21 | M43: =G43*(1+L43/100) -> 0 | N43: 0.75 | O43: =ROUND(E43*N43,2) -> 22.5 | P43: 0 | Q43: =ROUND(E43*P43,2) -> 0 | S43: Vlastní | T43: Kalkul | U43: 0 | V43: =ROUND(E43*U43,2) -> 0 | X43: Práce | Y43: Běžná | AG43: POL1_
A44: Díl: | B44: 59 | C44: Dlažby a předlažby komunikací | G44: =SUMIF(AG45:AG49,"<>NOR",G45:G49) -> 0 | I44: =SUM(I45:I49) -> 0 | K44: =SUM(K45:K49) -> 0 | M44: =SUM(M45:M49) -> 0 | O44: =SUM(O45:O49) -> 43.06 | Q44: =SUM(Q45:Q49) -> 0 | V44: =SUM(V45:V49) -> 49.3 | AG44: DIL
A45: 21 | B45: 451561111R00 | C45: Lože pod dlažby z kameniva kamenivo drcené drobné, tloušťka do 100 mm | D45: m2 | E45: 15.05 | G45: =ROUND(E45*F45,2) -> 0 | I45: =ROUND(E45*H45,2) -> 0 | K45: =ROUND(E45*J45,2) -> 0 | L45: 21 | M45: =G45*(1+L45/100) -> 0 | N45: 0.20266 | O45: =ROUND(E45*N45,2) -> 3.05 | P45: 0 | Q45: =ROUND(E45*P45,2) -> 0 | R45: 832-1 | S45: RTS 25/ II | T45: RTS 23/ I | U45: 0.037 | V45: =ROUND(E45*U45,2) -> 0.56 | X45: Práce | Y45: Běžná | AG45: POL1_
A46: 22 | B46: 631315811RN3 | C46: Mazanina z betonu prostého tl. přes 120 do 240 mm třídy C 30/37, stupeň vlivu prostředí XF4, pro podlahové konstrukce se speciálními přísadami omezujícími smrštění | D46: m3 | E46: 6.633 | G46: =ROUND(E46*F46,2) -> 0 | I46: =ROUND(E46*H46,2) -> 0 | K46: =ROUND(E46*J46,2) -> 0 | L46: 21 | M46: =G46*(1+L46/100) -> 0 | N46: 2.323 | O46: =ROUND(E46*N46,2) -> 15.41 | P46: 0 | Q46: =ROUND(E46*P46,2) -> 0 | R46: 801-1 | S46: RTS 25/ II | T46: RTS 23/ I | U46: 2.317 | V46: =ROUND(E46*U46,2) -> 15.37 | X46: Práce | Y46: Běžná | AG46: POL1_
C47: (z kameniva) hlazená dřevěným hladítkem | AG47: SPI
A48: 23 | B48: 594411111RT2 | C48: Dlažba nebo přídlažba z lomového kamene do lože z cementové malty tloušťky 50 mm, včetně dodávky kamene tloušťky 20cm, třídy 1 | D48: m2 | E48: 40.2 | G48: =ROUND(E48*F48,2) -> 0 | I48: =ROUND(E48*H48,2) -> 0 | K48: =ROUND(E48*J48,2) -> 0 | L48: 21 | M48: =G48*(1+L48/100) -> 0 | N48: 0.612 | O48: =ROUND(E48*N48,2) -> 24.6 | P48: 0 | Q48: =ROUND(E48*P48,2) -> 0 | R48: 822-1 | S48: RTS 25/ II | T48: RTS 23/ I | U48: 0.83 | V48: =ROUND(E48*U48,2) -> 33.37 | X48: Práce | Y48: Běžná | AG48: POL1_
C49: lomařsky upraveného rigolového, bez vyplnění spár v ploše vodorovné nebo ve sklonu, s provedením lože tl. 50 mm | AG49: SPI | BA49: =C49 -> lomařsky upraveného rigolového, bez vyplnění spár v ploše vodorovné nebo ve sklonu, s provedením lože tl. 50 mm
A50: Díl: | B50: 99 | C50: Staveništní přesun hmot | G50: =SUMIF(AG51:AG52,"<>NOR",G51:G52) -> 0 | I50: =SUM(I51:I52) -> 0 | K50: =SUM(K51:K52) -> 0 | M50: =SUM(M51:M52) -> 0 | O50: =SUM(O51:O52) -> 0 | Q50: =SUM(Q51:Q52) -> 0 | V50: =SUM(V51:V52) -> 65.78 | AG50: DIL
A51: 24 | B51: 998212111R00 | C51: Přesun hmot pro mosty zděné, monolitické, kovové výška do 20 m, | D51: t | E51: 145.52669 | G51: =ROUND(E51*F51,2) -> 0 | I51: =ROUND(E51*H51,2) -> 0 | K51: =ROUND(E51*J51,2) -> 0 | L51: 21 | M51: =G51*(1+L51/100) -> 0 | N51: 0 | O51: =ROUND(E51*N51,2) -> 0 | P51: 0 | Q51: =ROUND(E51*P51,2) -> 0 | R51: 821-1 | S51: RTS 25/ II | T51: RTS 23/ I | U51: 0.452 | V51: =ROUND(E51*U51,2) -> 65.78 | X51: Přesun hmot | Y51: Běžná | AG51: POL7_
C52: betonové nepředpjaté i předpjaté a mosty spřažené ocelobetonové nebo kovové na novostavbách, včetně příplatku za zvětšený přesun přes vymezenou vzdálenost, | AG52: SPI | BA52: =C52 -> betonové nepředpjaté i předpjaté a mosty spřažené ocelobetonové nebo kovové na novostavbách, včetně příplatku za zvětšený přesun přes vymezenou vzdálenost,
A53: Díl: | B53: 767 | C53: Konstrukce zámečnické | G53: =SUMIF(AG54:AG56,"<>NOR",G54:G56) -> 0 | I53: =SUM(I54:I56) -> 0 | K53: =SUM(K54:K56) -> 0 | M53: =SUM(M54:M56) -> 0 | O53: =SUM(O54:O56) -> 0.57 | Q53: =SUM(Q54:Q56) -> 0 | V53: =SUM(V54:V56) -> 1.9 | AG53: DIL
A54: 25 | B54: 76701 | C54: Montáž + dodávka ocelového zábradlí, povrchová úprava žárovým zinkováním | D54: kg | E54: 570 | G54: =ROUND(E54*F54,2) -> 0 | I54: =ROUND(E54*H54,2) -> 0 | K54: =ROUND(E54*J54,2) -> 0 | L54: 21 | M54: =G54*(1+L54/100) -> 0 | N54: 0.001 | O54: =ROUND(E54*N54,2) -> 0.57 | P54: 0 | Q54: =ROUND(E54*P54,2) -> 0 | S54: Vlastní | T54: Indiv | U54: 0 | V54: =ROUND(E54*U54,2) -> 0 | X54: Práce | Y54: Běžná | AG54: POL1_
A55: 26 | B55: 998767101R00 | C55: Přesun hmot pro kovové stavební doplňk. konstrukce v objektech výšky do 6 m | D55: t | E55: 0.57 | G55: =ROUND(E55*F55,2) -> 0 | I55: =ROUND(E55*H55,2) -> 0 | K55: =ROUND(E55*J55,2) -> 0 | L55: 21 | M55: =G55*(1+L55/100) -> 0 | N55: 0 | O55: =ROUND(E55*N55,2) -> 0 | P55: 0 | Q55: =ROUND(E55*P55,2) -> 0 | R55: 800-767 | S55: RTS 25/ II | T55: RTS 23/ I | U55: 3.327 | V55: =ROUND(E55*U55,2) -> 1.9 | X55: Přesun hmot | Y55: Běžná | AG55: POL7_
C56: 50 m vodorovně | AG56: SPI
A57: Díl: | B57: VN | C57: Vedlejší náklady | G57: =SUMIF(AG58:AG59,"<>NOR",G58:G59) -> 0 | I57: =SUM(I58:I59) -> 0 | K57: =SUM(K58:K59) -> 0 | M57: =SUM(M58:M59) -> 0 | O57: =SUM(O58:O59) -> 0 | Q57: =SUM(Q58:Q59) -> 0 | V57: =SUM(V58:V59) -> 0 | AG57: DIL
A58: 27 | B58: 005121 R | C58: Zařízení staveniště | D58: kus | E58: 1 | G58: =ROUND(E58*F58,2) -> 0 | I58: =ROUND(E58*H58,2) -> 0 | K58: =ROUND(E58*J58,2) -> 0 | L58: 21 | M58: =G58*(1+L58/100) -> 0 | N58: 0 | O58: =ROUND(E58*N58,2) -> 0 | P58: 0 | Q58: =ROUND(E58*P58,2) -> 0 | S58: RTS 25/ II | T58: Indiv | U58: 0 | V58: =ROUND(E58*U58,2) -> 0 | X58: VRN | Y58: Běžná | AG58: POL99_2
A59: 28 | B59: 0054T | C59: Kompletační činnost | D59: kus | E59: 1 | G59: =ROUND(E59*F59,2) -> 0 | I59: =ROUND(E59*H59,2) -> 0 | K59: =ROUND(E59*J59,2) -> 0 | L59: 21 | M59: =G59*(1+L59/100) -> 0 | N59: 0 | O59: =ROUND(E59*N59,2) -> 0 | P59: 0 | Q59: =ROUND(E59*P59,2) -> 0 | S59: Vlastní | T59: Indiv | U59: 0 | V59: =ROUND(E59*U59,2) -> 0 | X59: VRN | Y59: Běžná | AG59: POL99_2
A60: Díl: | B60: ON | C60: Ostatní náklady | G60: =SUMIF(AG61:AG64,"<>NOR",G61:G64) -> 0 | I60: =SUM(I61:I64) -> 0 | K60: =SUM(K61:K64) -> 0 | M60: =SUM(M61:M64) -> 0 | O60: =SUM(O61:O64) -> 0 | Q60: =SUM(Q61:Q64) -> 0 | V60: =SUM(V61:V64) -> 0 | AG60: DIL
A61: 29 | B61: ON01 | C61: Vytýčení podzemních sítí a vedení | D61: kus | E61: 1 | G61: =ROUND(E61*F61,2) -> 0 | I61: =ROUND(E61*H61,2) -> 0 | K61: =ROUND(E61*J61,2) -> 0 | L61: 21 | M61: =G61*(1+L61/100) -> 0 | N61: 0 | O61: =ROUND(E61*N61,2) -> 0 | P61: 0 | Q61: =ROUND(E61*P61,2) -> 0 | S61: Vlastní | T61: Kalkul | U61: 0 | V61: =ROUND(E61*U61,2) -> 0 | X61: VRN | Y61: Běžná | AG61: POL99_0
A62: 30 | B62: ON02 | C62: Archeologie | D62: kus | E62: 1 | G62: =ROUND(E62*F62,2) -> 0 | I62: =ROUND(E62*H62,2) -> 0 | K62: =ROUND(E62*J62,2) -> 0 | L62: 21 | M62: =G62*(1+L62/100) -> 0 | N62: 0 | O62: =ROUND(E62*N62,2) -> 0 | P62: 0 | Q62: =ROUND(E62*P62,2) -> 0 | S62: Vlastní | T62: Kalkul | U62: 0 | V62: =ROUND(E62*U62,2) -> 0 | X62: VRN | Y62: Běžná | AG62: POL99_0
A63: 31 | B63: ON03 | C63: Geodetická zaměření | D63: kus | E63: 1 | G63: =ROUND(E63*F63,2) -> 0 | I63: =ROUND(E63*H63,2) -> 0 | K63: =ROUND(E63*J63,2) -> 0 | L63: 21 | M63: =G63*(1+L63/100) -> 0 | N63: 0 | O63: =ROUND(E63*N63,2) -> 0 | P63: 0 | Q63: =ROUND(E63*P63,2) -> 0 | S63: Vlastní | T63: Kalkul | U63: 0 | V63: =ROUND(E63*U63,2) -> 0 | X63: VRN | Y63: Běžná | AG63: POL99_0
A64: 32 | B64: ON04 | C64: Dokumentace skutečného provedení | D64: kus | E64: 1 | G64: =ROUND(E64*F64,2) -> 0 | I64: =ROUND(E64*H64,2) -> 0 | K64: =ROUND(E64*J64,2) -> 0 | L64: 21 | M64: =G64*(1+L64/100) -> 0 | N64: 0 | O64: =ROUND(E64*N64,2) -> 0 | P64: 0 | Q64: =ROUND(E64*P64,2) -> 0 | S64: Vlastní | T64: Kalkul | U64: 0 | V64: =ROUND(E64*U64,2) -> 0 | X64: VRN | Y64: Běžná | AG64: POL99_0
AE65: 15 | AF65: 21 | AG65: DPH
B66: Celkem | G66: =G8+G33+G42+G44+G50+G53+G57+G60 -> 0 | AE66: =SUMIF(L7:L64,AE65,G7:G64) -> 0 | AF66: =SUMIF(L7:L64,AF65,G7:G64) -> 0 | AG66: SUM
AG67: END

Sheet 07 01 Úprava koryta potoka
A1: Položkový soupis prací a dodávek | AG1: #TypZaznamu#
A2: S: | B2: 87277 - 23 | C2: Novostavba chodníku a stav. úpravy části stáv. chodníku s příslušenstvím v obci Údrnice | AG2: STA
A3: O: | B3: 07 | C3: Úprava koryta potoka | AC3: STA | AG3: OBJ
A4: R: | B4: 01 | C4: Úprava koryta potoka | AG4: ROZ
A6: P.č. | B6: Číslo položky | C6: Název položky | D6: MJ | E6: Množství | F6: Cena / MJ | G6: Celkem | H6: Dodávka | I6: Dodávka celk. | J6: Montáž | K6: Montáž celk. | L6: DPH | M6: Cena s DPH | N6: Hmotnost / MJ | O6: Hmotnost celk.(t) | P6: Dem. hmotnost / MJ | Q6: Dem. hmotnost celk.(t) | R6: Ceník | S6: Cen. soustava / platnost | T6: Cenová úroveň | U6: Nhod / MJ | V6: Nhod celk. | W6: Dodavatel | X6: Typ položky | Y6: Stav položky
A8: Díl: | B8: 1 | C8: Zemní práce | G8: =SUMIF(AG9:AG24,"<>NOR",G9:G24) -> 0 | I8: =SUM(I9:I24) -> 0 | K8: =SUM(K9:K24) -> 0 | M8: =SUM(M9:M24) -> 0 | O8: =SUM(O9:O24) -> 0 | Q8: =SUM(Q9:Q24) -> 0 | V8: =SUM(V9:V24) -> 41.75 | AG8: DIL
A9: 1 | B9: 121101100R00 | C9: Sejmutí ornice s přemístěním na vzdálenost do 50 m | D9: m3 | E9: 12.845 | G9: =ROUND(E9*F9,2) -> 0 | I9: =ROUND(E9*H9,2) -> 0 | K9: =ROUND(E9*J9,2) -> 0 | L9: 21 | M9: =G9*(1+L9/100) -> 0 | N9: 0 | O9: =ROUND(E9*N9,2) -> 0 | P9: 0 | Q9: =ROUND(E9*P9,2) -> 0 | R9: 800-1 | S9: RTS 25/ II | T9: RTS 23/ I | U9: 0.0952 | V9: =ROUND(E9*U9,2) -> 1.22 | X9: Práce | Y9: Běžná | AG9: POL1_
C10: nebo lesní půdy, s vodorovným přemístěním na hromady v místě upotřebení nebo na dočasné či trvalé skládky se složením | AG10: SPI | BA10: =C10 -> nebo lesní půdy, s vodorovným přemístěním na hromady v místě upotřebení nebo na dočasné či trvalé skládky se složením
A11: 2 | B11: 124203101R00 | C11: Vykopávky pro koryta vodotečí v hornině 3, do 1 000 m3 | D11: m3 | E11: 18.88188 | G11: =ROUND(E11*F11,2) -> 0 | I11: =ROUND(E11*H11,2) -> 0 | K11: =ROUND(E11*J11,2) -> 0 | L11: 21 | M11: =G11*(1+L11/100) -> 0 | N11: 0 | O11: =ROUND(E11*N11,2) -> 0 | P11: 0 | Q11: =ROUND(E11*P11,2) -> 0 | R11: 800-1 | S11: RTS 25/ II | T11: RTS 23/ I | U11: 0.529 | V11: =ROUND(E11*U11,2) -> 9.99 | X11: Práce | Y11: Běžná | AG11: POL1_
C12: se svislým přemístění výkopku do 4 m a s přehozením výkopku na vzdálenost do 3 m nebo s naložením na dopravní prostředek, | AG12: SPI | BA12: =C12 -> se svislým přemístění výkopku do 4 m a s přehozením výkopku na vzdálenost do 3 m nebo s naložením na dopravní prostředek,
A13: 3 | B13: 124203109R00 | C13: Vykopávky pro koryta vodotečí příplatek k cenám za lepivost, v hornině 3 | D13: m3 | E13: 18.88188 | G13: =ROUND(E13*F13,2) -> 0 | I13: =ROUND(E13*H13,2) -> 0 | K13: =ROUND(E13*J13,2) -> 0 | L13: 21 | M13: =G13*(1+L13/100) -> 0 | N13: 0 | O13: =ROUND(E13*N13,2) -> 0 | P13: 0 | Q13: =ROUND(E13*P13,2) -> 0 | R13: 800-1 | S13: RTS 25/ II | T13: RTS 23/ I | U13: 0.034 | V13: =ROUND(E13*U13,2) -> 0.64 | X13: Práce | Y13: Běžná | AG13: POL1_
C14: se svislým přemístění výkopku do 4 m a s přehozením výkopku na vzdálenost do 3 m nebo s naložením na dopravní prostředek, | AG14: SPI | BA14: =C14 -> se svislým přemístění výkopku do 4 m a s přehozením výkopku na vzdálenost do 3 m nebo s naložením na dopravní prostředek,
A15: 4 | B15: 162301101R00 | C15: Vodorovné přemístění výkopku z horniny 1 až 4, na vzdálenost přes 50 do 500 m | D15: m3 | E15: 18.88188 | G15: =ROUND(E15*F15,2) -> 0 | I15: =ROUND(E15*H15,2) -> 0 | K15: =ROUND(E15*J15,2) -> 0 | L15: 21 | M15: =G15*(1+L15/100) -> 0 | N15: 0 | O15: =ROUND(E15*N15,2) -> 0 | P15: 0 | Q15: =ROUND(E15*P15,2) -> 0 | R15: 800-1 | S15: RTS 25/ II | T15: RTS 23/ I | U15: 0.011 | V15: =ROUND(E15*U15,2) -> 0.21 | X15: Práce | Y15: Běžná | AG15: POL1_
C16: po suchu, bez naložení výkopku, avšak se složením bez rozhrnutí, zpáteční cesta vozidla. | AG16: SPI
A17: 5 | B17: 171201201R00 | C17: Uložení sypaniny na dočasnou skládku tak, že na 1 m2 plochy připadá přes 2 m3 výkopku nebo ornice | D17: m3 | E17: 18.88188 | G17: =ROUND(E17*F17,2) -> 0 | I17: =ROUND(E17*H17,2) -> 0 | K17: =ROUND(E17*J17,2) -> 0 | L17: 21 | M17: =G17*(1+L17/100) -> 0 | N17: 0 | O17: =ROUND(E17*N17,2) -> 0 | P17: 0 | Q17: =ROUND(E17*P17,2) -> 0 | R17: 800-1 | S17: RTS 25/ II | T17: RTS 23/ I | U17: 0.009 | V17: =ROUND(E17*U17,2) -> 0.17 | X17: Práce | Y17: Běžná | AG17: POL1_
A18: 6 | B18: 167101102R00 | C18: Nakládání, skládání, překládání neulehlého výkopku nakládání výkopku přes 100 m3, z horniny 1 až 4 | D18: m3 | E18: 39.2325 | G18: =ROUND(E18*F18,2) -> 0 | I18: =ROUND(E18*H18,2) -> 0 | K18: =ROUND(E18*J18,2) -> 0 | L18: 21 | M18: =G18*(1+L18/100) -> 0 | N18: 0 | O18: =ROUND(E18*N18,2) -> 0 | P18: 0 | Q18: =ROUND(E18*P18,2) -> 0 | R18: 800-1 | S18: RTS 25/ II | T18: RTS 23/ I | U18: 0.053 | V18: =ROUND(E18*U18,2) -> 2.08 | X18: Práce | Y18: Běžná | AG18: POL1_
A19: 7 | B19: 162301101R00 | C19: Vodorovné přemístění výkopku z horniny 1 až 4, na vzdálenost přes 50 do 500 m | D19: m3 | E19: 39.2325 | G19: =ROUND(E19*F19,2) -> 0 | I19: =ROUND(E19*H19,2) -> 0 | K19: =ROUND(E19*J19,2) -> 0 | L19: 21 | M19: =G19*(1+L19/100) -> 0 | N19: 0 | O19: =ROUND(E19*N19,2) -> 0 | P19: 0 | Q19: =ROUND(E19*P19,2) -> 0 | R19: 800-1 | S19: RTS 25/ II | T19: RTS 23/ I | U19: 0.011 | V19: =ROUND(E19*U19,2) -> 0.43 | X19: Práce | Y19: Běžná | AG19: POL1_
C20: po suchu, bez naložení výkopku, avšak se složením bez rozhrnutí, zpáteční cesta vozidla. | AG20: SPI
A21: 8 | B21: 174101101R00 | C21: Zásyp sypaninou se zhutněním jam, šachet, rýh nebo kolem objektů v těchto vykopávkách | D21: m3 | E21: 39.2325 | G21: =ROUND(E21*F21,2) -> 0 | I21: =ROUND(E21*H21,2) -> 0 | K21: =ROUND(E21*J21,2) -> 0 | L21: 21 | M21: =G21*(1+L21/100) -> 0 | N21: 0 | O21: =ROUND(E21*N21,2) -> 0 | P21: 0 | Q21: =ROUND(E21*P21,2) -> 0 | R21: 800-1 | S21: RTS 25/ II | T21: RTS 23/ I | U21: 0.202 | V21: =ROUND(E21*U21,2) -> 7.92 | X21: Práce | Y21: Běžná | AG21: POL1_
C22: z jakékoliv horniny s uložením výkopku po vrstvách, | AG22: SPI
A23: 9 | B23: 182101101R00 | C23: Svahování v zářezech v hornině 1 až 4 | D23: m2 | E23: 149.175 | G23: =ROUND(E23*F23,2) -> 0 | I23: =ROUND(E23*H23,2) -> 0 | K23: =ROUND(E23*J23,2) -> 0 | L23: 21 | M23: =G23*(1+L23/100) -> 0 | N23: 0 | O23: =ROUND(E23*N23,2) -> 0 | P23: 0 | Q23: =ROUND(E23*P23,2) -> 0 | R23: 800-1 | S23: RTS 25/ II | T23: Kalkul | U23: 0.128 | V23: =ROUND(E23*U23,2) -> 19.09 | X23: Práce | Y23: Běžná | AG23: POL1_
C24: trvalých svahů do projektovaných profilů s potřebným přemístěním výkopku při svahování v zářezech, | AG24: SPI
A25: Díl: | B25: 18 | C25: Povrchové úpravy terénu | G25: =SUMIF(AG26:AG33,"<>NOR",G26:G33) -> 0 | I25: =SUM(I26:I33) -> 0 | K25: =SUM(K26:K33) -> 0 | M25: =SUM(M26:M33) -> 0 | O25: =SUM(O26:O33) -> 0 | Q25: =SUM(Q26:Q33) -> 0 | V25: =SUM(V26:V33) -> 51.01 | AG25: DIL
A26: 10 | B26: 167101101R00 | C26: Nakládání, skládání, překládání neulehlého výkopku nakládání výkopku do 100 m3, z horniny 1 až 4 | D26: m3 | E26: 16.31625 | G26: =ROUND(E26*F26,2) -> 0 | I26: =ROUND(E26*H26,2) -> 0 | K26: =ROUND(E26*J26,2) -> 0 | L26: 21 | M26: =G26*(1+L26/100) -> 0 | N26: 0 | O26: =ROUND(E26*N26,2) -> 0 | P26: 0 | Q26: =ROUND(E26*P26,2) -> 0 | R26: 800-1 | S26: RTS 25/ II | T26: RTS 23/ I | U26: 0.652 | V26: =ROUND(E26*U26,2) -> 10.64 | X26: Práce | Y26: Běžná | AG26: POL1_
A27: 11 | B27: 162201102R00 | C27: Vodorovné přemístění výkopku z horniny 1 až 4, na vzdálenost přes 20 do 50 m | D27: m3 | E27: 16.31625 | G27: =ROUND(E27*F27,2) -> 0 | I27: =ROUND(E27*H27,2) -> 0 | K27: =ROUND(E27*J27,2) -> 0 | L27: 21 | M27: =G27*(1+L27/100) -> 0 | N27: 0 | O27: =ROUND(E27*N27,2) -> 0 | P27: 0 | Q27: =ROUND(E27*P27,2) -> 0 | R27: 800-1 | S27: RTS 25/ II | T27: RTS 23/ I | U27: 0.074 | V27: =ROUND(E27*U27,2) -> 1.21 | X27: Práce | Y27: Běžná | AG27: POL1_
C28: po suchu, bez naložení výkopku, avšak se složením bez rozhrnutí, zpáteční cesta vozidla. | AG28: SPI
A29: 12 | B29: 182301122R00 | C29: Rozprostření a urovnání ornice ve svahu v souvislé ploše do 500 m2, tloušťka vrstvy přes 100 do 150 mm | D29: m2 | E29: 108.775 | G29: =ROUND(E29*F29,2) -> 0 | I29: =ROUND(E29*H29,2) -> 0 | K29: =ROUND(E29*J29,2) -> 0 | L29: 21 | M29: =G29*(1+L29/100) -> 0 | N29: 0 | O29: =ROUND(E29*N29,2) -> 0 | P29: 0 | Q29: =ROUND(E29*P29,2) -> 0 | R29: 800-1 | S29: RTS 25/ II | T29: RTS 23/ I | U29: 0.263 | V29: =ROUND(E29*U29,2) -> 28.61 | X29: Práce | Y29: Běžná | AG29: POL1_
C30: s případným nutným přemístěním hromad nebo dočasných skládek na místo potřeby ze vzdálenosti do 30 m, ve svahu sklonu přes 1 : 5, | AG30: SPI | BA30: =C30 -> s případným nutným přemístěním hromad nebo dočasných skládek na místo potřeby ze vzdálenosti do 30 m, ve svahu sklonu přes 1 : 5,
A31: 13 | B31: 180402112R00 | C31: Založení trávníku parkový trávník, výsevem, na svahu přes 1:5 do 1:2 | D31: m2 | E31: 108.775 | G31: =ROUND(E31*F31,2) -> 0 | I31: =ROUND(E31*H31,2) -> 0 | K31: =ROUND(E31*J31,2) -> 0 | L31: 21 | M31: =G31*(1+L31/100) -> 0 | N31: 0 | O31: =ROUND(E31*N31,2) -> 0 | P31: 0 | Q31: =ROUND(E31*P31,2) -> 0 | R31: 823-1 | S31: RTS 25/ II | T31: RTS 23/ I | U31: 0.097 | V31: =ROUND(E31*U31,2) -> 10.55 | X31: Práce | Y31: Běžná | AG31: POL1_
C32: na půdě předem připravené s pokosením, naložením, odvozem odpadu do 20 km a se složením, | AG32: SPI
A33: 14 | B33: 00572400R | C33: směs travní parková, pro běžnou zátěž | D33: kg | E33: 4 | G33: =ROUND(E33*F33,2) -> 0 | I33: =ROUND(E33*H33,2) -> 0 | K33: =ROUND(E33*J33,2) -> 0 | L33: 21 | M33: =G33*(1+L33/100) -> 0 | N33: 0.001 | O33: =ROUND(E33*N33,2) -> 0 | P33: 0 | Q33: =ROUND(E33*P33,2) -> 0 | R33: SPCM | S33: RTS 25/ II | T33: RTS 23/ I | U33: 0 | V33: =ROUND(E33*U33,2) -> 0 | X33: Specifikace | Y33: Běžná | AG33: POL3_
A34: Díl: | B34: 59 | C34: Dlažby a předlažby komunikací | G34: =SUMIF(AG35:AG38,"<>NOR",G35:G38) -> 0 | I34: =SUM(I35:I38) -> 0 | K34: =SUM(K35:K38) -> 0 | M34: =SUM(M35:M38) -> 0 | O34: =SUM(O35:O38) -> 73.98 | Q34: =SUM(Q35:Q38) -> 0 | V34: =SUM(V35:V38) -> 90.1 | AG34: DIL
A35: 15 | B35: 631315811RN3 | C35: Mazanina z betonu prostého tl. přes 120 do 240 mm třídy C 30/37, stupeň vlivu prostředí XF4, pro podlahové konstrukce se speciálními přísadami omezujícími smrštění | D35: m3 | E35: 12.26363 | G35: =ROUND(E35*F35,2) -> 0 | I35: =ROUND(E35*H35,2) -> 0 | K35: =ROUND(E35*J35,2) -> 0 | L35: 21 | M35: =G35*(1+L35/100) -> 0 | N35: 2.323 | O35: =ROUND(E35*N35,2) -> 28.49 | P35: 0 | Q35: =ROUND(E35*P35,2) -> 0 | R35: 801-1 | S35: RTS 25/ II | T35: RTS 23/ I | U35: 2.317 | V35: =ROUND(E35*U35,2) -> 28.41 | X35: Práce | Y35: Běžná | AG35: POL1_
C36: (z kameniva) hlazená dřevěným hladítkem | AG36: SPI
A37: 16 | B37: 594411111RT2 | C37: Dlažba nebo přídlažba z lomového kamene do lože z cementové malty tloušťky 50 mm, včetně dodávky kamene tloušťky 20cm, třídy 1 | D37: m2 | E37: 74.325 | G37: =ROUND(E37*F37,2) -> 0 | I37: =ROUND(E37*H37,2) -> 0 | K37: =ROUND(E37*J37,2) -> 0 | L37: 21 | M37: =G37*(1+L37/100) -> 0 | N37: 0.612 | O37: =ROUND(E37*N37,2) -> 45.49 | P37: 0 | Q37: =ROUND(E37*P37,2) -> 0 | R37: 822-1 | S37: RTS 25/ II | T37: RTS 23/ I | U37: 0.83 | V37: =ROUND(E37*U37,2) -> 61.69 | X37: Práce | Y37: Běžná | AG37: POL1_
C38: lomařsky upraveného rigolového, bez vyplnění spár v ploše vodorovné nebo ve sklonu, s provedením lože tl. 50 mm | AG38: SPI | BA38: =C38 -> lomařsky upraveného rigolového, bez vyplnění spár v ploše vodorovné nebo ve sklonu, s provedením lože tl. 50 mm
A39: Díl: | B39: VN | C39: Vedlejší náklady | G39: =SUMIF(AG40:AG41,"<>NOR",G40:G41) -> 0 | I39: =SUM(I40:I41) -> 0 | K39: =SUM(K40:K41) -> 0 | M39: =SUM(M40:M41) -> 0 | O39: =SUM(O40:O41) -> 0 | Q39: =SUM(Q40:Q41) -> 0 | V39: =SUM(V40:V41) -> 0 | AG39: DIL
A40: 17 | B40: 005121 R | C40: Zařízení staveniště | D40: kus | E40: 1 | G40: =ROUND(E40*F40,2) -> 0 | I40: =ROUND(E40*H40,2) -> 0 | K40: =ROUND(E40*J40,2) -> 0 | L40: 21 | M40: =G40*(1+L40/100) -> 0 | N40: 0 | O40: =ROUND(E40*N40,2) -> 0 | P40: 0 | Q40: =ROUND(E40*P40,2) -> 0 | S40: RTS 25/ II | T40: Indiv | U40: 0 | V40: =ROUND(E40*U40,2) -> 0 | X40: VRN | Y40: Běžná | AG40: POL99_2
A41: 18 | B41: 0054T | C41: Kompletační činnost | D41: kus | E41: 1 | G41: =ROUND(E41*F41,2) -> 0 | I41: =ROUND(E41*H41,2) -> 0 | K41: =ROUND(E41*J41,2) -> 0 | L41: 21 | M41: =G41*(1+L41/100) -> 0 | N41: 0 | O41: =ROUND(E41*N41,2) -> 0 | P41: 0 | Q41: =ROUND(E41*P41,2) -> 0 | S41: Vlastní | T41: Indiv | U41: 0 | V41: =ROUND(E41*U41,2) -> 0 | X41: VRN | Y41: Běžná | AG41: POL99_2
A42: Díl: | B42: ON | C42: Ostatní náklady | G42: =SUMIF(AG43:AG46,"<>NOR",G43:G46) -> 0 | I42: =SUM(I43:I46) -> 0 | K42: =SUM(K43:K46) -> 0 | M42: =SUM(M43:M46) -> 0 | O42: =SUM(O43:O46) -> 0 | Q42: =SUM(Q43:Q46) -> 0 | V42: =SUM(V43:V46) -> 0 | AG42: DIL
A43: 19 | B43: ON01 | C43: Vytýčení podzemních sítí a vedení | D43: kus | E43: 1 | G43: =ROUND(E43*F43,2) -> 0 | I43: =ROUND(E43*H43,2) -> 0 | K43: =ROUND(E43*J43,2) -> 0 | L43: 21 | M43: =G43*(1+L43/100) -> 0 | N43: 0 | O43: =ROUND(E43*N43,2) -> 0 | P43: 0 | Q43: =ROUND(E43*P43,2) -> 0 | S43: Vlastní | T43: Kalkul | U43: 0 | V43: =ROUND(E43*U43,2) -> 0 | X43: VRN | Y43: Běžná | AG43: POL99_0
A44: 20 | B44: ON02 | C44: Archeologie | D44: kus | E44: 1 | G44: =ROUND(E44*F44,2) -> 0 | I44: =ROUND(E44*H44,2) -> 0 | K44: =ROUND(E44*J44,2) -> 0 | L44: 21 | M44: =G44*(1+L44/100) -> 0 | N44: 0 | O44: =ROUND(E44*N44,2) -> 0 | P44: 0 | Q44: =ROUND(E44*P44,2) -> 0 | S44: Vlastní | T44: Kalkul | U44: 0 | V44: =ROUND(E44*U44,2) -> 0 | X44: VRN | Y44: Běžná | AG44: POL99_0
A45: 21 | B45: ON03 | C45: Geodetická zaměření | D45: kus | E45: 1 | G45: =ROUND(E45*F45,2) -> 0 | I45: =ROUND(E45*H45,2) -> 0 | K45: =ROUND(E45*J45,2) -> 0 | L45: 21 | M45: =G45*(1+L45/100) -> 0 | N45: 0 | O45: =ROUND(E45*N45,2) -> 0 | P45: 0 | Q45: =ROUND(E45*P45,2) -> 0 | S45: Vlastní | T45: Kalkul | U45: 0 | V45: =ROUND(E45*U45,2) -> 0 | X45: VRN | Y45: Běžná | AG45: POL99_0
A46: 22 | B46: ON04 | C46: Dokumentace skutečného provedení | D46: kus | E46: 1 | G46: =ROUND(E46*F46,2) -> 0 | I46: =ROUND(E46*H46,2) -> 0 | K46: =ROUND(E46*J46,2) -> 0 | L46: 21 | M46: =G46*(1+L46/100) -> 0 | N46: 0 | O46: =ROUND(E46*N46,2) -> 0 | P46: 0 | Q46: =ROUND(E46*P46,2) -> 0 | S46: Vlastní | T46: Kalkul | U46: 0 | V46: =ROUND(E46*U46,2) -> 0 | X46: VRN | Y46: Běžná | AG46: POL99_0
AE47: 15 | AF47: 21 | AG47: DPH
B48: Celkem | G48: =G8+G25+G34+G39+G42 -> 0 | AE48: =SUMIF(L7:L46,AE47,G7:G46) -> 0 | AF48: =SUMIF(L7:L46,AF47,G7:G46) -> 0 | AG48: SUM
AG49: END

Sheet 401 01 VO - II.část
A1: Položkový soupis prací a dodávek | AG1: #TypZaznamu#
A2: S: | B2: 87277 - 23 | C2: Novostavba chodníku a stav. úpravy části stáv. chodníku s příslušenstvím v obci Údrnice | AG2: STA
A3: O: | B3: 401 | C3: Veřejné osvětlení | AC3: STA | AG3: OBJ
A4: R: | B4: 01 | C4: Veřejné osvětlení - II. část | AG4: ROZ
A6: P.č. | B6: Číslo položky | C6: Název položky | D6: MJ | E6: Množství | F6: Cena / MJ | G6: Celkem | H6: Dodávka | I6: Dodávka celk. | J6: Montáž | K6: Montáž celk. | L6: DPH | M6: Cena s DPH | N6: Hmotnost / MJ | O6: Hmotnost celk.(t) | P6: Dem. hmotnost / MJ | Q6: Dem. hmotnost celk.(t) | R6: Ceník | S6: Cen. soustava / platnost | T6: Cenová úroveň | U6: Nhod / MJ | V6: Nhod celk. | W6: Dodavatel | X6: Typ položky | Y6: Stav položky
A8: Díl: | B8: M01 | C8: Nosný materiál | G8: =SUMIF(AG9:AG23,"<>NOR",G9:G23) -> 0 | I8: =SUM(I9:I23) -> 0 | K8: =SUM(K9:K23) -> 0 | M8: =SUM(M9:M23) -> 0 | O8: =SUM(O9:O23) -> 0 | Q8: =SUM(Q9:Q23) -> 0 | V8: =SUM(V9:V23) -> 0 | AG8: DIL
A9: 1 | B9: 28314146.E | C9: Fólie výstražná š. 300mm - BLESK | D9: m | E9: 180 | G9: =ROUND(E9*F9,2) -> 0 | I9: =ROUND(E9*H9,2) -> 0 | K9: =ROUND(E9*J9,2) -> 0 | L9: 21 | M9: =G9*(1+L9/100) -> 0 | N9: 0 | O9: =ROUND(E9*N9,2) -> 0 | P9: 0 | Q9: =ROUND(E9*P9,2) -> 0 | S9: Vlastní | T9: Indiv | U9: 0 | V9: =ROUND(E9*U9,2) -> 0 | X9: Specifikace | Y9: Běžná | AG9: POL3_0
A10: 2 | B10: 31677040AM1116 | C10: Stožár sadový bezpat.tříst. LBH 5,5-B (žár.zink.) | D10: kus | E10: 1 | G10: =ROUND(E10*F10,2) -> 0 | I10: =ROUND(E10*H10,2) -> 0 | K10: =ROUND(E10*J10,2) -> 0 | L10: 21 | M10: =G10*(1+L10/100) -> 0 | N10: 0 | O10: =ROUND(E10*N10,2) -> 0 | P10: 0 | Q10: =ROUND(E10*P10,2) -> 0 | S10: Vlastní | T10: Indiv | U10: 0 | V10: =ROUND(E10*U10,2) -> 0 | X10: Specifikace | Y10: Běžná | AG10: POL3_0
A11: 3 | B11: 31677040AM1117 | C11: Stožár sadový bezpat.tříst. LBH 6-B (žár.zink.) | D11: kus | E11: 10 | G11: =ROUND(E11*F11,2) -> 0 | I11: =ROUND(E11*H11,2) -> 0 | K11: =ROUND(E11*J11,2) -> 0 | L11: 21 | M11: =G11*(1+L11/100) -> 0 | N11: 0 | O11: =ROUND(E11*N11,2) -> 0 | P11: 0 | Q11: =ROUND(E11*P11,2) -> 0 | S11: Vlastní | T11: Indiv | U11: 0 | V11: =ROUND(E11*U11,2) -> 0 | X11: Specifikace | Y11: Běžná | AG11: POL3_0
A12: 4 | B12: 31677040B | C12: Stožárové pouzdro plastové SP 315/1000 | D12: kus | E12: 5 | G12: =ROUND(E12*F12,2) -> 0 | I12: =ROUND(E12*H12,2) -> 0 | K12: =ROUND(E12*J12,2) -> 0 | L12: 21 | M12: =G12*(1+L12/100) -> 0 | N12: 0 | O12: =ROUND(E12*N12,2) -> 0 | P12: 0 | Q12: =ROUND(E12*P12,2) -> 0 | S12: Vlastní | T12: Indiv | U12: 0 | V12: =ROUND(E12*U12,2) -> 0 | X12: Specifikace | Y12: Běžná | AG12: POL3_
A13: 5 | B13: 34111038 | C13: Kabel silový s Cu jádrem 750 V CYKY 3 C x 2,5 mm2 | D13: m | E13: 77 | G13: =ROUND(E13*F13,2) -> 0 | I13: =ROUND(E13*H13,2) -> 0 | K13: =ROUND(E13*J13,2) -> 0 | L13: 21 | M13: =G13*(1+L13/100) -> 0 | N13: 0 | O13: =ROUND(E13*N13,2) -> 0 | P13: 0 | Q13: =ROUND(E13*P13,2) -> 0 | S13: Vlastní | T13: Indiv | U13: 0 | V13: =ROUND(E13*U13,2) -> 0 | X13: Specifikace | Y13: Běžná | AG13: POL3_0
A14: 6 | B14: Pol__6 | C14: Kabel silový s Al jádrem 750 V AYKY 4B x16 mm2 | D14: m | E14: 220 | G14: =ROUND(E14*F14,2) -> 0 | I14: =ROUND(E14*H14,2) -> 0 | K14: =ROUND(E14*J14,2) -> 0 | L14: 21 | M14: =G14*(1+L14/100) -> 0 | N14: 0 | O14: =ROUND(E14*N14,2) -> 0 | P14: 0 | Q14: =ROUND(E14*P14,2) -> 0 | S14: Vlastní | T14: Indiv | U14: 0 | V14: =ROUND(E14*U14,2) -> 0 | X14: Specifikace | Y14: Běžná | AG14: POL3_0
A15: 7 | B15: 34562042AM3035 | C15: Elektrovýzbroj stožárová 72 - 1 pojistka Cu | D15: kus | E15: 11 | G15: =ROUND(E15*F15,2) -> 0 | I15: =ROUND(E15*H15,2) -> 0 | K15: =ROUND(E15*J15,2) -> 0 | L15: 21 | M15: =G15*(1+L15/100) -> 0 | N15: 0 | O15: =ROUND(E15*N15,2) -> 0 | P15: 0 | Q15: =ROUND(E15*P15,2) -> 0 | S15: Vlastní | T15: Indiv | U15: 0 | V15: =ROUND(E15*U15,2) -> 0 | X15: Specifikace | Y15: Běžná | AG15: POL3_0
A16: 8 | B16: 34570000KP2201 | C16: Trubka ochranná KOPOFLEX 40 | D16: m | E16: 200 | G16: =ROUND(E16*F16,2) -> 0 | I16: =ROUND(E16*H16,2) -> 0 | K16: =ROUND(E16*J16,2) -> 0 | L16: 21 | M16: =G16*(1+L16/100) -> 0 | N16: 0 | O16: =ROUND(E16*N16,2) -> 0 | P16: 0 | Q16: =ROUND(E16*P16,2) -> 0 | S16: Vlastní | T16: Indiv | U16: 0 | V16: =ROUND(E16*U16,2) -> 0 | X16: Specifikace | Y16: Běžná | AG16: POL3_0
A17: 9 | B17: 34570000UN1880 | C17: Trubka PH ohebná FXP 32 IEC | D17: m | E17: 15 | G17: =ROUND(E17*F17,2) -> 0 | I17: =ROUND(E17*H17,2) -> 0 | K17: =ROUND(E17*J17,2) -> 0 | L17: 21 | M17: =G17*(1+L17/100) -> 0 | N17: 0 | O17: =ROUND(E17*N17,2) -> 0 | P17: 0 | Q17: =ROUND(E17*P17,2) -> 0 | S17: Vlastní | T17: Indiv | U17: 0 | V17: =ROUND(E17*U17,2) -> 0 | X17: Specifikace | Y17: Běžná | AG17: POL3_0
A18: 10 | B18: 348-3 | C18: Příplatek za recyklaci svítidla LED 1/2023 | D18: kus | E18: 11 | G18: =ROUND(E18*F18,2) -> 0 | I18: =ROUND(E18*H18,2) -> 0 | K18: =ROUND(E18*J18,2) -> 0 | L18: 21 | M18: =G18*(1+L18/100) -> 0 | N18: 0 | O18: =ROUND(E18*N18,2) -> 0 | P18: 0 | Q18: =ROUND(E18*P18,2) -> 0 | S18: Vlastní | T18: Indiv | U18: 0 | V18: =ROUND(E18*U18,2) -> 0 | X18: Specifikace | Y18: Běžná | AG18: POL3_
A19: 11 | B19: 34844000VL1051 | C19: LED svítidlo ELLIS 10-40W,2700K,IP66 | D19: kus | E19: 11 | G19: =ROUND(E19*F19,2) -> 0 | I19: =ROUND(E19*H19,2) -> 0 | K19: =ROUND(E19*J19,2) -> 0 | L19: 21 | M19: =G19*(1+L19/100) -> 0 | N19: 0 | O19: =ROUND(E19*N19,2) -> 0 | P19: 0 | Q19: =ROUND(E19*P19,2) -> 0 | S19: Vlastní | T19: Indiv | U19: 0 | V19: =ROUND(E19*U19,2) -> 0 | X19: Specifikace | Y19: Běžná | AG19: POL3_0
A20: 12 | B20: 35433052 | C20: Oko kabelové příložní.pro Cu vodiče 7585-10 50 mm2 | D20: kus | E20: 11 | G20: =ROUND(E20*F20,2) -> 0 | I20: =ROUND(E20*H20,2) -> 0 | K20: =ROUND(E20*J20,2) -> 0 | L20: 21 | M20: =G20*(1+L20/100) -> 0 | N20: 0 | O20: =ROUND(E20*N20,2) -> 0 | P20: 0 | Q20: =ROUND(E20*P20,2) -> 0 | S20: Vlastní | T20: Indiv | U20: 0 | V20: =ROUND(E20*U20,2) -> 0 | X20: Specifikace | Y20: Běžná | AG20: POL3_0
... A22: 14 | B22: 35441885 | C22: Svorka spojovací SS pro lano d 8-10 mm | D22: kus | E22: 2 | G22: =ROUND(E22*F22,2) -> 0 | I22: =ROUND(E22*H22,2) -> 0 | K22: =ROUND(E22*J22,2) -> 0 | L22: 21 | M22: =G22*(1+L22/100) -> 0 | N22: 0 | O22: =ROUND(E22*N22,2) -> 0 | P22: 0 | Q22: =ROUND(E22*P22,2) -> 0 | S22: Vlastní | T22: Indiv | U22: 0 | V22: =ROUND(E22*U22,2) -> 0 | X22: Specifikace | Y22: Běžná | AG22: POL3_0
A23: 15 | B23: 141R00 | C23: Přirážka za podružný materiál M 21, M 22 | D23: % | G23: =ROUND(E23*F23,2) -> 0 | I23: =ROUND(E23*H23,2) -> 0 | K23: =ROUND(E23*J23,2) -> 0 | L23: 21 | M23: =G23*(1+L23/100) -> 0 | N23: 0 | O23: =ROUND(E23*N23,2) -> 0 | P23: 0 | Q23: =ROUND(E23*P23,2) -> 0 | S23: Vlastní | T23: Indiv | U23: 0 | V23: =ROUND(E23*U23,2) -> 0 | X23: Specifikace | Y23: Běžná | AG23: POL3_0
A24: Díl: | B24: M21 | C24: Elektromontáže | G24: =SUMIF(AG25:AG40,"<>NOR",G25:G40) -> 0 | I24: =SUM(I25:I40) -> 0 | K24: =SUM(K25:K40) -> 0 | M24: =SUM(M25:M40) -> 0 | O24: =SUM(O25:O40) -> 0 | Q24: =SUM(Q25:Q40) -> 0 | V24: =SUM(V25:V40) -> 0 | AG24: DIL
A25: 16 | B25: 210010017U00 | C25: Mtž trubka plast oheb volná D 29mm | D25: m | E25: 15 | G25: =ROUND(E25*F25,2) -> 0 | I25: =ROUND(E25*H25,2) -> 0 | K25: =ROUND(E25*J25,2) -> 0 | L25: 21 | M25: =G25*(1+L25/100) -> 0 | N25: 0 | O25: =ROUND(E25*N25,2) -> 0 | P25: 0 | Q25: =ROUND(E25*P25,2) -> 0 | S25: Vlastní | T25: Indiv | U25: 0 | V25: =ROUND(E25*U25,2) -> 0 | X25: Práce | Y25: Běžná | AG25: POL1_9
A26: 17 | B26: 210010123R00 | C26: Trubka ochranná z PE, uložená volně, DN do 47 mm | D26: m | E26: 200 | G26: =ROUND(E26*F26,2) -> 0 | I26: =ROUND(E26*H26,2) -> 0 | K26: =ROUND(E26*J26,2) -> 0 | L26: 21 | M26: =G26*(1+L26/100) -> 0 | N26: 0 | O26: =ROUND(E26*N26,2) -> 0 | P26: 0 | Q26: =ROUND(E26*P26,2) -> 0 | S26: Vlastní | T26: Indiv | U26: 0 | V26: =ROUND(E26*U26,2) -> 0 | X26: Práce | Y26: Běžná | AG26: POL1_9
A27: 18 | B27: 210100001R00 | C27: Ukončení vodičů v rozvaděči + zapojení do 2,5 mm2 | D27: kus | E27: 33 | G27: =ROUND(E27*F27,2) -> 0 | I27: =ROUND(E27*H27,2) -> 0 | K27: =ROUND(E27*J27,2) -> 0 | L27: 21 | M27: =G27*(1+L27/100) -> 0 | N27: 0 | O27: =ROUND(E27*N27,2) -> 0 | P27: 0 | Q27: =ROUND(E27*P27,2) -> 0 | S27: Vlastní | T27: Indiv | U27: 0 | V27: =ROUND(E27*U27,2) -> 0 | X27: Práce | Y27: Běžná | AG27: POL1_9
A28: 19 | B28: 210100003R00 | C28: Ukončení vodičů v rozvaděči + zapojení do 16 mm2 | D28: kus | E28: 84 | G28: =ROUND(E28*F28,2) -> 0 | I28: =ROUND(E28*H28,2) -> 0 | K28: =ROUND(E28*J28,2) -> 0 | L28: 21 | M28: =G28*(1+L28/100) -> 0 | N28: 0 | O28: =ROUND(E28*N28,2) -> 0 | P28: 0 | Q28: =ROUND(E28*P28,2) -> 0 | S28: Vlastní | T28: Indiv | U28: 0 | V28: =ROUND(E28*U28,2) -> 0 | X28: Práce | Y28: Běžná | AG28: POL1_9
A29: 20 | B29: 210100251R00 | C29: Ukončení celoplast. kabelů zákl./pás.do 4x10 mm2 | D29: kus | E29: 0 | G29: =ROUND(E29*F29,2) -> 0 | I29: =ROUND(E29*H29,2) -> 0 | K29: =ROUND(E29*J29,2) -> 0 | L29: 21 | M29: =G29*(1+L29/100) -> 0 | N29: 0 | O29: =ROUND(E29*N29,2) -> 0 | P29: 0 | Q29: =ROUND(E29*P29,2) -> 0 | S29: Vlastní | T29: Indiv | U29: 0 | V29: =ROUND(E29*U29,2) -> 0 | X29: Práce | Y29: Běžná | AG29: POL1_9
A30: 21 | B30: 210100252R00 | C30: Ukončení celoplast. kabelů zákl./pás.do 4x25 mm2 | D30: kus | E30: 21 | G30: =ROUND(E30*F30,2) -> 0 | I30: =ROUND(E30*H30,2) -> 0 | K30: =ROUND(E30*J30,2) -> 0 | L30: 21 | M30: =G30*(1+L30/100) -> 0 | N30: 0 | O30: =ROUND(E30*N30,2) -> 0 | P30: 0 | Q30: =ROUND(E30*P30,2) -> 0 | S30: Vlastní | T30: Indiv | U30: 0 | V30: =ROUND(E30*U30,2) -> 0 | X30: Práce | Y30: Běžná | AG30: POL1_9
A31: 22 | B31: 210202015T00 | C31: Svítidlo výbojkové / LED parkové | D31: kus | E31: 11 | G31: =ROUND(E31*F31,2) -> 0 | I31: =ROUND(E31*H31,2) -> 0 | K31: =ROUND(E31*J31,2) -> 0 | L31: 21 | M31: =G31*(1+L31/100) -> 0 | N31: 0 | O31: =ROUND(E31*N31,2) -> 0 | P31: 0 | Q31: =ROUND(E31*P31,2) -> 0 | S31: Vlastní | T31: Indiv | U31: 0 | V31: =ROUND(E31*U31,2) -> 0 | X31: Práce | Y31: Běžná | AG31: POL1_9
A32: 23 | B32: 210204002R00 | C32: Stožár osvětlovací sadový - ocelový | D32: kus | E32: 11 | G32: =ROUND(E32*F32,2) -> 0 | I32: =ROUND(E32*H32,2) -> 0 | K32: =ROUND(E32*J32,2) -> 0 | L32: 21 | M32: =G32*(1+L32/100) -> 0 | N32: 0 | O32: =ROUND(E32*N32,2) -> 0 | P32: 0 | Q32: =ROUND(E32*P32,2) -> 0 | S32: Vlastní | T32: Indiv | U32: 0 | V32: =ROUND(E32*U32,2) -> 0 | X32: Práce | Y32: Běžná | AG32: POL1_9
A33: 24 | B33: 210204201R00 | C33: Elektrovýzbroj stožáru pro 1 okruh | D33: kus | E33: 11 | G33: =ROUND(E33*F33,2) -> 0 | I33: =ROUND(E33*H33,2) -> 0 | K33: =ROUND(E33*J33,2) -> 0 | L33: 21 | M33: =G33*(1+L33/100) -> 0 | N33: 0 | O33: =ROUND(E33*N33,2) -> 0 | P33: 0 | Q33: =ROUND(E33*P33,2) -> 0 | S33: Vlastní | T33: Indiv | U33: 0 | V33: =ROUND(E33*U33,2) -> 0 | X33: Práce | Y33: Běžná | AG33: POL1_9
A34: 25 | B34: 210220022R00 | C34: Vedení uzemňovací v zemi FeZn, D 8 - 10 mm | D34: m | E34: 102 | G34: =ROUND(E34*F34,2) -> 0 | I34: =ROUND(E34*H34,2) -> 0 | K34: =ROUND(E34*J34,2) -> 0 | L34: 21 | M34: =G34*(1+L34/100) -> 0 | N34: 0 | O34: =ROUND(E34*N34,2) -> 0 | P34: 0 | Q34: =ROUND(E34*P34,2) -> 0 | S34: Vlastní | T34: Indiv | U34: 0 | V34: =ROUND(E34*U34,2) -> 0 | X34: Práce | Y34: Běžná | AG34: POL1_9
A35: 26 | B35: 210220301R00 | C35: Svorka hromosvodová do 2 šroubů /SS, SZ, SO/ | D35: kus | E35: 13 | G35: =ROUND(E35*F35,2) -> 0 | I35: =ROUND(E35*H35,2) -> 0 | K35: =ROUND(E35*J35,2) -> 0 | L35: 21 | M35: =G35*(1+L35/100) -> 0 | N35: 0 | O35: =ROUND(E35*N35,2) -> 0 | P35: 0 | Q35: =ROUND(E35*P35,2) -> 0 | S35: Vlastní | T35: Indiv | U35: 0 | V35: =ROUND(E35*U35,2) -> 0 | X35: Práce | Y35: Běžná | AG35: POL1_9
A36: 27 | B36: 210810006R00 | C36: Kabel CYKY-m 750 V 3 x 2,5 mm2 volně uložený | D36: m | E36: 77 | G36: =ROUND(E36*F36,2) -> 0 | I36: =ROUND(E36*H36,2) -> 0 | K36: =ROUND(E36*J36,2) -> 0 | L36: 21 | M36: =G36*(1+L36/100) -> 0 | N36: 0 | O36: =ROUND(E36*N36,2) -> 0 | P36: 0 | Q36: =ROUND(E36*P36,2) -> 0 | S36: Vlastní | T36: Indiv | U36: 0 | V36: =ROUND(E36*U36,2) -> 0 | X36: Práce | Y36: Běžná | AG36: POL1_9
... A39: 30 | B39: 210950201R00 | C39: Příplatek na zatahování kabelů váhy do 0,75 kg | D39: m | E39: 200 | G39: =ROUND(E39*F39,2) -> 0 | I39: =ROUND(E39*H39,2) -> 0 | K39: =ROUND(E39*J39,2) -> 0 | L39: 21 | M39: =G39*(1+L39/100) -> 0 | N39: 0 | O39: =ROUND(E39*N39,2) -> 0 | P39: 0 | Q39: =ROUND(E39*P39,2) -> 0 | S39: Vlastní | T39: Indiv | U39: 0 | V39: =ROUND(E39*U39,2) -> 0 | X39: Práce | Y39: Běžná | AG39: POL1_9
A40: 31 | B40: 203R00 | C40: Zednické výpomoci M 21 podle čl.13-5a | D40: % | G40: =ROUND(E40*F40,2) -> 0 | I40: =ROUND(E40*H40,2) -> 0 | K40: =ROUND(E40*J40,2) -> 0 | L40: 21 | M40: =G40*(1+L40/100) -> 0 | N40: 0 | O40: =ROUND(E40*N40,2) -> 0 | P40: 0 | Q40: =ROUND(E40*P40,2) -> 0 | S40: Vlastní | T40: Indiv | U40: 0 | V40: =ROUND(E40*U40,2) -> 0 | X40: Práce | Y40: Běžná | AG40: POL1_
A41: Díl: | B41: M46 | C41: Zemní práce při montážích | G41: =SUMIF(AG42:AG56,"<>NOR",G42:G56) -> 0 | I41: =SUM(I42:I56) -> 0 | K41: =SUM(K42:K56) -> 0 | M41: =SUM(M42:M56) -> 0 | O41: =SUM(O42:O56) -> 0 | Q41: =SUM(Q42:Q56) -> 0 | V41: =SUM(V42:V56) -> 0 | AG41: DIL
A42: 32 | B42: 460010011R00 | C42: Vytýčení trasy nn vedení v přehled.terénu, v obci | D42: km | E42: 0.2 | G42: =ROUND(E42*F42,2) -> 0 | I42: =ROUND(E42*H42,2) -> 0 | K42: =ROUND(E42*J42,2) -> 0 | L42: 21 | M42: =G42*(1+L42/100) -> 0 | N42: 0 | O42: =ROUND(E42*N42,2) -> 0 | P42: 0 | Q42: =ROUND(E42*P42,2) -> 0 | S42: Vlastní | T42: Indiv | U42: 0 | V42: =ROUND(E42*U42,2) -> 0 | X42: Práce | Y42: Běžná | AG42: POL1_9
A43: 33 | B43: 460071003U00 | C43: Jáma hloubená strojně hornina tř 3 | D43: m3 | E43: 3 | G43: =ROUND(E43*F43,2) -> 0 | I43: =ROUND(E43*H43,2) -> 0 | K43: =ROUND(E43*J43,2) -> 0 | L43: 21 | M43: =G43*(1+L43/100) -> 0 | N43: 0 | O43: =ROUND(E43*N43,2) -> 0 | P43: 0 | Q43: =ROUND(E43*P43,2) -> 0 | S43: Vlastní | T43: Indiv | U43: 0 | V43: =ROUND(E43*U43,2) -> 0 | X43: Práce | Y43: Běžná | AG43: POL1_9
A44: 34 | B44: 460100001R00 | C44: Pouzdrový základ 250x800 mm mimo osu trasy | D44: kus | E44: 5 | G44: =ROUND(E44*F44,2) -> 0 | I44: =ROUND(E44*H44,2) -> 0 | K44: =ROUND(E44*J44,2) -> 0 | L44: 21 | M44: =G44*(1+L44/100) -> 0 | N44: 0 | O44: =ROUND(E44*N44,2) -> 0 | P44: 0 | Q44: =ROUND(E44*P44,2) -> 0 | S44: Vlastní | T44: Indiv | U44: 0 | V44: =ROUND(E44*U44,2) -> 0 | X44: Práce | Y44: Běžná | AG44: POL1_9
A45: 35 | B45: 460120002R00 | C45: Zához jámy, hornina třídy 3 - 4 | D45: kus | E45: 2 | G45: =ROUND(E45*F45,2) -> 0 | I45: =ROUND(E45*H45,2) -> 0 | K45: =ROUND(E45*J45,2) -> 0 | L45: 21 | M45: =G45*(1+L45/100) -> 0 | N45: 0 | O45: =ROUND(E45*N45,2) -> 0 | P45: 0 | Q45: =ROUND(E45*P45,2) -> 0 | S45: Vlastní | T45: Indiv | U45: 0 | V45: =ROUND(E45*U45,2) -> 0 | X45: Práce | Y45: Běžná | AG45: POL1_9
A46: 36 | B46: 460120061RT1 | C46: Odvoz zeminy odvoz zeminy včetně naložení | D46: m3 | E46: 8 | G46: =ROUND(E46*F46,2) -> 0 | I46: =ROUND(E46*H46,2) -> 0 | K46: =ROUND(E46*J46,2) -> 0 | L46: 21 | M46: =G46*(1+L46/100) -> 0 | N46: 0 | O46: =ROUND(E46*N46,2) -> 0 | P46: 0 | Q46: =ROUND(E46*P46,2) -> 0 | S46: Vlastní | T46: Indiv | U46: 0 | V46: =ROUND(E46*U46,2) -> 0 | X46: Práce | Y46: Běžná | AG46: POL1_9
A47: 37 | B47: 460200133R00 | C47: Výkop kabelové rýhy 35/50 cm hor.3 | D47: m | E47: 150 | G47: =ROUND(E47*F47,2) -> 0 | I47: =ROUND(E47*H47,2) -> 0 | K47: =ROUND(E47*J47,2) -> 0 | L47: 21 | M47: =G47*(1+L47/100) -> 0 | N47: 0 | O47: =ROUND(E47*N47,2) -> 0 | P47: 0 | Q47: =ROUND(E47*P47,2) -> 0 | S47: Vlastní | T47: Indiv | U47: 0 | V47: =ROUND(E47*U47,2) -> 0 | X47: Práce | Y47: Běžná | AG47: POL1_9
A48: 38 | B48: 460200153R00 | C48: Výkop kabelové rýhy 35/70 cm hor.3 | D48: m | E48: 15 | G48: =ROUND(E48*F48,2) -> 0 | I48: =ROUND(E48*H48,2) -> 0 | K48: =ROUND(E48*J48,2) -> 0 | L48: 21 | M48: =G48*(1+L48/100) -> 0 | N48: 0 | O48: =ROUND(E48*N48,2) -> 0 | P48: 0 | Q48: =ROUND(E48*P48,2) -> 0 | S48: Vlastní | T48: Indiv | U48: 0 | V48: =ROUND(E48*U48,2) -> 0 | X48: Práce | Y48: Běžná | AG48: POL1_9
A49: 39 | B49: 460200283R00 | C49: Výkop kabelové rýhy 50/100 cm hor.3 | D49: m | E49: 15 | G49: =ROUND(E49*F49,2) -> 0 | I49: =ROUND(E49*H49,2) -> 0 | K49: =ROUND(E49*J49,2) -> 0 | L49: 21 | M49: =G49*(1+L49/100) -> 0 | N49: 0 | O49: =ROUND(E49*N49,2) -> 0 | P49: 0 | Q49: =ROUND(E49*P49,2) -> 0 | S49: Vlastní | T49: Indiv | U49: 0 | V49: =ROUND(E49*U49,2) -> 0 | X49: Práce | Y49: Běžná | AG49: POL1_9
A50: 40 | B50: 460300006R00 | C50: Hutnění zeminy po vrstvách 20 cm | D50: m3 | E50: 30 | G50: =ROUND(E50*F50,2) -> 0 | I50: =ROUND(E50*H50,2) -> 0 | K50: =ROUND(E50*J50,2) -> 0 | L50: 21 | M50: =G50*(1+L50/100) -> 0 | N50: 0 | O50: =ROUND(E50*N50,2) -> 0 | P50: 0 | Q50: =ROUND(E50*P50,2) -> 0 | S50: Vlastní | T50: Indiv | U50: 0 | V50: =ROUND(E50*U50,2) -> 0 | X50: Práce | Y50: Běžná | AG50: POL1_9
A51: 41 | B51: 460300200T1 | C51: Protlačení otvoru strojně do otvoru *60 | D51: m | E51: 0 | G51: =ROUND(E51*F51,2) -> 0 | I51: =ROUND(E51*H51,2) -> 0 | K51: =ROUND(E51*J51,2) -> 0 | L51: 21 | M51: =G51*(1+L51/100) -> 0 | N51: 0 | O51: =ROUND(E51*N51,2) -> 0 | P51: 0 | Q51: =ROUND(E51*P51,2) -> 0 | S51: Vlastní | T51: Indiv | U51: 0 | V51: =ROUND(E51*U51,2) -> 0 | X51: Práce | Y51: Běžná | AG51: POL1_9
A52: 42 | B52: 460420018R00 | C52: Zřízení kabelového lože v rýze š.do 35 cm z písku | D52: m | E52: 180 | G52: =ROUND(E52*F52,2) -> 0 | I52: =ROUND(E52*H52,2) -> 0 | K52: =ROUND(E52*J52,2) -> 0 | L52: 21 | M52: =G52*(1+L52/100) -> 0 | N52: 0 | O52: =ROUND(E52*N52,2) -> 0 | P52: 0 | Q52: =ROUND(E52*P52,2) -> 0 | S52: Vlastní | T52: Indiv | U52: 0 | V52: =ROUND(E52*U52,2) -> 0 | X52: Práce | Y52: Běžná | AG52: POL1_9
A53: 43 | B53: 460490012V01 | C53: Zakrytí kabelu výstražnou folií PVC, šířka 33 cm bez materiálu | D53: m | E53: 180 | G53: =ROUND(E53*F53,2) -> 0 | I53: =ROUND(E53*H53,2) -> 0 | K53: =ROUND(E53*J53,2) -> 0 | L53: 21 | M53: =G53*(1+L53/100) -> 0 | N53: 0 | O53: =ROUND(E53*N53,2) -> 0 | P53: 0 | Q53: =ROUND(E53*P53,2) -> 0 | S53: Vlastní | T53: Indiv | U53: 0 | V53: =ROUND(E53*U53,2) -> 0 | X53: Práce | Y53: Běžná | AG53: POL1_9
... A56: 46 | B56: 460560283R00 | C56: Zához rýhy 50/100 cm, hornina třídy 3 | D56: m | E56: 15 | G56: =ROUND(E56*F56,2) -> 0 | I56: =ROUND(E56*H56,2) -> 0 | K56: =ROUND(E56*J56,2) -> 0 | L56: 21 | M56: =G56*(1+L56/100) -> 0 | N56: 0 | O56: =ROUND(E56*N56,2) -> 0 | P56: 0 | Q56: =ROUND(E56*P56,2) -> 0 | S56: Vlastní | T56: Indiv | U56: 0 | V56: =ROUND(E56*U56,2) -> 0 | X56: Práce | Y56: Běžná | AG56: POL1_9
A57: Díl: | B57: M99 | C57: Ostatní práce "M" | G57: =SUMIF(AG58:AG68,"<>NOR",G58:G68) -> 0 | I57: =SUM(I58:I68) -> 0 | K57: =SUM(K58:K68) -> 0 | M57: =SUM(M58:M68) -> 0 | O57: =SUM(O58:O68) -> 0 | Q57: =SUM(Q58:Q68) -> 0 | V57: =SUM(V58:V68) -> 0 | AG57: DIL
A58: 47 | B58: 9091T00 | C58: Vícepráce nad rámec ceníkových položek | D58: hod | E58: 7 | G58: =ROUND(E58*F58,2) -> 0 | I58: =ROUND(E58*H58,2) -> 0 | K58: =ROUND(E58*J58,2) -> 0 | L58: 21 | M58: =G58*(1+L58/100) -> 0 | N58: 0 | O58: =ROUND(E58*N58,2) -> 0 | P58: 0 | Q58: =ROUND(E58*P58,2) -> 0 | S58: Vlastní | T58: Indiv | U58: 0 | V58: =ROUND(E58*U58,2) -> 0 | X58: Práce | Y58: Běžná | AG58: POL1_9
A59: 48 | B59: 9096T00 | C59: Zabezpečení pracoviště | D59: hod | E59: 5 | G59: =ROUND(E59*F59,2) -> 0 | I59: =ROUND(E59*H59,2) -> 0 | K59: =ROUND(E59*J59,2) -> 0 | L59: 21 | M59: =G59*(1+L59/100) -> 0 | N59: 0 | O59: =ROUND(E59*N59,2) -> 0 | P59: 0 | Q59: =ROUND(E59*P59,2) -> 0 | S59: Vlastní | T59: Indiv | U59: 0 | V59: =ROUND(E59*U59,2) -> 0 | X59: Práce | Y59: Běžná | AG59: POL1_9
A60: 49 | B60: 9097T00 | C60: Koordinace s ostatními profesemi | D60: hod | E60: 5 | G60: =ROUND(E60*F60,2) -> 0 | I60: =ROUND(E60*H60,2) -> 0 | K60: =ROUND(E60*J60,2) -> 0 | L60: 21 | M60: =G60*(1+L60/100) -> 0 | N60: 0 | O60: =ROUND(E60*N60,2) -> 0 | P60: 0 | Q60: =ROUND(E60*P60,2) -> 0 | S60: Vlastní | T60: Indiv | U60: 0 | V60: =ROUND(E60*U60,2) -> 0 | X60: Práce | Y60: Běžná | AG60: POL1_9
A61: 50 | B61: 9241T00 | C61: Vytýčení podzemních sítí | D61: hod | E61: 2 | G61: =ROUND(E61*F61,2) -> 0 | I61: =ROUND(E61*H61,2) -> 0 | K61: =ROUND(E61*J61,2) -> 0 | L61: 21 | M61: =G61*(1+L61/100) -> 0 | N61: 0 | O61: =ROUND(E61*N61,2) -> 0 | P61: 0 | Q61: =ROUND(E61*P61,2) -> 0 | S61: Vlastní | T61: Indiv | U61: 0 | V61: =ROUND(E61*U61,2) -> 0 | X61: Práce | Y61: Běžná | AG61: POL1_9
A62: 51 | B62: 9251T00 | C62: Odkrytí pomocí sond | D62: hod | E62: 3 | G62: =ROUND(E62*F62,2) -> 0 | I62: =ROUND(E62*H62,2) -> 0 | K62: =ROUND(E62*J62,2) -> 0 | L62: 21 | M62: =G62*(1+L62/100) -> 0 | N62: 0 | O62: =ROUND(E62*N62,2) -> 0 | P62: 0 | Q62: =ROUND(E62*P62,2) -> 0 | S62: Vlastní | T62: Indiv | U62: 0 | V62: =ROUND(E62*U62,2) -> 0 | X62: Práce | Y62: Běžná | AG62: POL1_9
A63: 52 | B63: 9802T00 | C63: Použití hydraulické plošiny | D63: hod | E63: 11 | G63: =ROUND(E63*F63,2) -> 0 | I63: =ROUND(E63*H63,2) -> 0 | K63: =ROUND(E63*J63,2) -> 0 | L63: 21 | M63: =G63*(1+L63/100) -> 0 | N63: 0 | O63: =ROUND(E63*N63,2) -> 0 | P63: 0 | Q63: =ROUND(E63*P63,2) -> 0 | S63: Vlastní | T63: Indiv | U63: 0 | V63: =ROUND(E63*U63,2) -> 0 | X63: Práce | Y63: Běžná | AG63: POL1_9
A64: 53 | B64: 9961T00 | C64: Digitální zaměření do 300m | D64: kus | E64: 1 | G64: =ROUND(E64*F64,2) -> 0 | I64: =ROUND(E64*H64,2) -> 0 | K64: =ROUND(E64*J64,2) -> 0 | L64: 21 | M64: =G64*(1+L64/100) -> 0 | N64: 0 | O64: =ROUND(E64*N64,2) -> 0 | P64: 0 | Q64: =ROUND(E64*P64,2) -> 0 | S64: Vlastní | T64: Indiv | U64: 0 | V64: =ROUND(E64*U64,2) -> 0 | X64: Práce | Y64: Běžná | AG64: POL1_
A65: 54 | B65: 9962T00 | C65: Digitální zaměření za každých dalších 100m | D65: kus | E65: 1 | G65: =ROUND(E65*F65,2) -> 0 | I65: =ROUND(E65*H65,2) -> 0 | K65: =ROUND(E65*J65,2) -> 0 | L65: 21 | M65: =G65*(1+L65/100) -> 0 | N65: 0 | O65: =ROUND(E65*N65,2) -> 0 | P65: 0 | Q65: =ROUND(E65*P65,2) -> 0 | S65: Vlastní | T65: Indiv | U65: 0 | V65: =ROUND(E65*U65,2) -> 0 | X65: Práce | Y65: Běžná | AG65: POL1_
A66: 55 | B66: 9965T00 | C66: Zhušťovací bod | D66: kus | E66: 2 | G66: =ROUND(E66*F66,2) -> 0 | I66: =ROUND(E66*H66,2) -> 0 | K66: =ROUND(E66*J66,2) -> 0 | L66: 21 | M66: =G66*(1+L66/100) -> 0 | N66: 0 | O66: =ROUND(E66*N66,2) -> 0 | P66: 0 | Q66: =ROUND(E66*P66,2) -> 0 | S66: Vlastní | T66: Indiv | U66: 0 | V66: =ROUND(E66*U66,2) -> 0 | X66: Práce | Y66: Běžná | AG66: POL1_
A67: 56 | B67: 9981T00 | C67: Seřízení a uvedení do provozu | D67: hod | E67: 3 | G67: =ROUND(E67*F67,2) -> 0 | I67: =ROUND(E67*H67,2) -> 0 | K67: =ROUND(E67*J67,2) -> 0 | L67: 21 | M67: =G67*(1+L67/100) -> 0 | N67: 0 | O67: =ROUND(E67*N67,2) -> 0 | P67: 0 | Q67: =ROUND(E67*P67,2) -> 0 | S67: Vlastní | T67: Indiv | U67: 0 | V67: =ROUND(E67*U67,2) -> 0 | X67: Práce | Y67: Běžná | AG67: POL1_9
A68: 57 | B68: 9991T00 | C68: Výchozí revize | D68: hod | E68: 11 | G68: =ROUND(E68*F68,2) -> 0 | I68: =ROUND(E68*H68,2) -> 0 | K68: =ROUND(E68*J68,2) -> 0 | L68: 21 | M68: =G68*(1+L68/100) -> 0 | N68: 0 | O68: =ROUND(E68*N68,2) -> 0 | P68: 0 | Q68: =ROUND(E68*P68,2) -> 0 | S68: Vlastní | T68: Indiv | U68: 0 | V68: =ROUND(E68*U68,2) -> 0 | X68: Práce | Y68: Běžná | AG68: POL1_9
A69: Díl: | B69: VN | C69: Vedlejší náklady | G69: =SUMIF(AG70:AG70,"<>NOR",G70:G70) -> 0 | I69: =SUM(I70:I70) -> 0 | K69: =SUM(K70:K70) -> 0 | M69: =SUM(M70:M70) -> 0 | O69: =SUM(O70:O70) -> 0 | Q69: =SUM(Q70:Q70) -> 0 | V69: =SUM(V70:V70) -> 0 | AG69: DIL
